Index of /checkResults/release/bioc-LATEST/VCFArray/raw-results/merida1

[ICO]NameLast modifiedSizeDescription

[DIR]Parent Directory  -  
[TXT]buildbin-out.txt20-Jul-2024 06:40 1.2K 
[   ]buildbin-summary.dcf20-Jul-2024 06:40 536  
[TXT]buildsrc-out.txt20-Jul-2024 06:40 820  
[   ]buildsrc-summary.dcf20-Jul-2024 06:40 431  
[TXT]checksrc-out.txt20-Jul-2024 06:40 3.5K 
[   ]checksrc-summary.dcf20-Jul-2024 06:40 448  
[TXT]install-out.txt20-Jul-2024 06:40 1.0K 
[   ]install-summary.dcf20-Jul-2024 06:40 271