Back to Multiple platform build/check report for BioC 3.13
ABCDEFGHIJKLMNOPQRS[T]UVWXYZ

This page was generated on 2021-07-30 15:06:13 -0400 (Fri, 30 Jul 2021).

BUILD results for ToPASeq on tokay2

To the developers/maintainers of the ToPASeq package:
- Please allow up to 24 hours (and sometimes 48 hours) for your latest push to git@git.bioconductor.org:packages/ToPASeq.git to
reflect on this report. See How and When does the builder pull? When will my changes propagate? here for more information.
- Make sure to use the following settings in order to reproduce any error or warning you see on this page.

raw results

Package 1934/2041HostnameOS / ArchINSTALLBUILDCHECKBUILD BIN
ToPASeq 1.26.0  (landing page)
Ivana Ihnatova
Snapshot Date: 2021-07-29 04:50:02 -0400 (Thu, 29 Jul 2021)
URL: https://git.bioconductor.org/packages/ToPASeq
Branch: RELEASE_3_13
Last Commit: 39671a5
Last Changed Date: 2021-05-19 12:09:12 -0400 (Wed, 19 May 2021)
nebbiolo1Linux (Ubuntu 20.04.2 LTS) / x86_64  OK    ERROR  skipped
tokay2Windows Server 2012 R2 Standard / x64  OK    OK    ERROR    OK  
machv2macOS 10.14.6 Mojave / x86_64  OK    ERROR  skippedskipped

Summary

Package: ToPASeq
Version: 1.26.0
Command: chmod a+r ToPASeq -R && C:\Users\biocbuild\bbs-3.13-bioc\R\bin\R.exe CMD build --keep-empty-dirs --no-resave-data ToPASeq
StartedAt: 2021-07-29 19:09:04 -0400 (Thu, 29 Jul 2021)
EndedAt: 2021-07-29 19:13:54 -0400 (Thu, 29 Jul 2021)
EllapsedTime: 290.1 seconds
RetCode: 0
Status:   OK  
PackageFile: ToPASeq_1.26.0.tar.gz
PackageFileSize: 505.9 KiB

Command output

##############################################################################
##############################################################################
###
### Running command:
###
###   chmod a+r ToPASeq -R && C:\Users\biocbuild\bbs-3.13-bioc\R\bin\R.exe CMD build --keep-empty-dirs --no-resave-data ToPASeq
###
##############################################################################
##############################################################################


* checking for file 'ToPASeq/DESCRIPTION' ... OK
* preparing 'ToPASeq':
* checking DESCRIPTION meta-information ... OK
* cleaning src
* installing the package to build vignettes
* creating vignettes ... OK
* cleaning src
* checking for LF line-endings in source and make files and shell scripts
* checking for empty or unneeded directories
Omitted 'LazyData' from DESCRIPTION
* building 'ToPASeq_1.26.0.tar.gz'