Index of /checkResults/release/bioc-LATEST/ToPASeq/raw-results/tokay2

[ICO]NameLast modifiedSizeDescription

[DIR]Parent Directory  -  
[TXT]buildbin-out.txt16-Oct-2021 04:06 5.5K 
[   ]buildbin-summary.dcf16-Oct-2021 04:06 539  
[TXT]buildsrc-out.txt16-Oct-2021 04:06 914  
[   ]buildsrc-summary.dcf16-Oct-2021 04:06 459  
[TXT]checksrc-out.txt16-Oct-2021 04:06 1.4K 
[   ]checksrc-summary.dcf16-Oct-2021 04:06 464  
[TXT]install-out.txt16-Oct-2021 04:06 6.2K 
[   ]install-summary.dcf16-Oct-2021 04:06 641