Index of /checkResults/release/bioc-LATEST/ToPASeq/raw-results/nebbiolo1

[ICO]NameLast modifiedSizeDescription

[DIR]Parent Directory  -  
[TXT]buildsrc-out.txt16-Oct-2021 04:05 1.2K 
[   ]buildsrc-summary.dcf16-Oct-2021 04:05 334  
[TXT]install-out.txt16-Oct-2021 04:05 2.5K 
[   ]install-summary.dcf16-Oct-2021 04:05 259