Index of /checkResults/release/bioc-LATEST/ToPASeq/raw-results/machv2

[ICO]NameLast modifiedSizeDescription

[DIR]Parent Directory  -  
[TXT]buildsrc-out.txt16-Oct-2021 04:06 1.2K 
[   ]buildsrc-summary.dcf16-Oct-2021 04:06 361  
[TXT]install-out.txt16-Oct-2021 04:06 3.0K 
[   ]install-summary.dcf16-Oct-2021 04:06 286