Back to Multiple platform build/check report for BioC 3.13
ABCDEFGHIJKLMNOPQRS[T]UVWXYZ

This page was generated on 2021-09-17 15:06:26 -0400 (Fri, 17 Sep 2021).

CHECK results for TFEA.ChIP on tokay2

To the developers/maintainers of the TFEA.ChIP package:
- Please allow up to 24 hours (and sometimes 48 hours) for your latest push to git@git.bioconductor.org:packages/TFEA.ChIP.git to
reflect on this report. See How and When does the builder pull? When will my changes propagate? here for more information.
- Make sure to use the following settings in order to reproduce any error or warning you see on this page.

raw results

Package 1909/2041HostnameOS / ArchINSTALLBUILDCHECKBUILD BIN
TFEA.ChIP 1.12.0  (landing page)
Laura Puente SantamarĂ­a
Snapshot Date: 2021-09-16 04:50:11 -0400 (Thu, 16 Sep 2021)
git_url: https://git.bioconductor.org/packages/TFEA.ChIP
git_branch: RELEASE_3_13
git_last_commit: ef83d9d
git_last_commit_date: 2021-05-19 12:32:25 -0400 (Wed, 19 May 2021)
nebbiolo1Linux (Ubuntu 20.04.2 LTS) / x86_64  OK    OK    OK  UNNEEDED, same version is already published
tokay2Windows Server 2012 R2 Standard / x64  OK    OK    OK    OK  UNNEEDED, same version is already published
machv2macOS 10.14.6 Mojave / x86_64  OK    OK    OK    OK  UNNEEDED, same version is already published

Summary

Package: TFEA.ChIP
Version: 1.12.0
Command: C:\Users\biocbuild\bbs-3.13-bioc\R\bin\R.exe CMD check --force-multiarch --install=check:TFEA.ChIP.install-out.txt --library=C:\Users\biocbuild\bbs-3.13-bioc\R\library --no-vignettes --timings TFEA.ChIP_1.12.0.tar.gz
StartedAt: 2021-09-17 06:37:46 -0400 (Fri, 17 Sep 2021)
EndedAt: 2021-09-17 06:46:37 -0400 (Fri, 17 Sep 2021)
EllapsedTime: 530.8 seconds
RetCode: 0
Status:   OK  
CheckDir: TFEA.ChIP.Rcheck
Warnings: 0

Command output

##############################################################################
##############################################################################
###
### Running command:
###
###   C:\Users\biocbuild\bbs-3.13-bioc\R\bin\R.exe CMD check --force-multiarch --install=check:TFEA.ChIP.install-out.txt --library=C:\Users\biocbuild\bbs-3.13-bioc\R\library --no-vignettes --timings TFEA.ChIP_1.12.0.tar.gz
###
##############################################################################
##############################################################################


* using log directory 'C:/Users/biocbuild/bbs-3.13-bioc/meat/TFEA.ChIP.Rcheck'
* using R version 4.1.1 (2021-08-10)
* using platform: x86_64-w64-mingw32 (64-bit)
* using session charset: ISO8859-1
* using option '--no-vignettes'
* checking for file 'TFEA.ChIP/DESCRIPTION' ... OK
* checking extension type ... Package
* this is package 'TFEA.ChIP' version '1.12.0'
* package encoding: UTF-8
* checking package namespace information ... OK
* checking package dependencies ... OK
* checking if this is a source package ... OK
* checking if there is a namespace ... OK
* checking for hidden files and directories ... OK
* checking for portable file names ... OK
* checking whether package 'TFEA.ChIP' can be installed ... OK
* checking installed package size ... OK
* checking package directory ... OK
* checking 'build' directory ... OK
* checking DESCRIPTION meta-information ... OK
* checking top-level files ... OK
* checking for left-over files ... OK
* checking index information ... OK
* checking package subdirectories ... OK
* checking R files for non-ASCII characters ... OK
* checking R files for syntax errors ... OK
* loading checks for arch 'i386'
** checking whether the package can be loaded ... OK
** checking whether the package can be loaded with stated dependencies ... OK
** checking whether the package can be unloaded cleanly ... OK
** checking whether the namespace can be loaded with stated dependencies ... OK
** checking whether the namespace can be unloaded cleanly ... OK
* loading checks for arch 'x64'
** checking whether the package can be loaded ... OK
** checking whether the package can be loaded with stated dependencies ... OK
** checking whether the package can be unloaded cleanly ... OK
** checking whether the namespace can be loaded with stated dependencies ... OK
** checking whether the namespace can be unloaded cleanly ... OK
* checking dependencies in R code ... OK
* checking S3 generic/method consistency ... OK
* checking replacement functions ... OK
* checking foreign function calls ... OK
* checking R code for possible problems ... NOTE
rankTFs: no visible binding for global variable 'arg.ES'
rankTFs: no visible binding for global variable 'ES'
rankTFs: no visible binding for global variable 'TF'
Undefined global functions or variables:
  ES TF arg.ES
* checking Rd files ... OK
* checking Rd metadata ... OK
* checking Rd cross-references ... OK
* checking for missing documentation entries ... OK
* checking for code/documentation mismatches ... OK
* checking Rd \usage sections ... OK
* checking Rd contents ... OK
* checking for unstated dependencies in examples ... OK
* checking contents of 'data' directory ... OK
* checking data for non-ASCII characters ... OK
* checking data for ASCII and uncompressed saves ... OK
* checking files in 'vignettes' ... OK
* checking examples ...
** running examples for arch 'i386' ... OK
Examples with CPU (user + system) or elapsed time > 5s
                    user system elapsed
rankTFs            14.22   0.34   14.56
plot_CM             9.16   0.43    9.58
getCMstats          7.29   0.34    7.64
GSEA_run            7.07   0.39    7.47
contingency_matrix  4.96   0.21    5.15
** running examples for arch 'x64' ... OK
Examples with CPU (user + system) or elapsed time > 5s
                    user system elapsed
rankTFs            15.67   0.18   15.84
plot_CM             7.87   0.25    8.13
getCMstats          6.94   0.25    7.18
GSEA_run            6.00   0.21    6.20
contingency_matrix  5.20   0.30    5.50
* checking for unstated dependencies in 'tests' ... OK
* checking tests ...
** running tests for arch 'i386' ...
  Running 'runTests.R'
 OK
** running tests for arch 'x64' ...
  Running 'runTests.R'
 OK
* checking for unstated dependencies in vignettes ... OK
* checking package vignettes in 'inst/doc' ... OK
* checking running R code from vignettes ... SKIPPED
* checking re-building of vignette outputs ... SKIPPED
* checking PDF version of manual ... OK
* DONE

Status: 1 NOTE
See
  'C:/Users/biocbuild/bbs-3.13-bioc/meat/TFEA.ChIP.Rcheck/00check.log'
for details.



Installation output

TFEA.ChIP.Rcheck/00install.out

##############################################################################
##############################################################################
###
### Running command:
###
###   C:\cygwin\bin\curl.exe -O http://155.52.207.165/BBS/3.13/bioc/src/contrib/TFEA.ChIP_1.12.0.tar.gz && rm -rf TFEA.ChIP.buildbin-libdir && mkdir TFEA.ChIP.buildbin-libdir && C:\Users\biocbuild\bbs-3.13-bioc\R\bin\R.exe CMD INSTALL --merge-multiarch --build --library=TFEA.ChIP.buildbin-libdir TFEA.ChIP_1.12.0.tar.gz && C:\Users\biocbuild\bbs-3.13-bioc\R\bin\R.exe CMD INSTALL TFEA.ChIP_1.12.0.zip && rm TFEA.ChIP_1.12.0.tar.gz TFEA.ChIP_1.12.0.zip
###
##############################################################################
##############################################################################


  % Total    % Received % Xferd  Average Speed   Time    Time     Time  Current
                                 Dload  Upload   Total   Spent    Left  Speed

  0     0    0     0    0     0      0      0 --:--:-- --:--:-- --:--:--     0
 64 3844k   64 2490k    0     0  3026k      0  0:00:01 --:--:--  0:00:01 3026k
100 3844k  100 3844k    0     0  3432k      0  0:00:01  0:00:01 --:--:-- 3435k

install for i386

* installing *source* package 'TFEA.ChIP' ...
** using staged installation
** R
** data
** inst
** byte-compile and prepare package for lazy loading
** help
*** installing help indices
  converting help for package 'TFEA.ChIP'
    finding HTML links ... done
    ARNT.metadata                           html  
    ARNT.peaks.bed                          html  
    DnaseHS_db                              html  
    Entrez.gene.IDs                         html  
    GR2tfbs_db                              html  
    GSEA.result                             html  
    GSEA_ESpermutations                     html  
    GSEA_EnrichmentScore                    html  
    GSEA_run                                html  
    GeneID2entrez                           html  
    Genes.Upreg                             html  
    Mat01                                   html  
    MetaData                                html  
    Select_genes                            html  
    contingency_matrix                      html  
    getCMstats                              html  
    get_LFC_bar                             html  
    get_chip_index                          html  
    gr.list                                 html  
    highlight_TF                            html  
    hypoxia                                 html  
    hypoxia_DESeq                           html  
    log2.FC                                 html  
    makeTFBSmatrix                          html  
    plot_CM                                 html  
    plot_ES                                 html  
    plot_RES                                html  
    preprocessInputData                     html  
    rankTFs                                 html  
    set_user_data                           html  
    tfbs.database                           html  
    txt2GR                                  html  
** building package indices
** installing vignettes
** testing if installed package can be loaded from temporary location
** testing if installed package can be loaded from final location
** testing if installed package keeps a record of temporary installation path

install for x64

* installing *source* package 'TFEA.ChIP' ...
** testing if installed package can be loaded
* MD5 sums
packaged installation of 'TFEA.ChIP' as TFEA.ChIP_1.12.0.zip
* DONE (TFEA.ChIP)
* installing to library 'C:/Users/biocbuild/bbs-3.13-bioc/R/library'
package 'TFEA.ChIP' successfully unpacked and MD5 sums checked

Tests output

TFEA.ChIP.Rcheck/tests_i386/runTests.Rout


R version 4.1.1 (2021-08-10) -- "Kick Things"
Copyright (C) 2021 The R Foundation for Statistical Computing
Platform: i386-w64-mingw32/i386 (32-bit)

R is free software and comes with ABSOLUTELY NO WARRANTY.
You are welcome to redistribute it under certain conditions.
Type 'license()' or 'licence()' for distribution details.

R is a collaborative project with many contributors.
Type 'contributors()' for more information and
'citation()' on how to cite R or R packages in publications.

Type 'demo()' for some demos, 'help()' for on-line help, or
'help.start()' for an HTML browser interface to help.
Type 'q()' to quit R.

> BiocGenerics:::testPackage(pkgname = "TFEA.ChIP")

Because of space limitations, TFEA.ChIPs internal database only includes ChIP-seq experiments from the ENCODE project. 
To download the full ReMap database, as well as other ready-to-use databases, visit https://github.com/LauraPS1/TFEA.ChIP_downloads

  |                                                                            
  |                                                                      |   0%
  |                                                                            
  |======================================================================| 100%

  |                                                                            
  |                                                                      |   0%
  |                                                                            
  |===================================                                   |  50%
  |                                                                            
  |======================================================================| 100%
Done! 2 genes of 2 successfully converted.

Done! 1 genes of 1 successfully converted.

Done! 1 genes of 1 successfully converted.

Done! 2 genes of 2 successfully converted.

Done! 16675 genes of 17527 successfully converted.

Couldn't find Entrez IDs for 852 genes.

Loading required package: DESeq2
Loading required package: S4Vectors
Loading required package: stats4
Loading required package: BiocGenerics
Loading required package: parallel

Attaching package: 'BiocGenerics'

The following objects are masked from 'package:parallel':

    clusterApply, clusterApplyLB, clusterCall, clusterEvalQ,
    clusterExport, clusterMap, parApply, parCapply, parLapply,
    parLapplyLB, parRapply, parSapply, parSapplyLB

The following objects are masked from 'package:stats':

    IQR, mad, sd, var, xtabs

The following objects are masked from 'package:base':

    Filter, Find, Map, Position, Reduce, anyDuplicated, append,
    as.data.frame, basename, cbind, colnames, dirname, do.call,
    duplicated, eval, evalq, get, grep, grepl, intersect, is.unsorted,
    lapply, mapply, match, mget, order, paste, pmax, pmax.int, pmin,
    pmin.int, rank, rbind, rownames, sapply, setdiff, sort, table,
    tapply, union, unique, unsplit, which.max, which.min


Attaching package: 'S4Vectors'

The following objects are masked from 'package:base':

    I, expand.grid, unname

Loading required package: IRanges

Attaching package: 'IRanges'

The following object is masked from 'package:grDevices':

    windows

Loading required package: GenomicRanges
Loading required package: GenomeInfoDb
Loading required package: SummarizedExperiment
Loading required package: MatrixGenerics
Loading required package: matrixStats

Attaching package: 'MatrixGenerics'

The following objects are masked from 'package:matrixStats':

    colAlls, colAnyNAs, colAnys, colAvgsPerRowSet, colCollapse,
    colCounts, colCummaxs, colCummins, colCumprods, colCumsums,
    colDiffs, colIQRDiffs, colIQRs, colLogSumExps, colMadDiffs,
    colMads, colMaxs, colMeans2, colMedians, colMins, colOrderStats,
    colProds, colQuantiles, colRanges, colRanks, colSdDiffs, colSds,
    colSums2, colTabulates, colVarDiffs, colVars, colWeightedMads,
    colWeightedMeans, colWeightedMedians, colWeightedSds,
    colWeightedVars, rowAlls, rowAnyNAs, rowAnys, rowAvgsPerColSet,
    rowCollapse, rowCounts, rowCummaxs, rowCummins, rowCumprods,
    rowCumsums, rowDiffs, rowIQRDiffs, rowIQRs, rowLogSumExps,
    rowMadDiffs, rowMads, rowMaxs, rowMeans2, rowMedians, rowMins,
    rowOrderStats, rowProds, rowQuantiles, rowRanges, rowRanks,
    rowSdDiffs, rowSds, rowSums2, rowTabulates, rowVarDiffs, rowVars,
    rowWeightedMads, rowWeightedMeans, rowWeightedMedians,
    rowWeightedSds, rowWeightedVars

Loading required package: Biobase
Welcome to Bioconductor

    Vignettes contain introductory material; view with
    'browseVignettes()'. To cite Bioconductor, see
    'citation("Biobase")', and for packages 'citation("pkgname")'.


Attaching package: 'Biobase'

The following object is masked from 'package:MatrixGenerics':

    rowMedians

The following objects are masked from 'package:matrixStats':

    anyMissing, rowMedians

Done! 10494 genes of 11667 successfully converted.

Couldn't find Entrez IDs for 1173 genes.

Done! 16675 genes of 17527 successfully converted.

Couldn't find Entrez IDs for 852 genes.

Done! 10494 genes of 11667 successfully converted.

Couldn't find Entrez IDs for 1173 genes.



RUNIT TEST PROTOCOL -- Fri Sep 17 06:45:37 2021 
*********************************************** 
Number of test functions: 11 
Number of errors: 0 
Number of failures: 0 

 
1 Test Suite : 
TFEA.ChIP RUnit Tests - 11 test functions, 0 errors, 0 failures
Number of test functions: 11 
Number of errors: 0 
Number of failures: 0 
Warning message:
Some genes returned 1:many mapping to ENTREZ ID. Genes were assigned the first ENTREZ ID match found.
 
> 
> proc.time()
   user  system elapsed 
  55.21    2.15   57.35 

TFEA.ChIP.Rcheck/tests_x64/runTests.Rout


R version 4.1.1 (2021-08-10) -- "Kick Things"
Copyright (C) 2021 The R Foundation for Statistical Computing
Platform: x86_64-w64-mingw32/x64 (64-bit)

R is free software and comes with ABSOLUTELY NO WARRANTY.
You are welcome to redistribute it under certain conditions.
Type 'license()' or 'licence()' for distribution details.

R is a collaborative project with many contributors.
Type 'contributors()' for more information and
'citation()' on how to cite R or R packages in publications.

Type 'demo()' for some demos, 'help()' for on-line help, or
'help.start()' for an HTML browser interface to help.
Type 'q()' to quit R.

> BiocGenerics:::testPackage(pkgname = "TFEA.ChIP")

Because of space limitations, TFEA.ChIPs internal database only includes ChIP-seq experiments from the ENCODE project. 
To download the full ReMap database, as well as other ready-to-use databases, visit https://github.com/LauraPS1/TFEA.ChIP_downloads

  |                                                                            
  |                                                                      |   0%
  |                                                                            
  |======================================================================| 100%

  |                                                                            
  |                                                                      |   0%
  |                                                                            
  |===================================                                   |  50%
  |                                                                            
  |======================================================================| 100%
Done! 2 genes of 2 successfully converted.

Done! 1 genes of 1 successfully converted.

Done! 1 genes of 1 successfully converted.

Done! 2 genes of 2 successfully converted.

Done! 16675 genes of 17527 successfully converted.

Couldn't find Entrez IDs for 852 genes.

Loading required package: DESeq2
Loading required package: S4Vectors
Loading required package: stats4
Loading required package: BiocGenerics
Loading required package: parallel

Attaching package: 'BiocGenerics'

The following objects are masked from 'package:parallel':

    clusterApply, clusterApplyLB, clusterCall, clusterEvalQ,
    clusterExport, clusterMap, parApply, parCapply, parLapply,
    parLapplyLB, parRapply, parSapply, parSapplyLB

The following objects are masked from 'package:stats':

    IQR, mad, sd, var, xtabs

The following objects are masked from 'package:base':

    Filter, Find, Map, Position, Reduce, anyDuplicated, append,
    as.data.frame, basename, cbind, colnames, dirname, do.call,
    duplicated, eval, evalq, get, grep, grepl, intersect, is.unsorted,
    lapply, mapply, match, mget, order, paste, pmax, pmax.int, pmin,
    pmin.int, rank, rbind, rownames, sapply, setdiff, sort, table,
    tapply, union, unique, unsplit, which.max, which.min


Attaching package: 'S4Vectors'

The following objects are masked from 'package:base':

    I, expand.grid, unname

Loading required package: IRanges

Attaching package: 'IRanges'

The following object is masked from 'package:grDevices':

    windows

Loading required package: GenomicRanges
Loading required package: GenomeInfoDb
Loading required package: SummarizedExperiment
Loading required package: MatrixGenerics
Loading required package: matrixStats

Attaching package: 'MatrixGenerics'

The following objects are masked from 'package:matrixStats':

    colAlls, colAnyNAs, colAnys, colAvgsPerRowSet, colCollapse,
    colCounts, colCummaxs, colCummins, colCumprods, colCumsums,
    colDiffs, colIQRDiffs, colIQRs, colLogSumExps, colMadDiffs,
    colMads, colMaxs, colMeans2, colMedians, colMins, colOrderStats,
    colProds, colQuantiles, colRanges, colRanks, colSdDiffs, colSds,
    colSums2, colTabulates, colVarDiffs, colVars, colWeightedMads,
    colWeightedMeans, colWeightedMedians, colWeightedSds,
    colWeightedVars, rowAlls, rowAnyNAs, rowAnys, rowAvgsPerColSet,
    rowCollapse, rowCounts, rowCummaxs, rowCummins, rowCumprods,
    rowCumsums, rowDiffs, rowIQRDiffs, rowIQRs, rowLogSumExps,
    rowMadDiffs, rowMads, rowMaxs, rowMeans2, rowMedians, rowMins,
    rowOrderStats, rowProds, rowQuantiles, rowRanges, rowRanks,
    rowSdDiffs, rowSds, rowSums2, rowTabulates, rowVarDiffs, rowVars,
    rowWeightedMads, rowWeightedMeans, rowWeightedMedians,
    rowWeightedSds, rowWeightedVars

Loading required package: Biobase
Welcome to Bioconductor

    Vignettes contain introductory material; view with
    'browseVignettes()'. To cite Bioconductor, see
    'citation("Biobase")', and for packages 'citation("pkgname")'.


Attaching package: 'Biobase'

The following object is masked from 'package:MatrixGenerics':

    rowMedians

The following objects are masked from 'package:matrixStats':

    anyMissing, rowMedians

Done! 10494 genes of 11667 successfully converted.

Couldn't find Entrez IDs for 1173 genes.

Done! 16675 genes of 17527 successfully converted.

Couldn't find Entrez IDs for 852 genes.

Done! 10494 genes of 11667 successfully converted.

Couldn't find Entrez IDs for 1173 genes.



RUNIT TEST PROTOCOL -- Fri Sep 17 06:46:29 2021 
*********************************************** 
Number of test functions: 11 
Number of errors: 0 
Number of failures: 0 

 
1 Test Suite : 
TFEA.ChIP RUnit Tests - 11 test functions, 0 errors, 0 failures
Number of test functions: 11 
Number of errors: 0 
Number of failures: 0 
Warning message:
Some genes returned 1:many mapping to ENTREZ ID. Genes were assigned the first ENTREZ ID match found.
 
> 
> proc.time()
   user  system elapsed 
  50.53    1.46   52.01 

Example timings

TFEA.ChIP.Rcheck/examples_i386/TFEA.ChIP-Ex.timings

nameusersystemelapsed
GR2tfbs_db0.720.110.83
GSEA_EnrichmentScore000
GSEA_run7.070.397.47
GeneID2entrez0.320.010.33
Select_genes0.150.060.22
contingency_matrix4.960.215.15
getCMstats7.290.347.64
get_chip_index0.030.050.08
makeTFBSmatrix0.000.040.05
plot_CM9.160.439.58
plot_ES0.550.110.65
plot_RES1.090.181.42
preprocessInputData1.570.131.70
rankTFs14.22 0.3414.56
set_user_data2.780.132.91
txt2GR0.040.000.03

TFEA.ChIP.Rcheck/examples_x64/TFEA.ChIP-Ex.timings

nameusersystemelapsed
GR2tfbs_db0.560.030.60
GSEA_EnrichmentScore000
GSEA_run6.000.216.20
GeneID2entrez0.290.000.28
Select_genes0.090.030.13
contingency_matrix5.20.35.5
getCMstats6.940.257.18
get_chip_index0.020.040.07
makeTFBSmatrix0.030.020.04
plot_CM7.870.258.13
plot_ES0.560.090.69
plot_RES1.160.131.28
preprocessInputData1.280.071.36
rankTFs15.67 0.1815.84
set_user_data3.360.073.44
txt2GR0.030.000.03