Back to Multiple platform build/check report for BioC 3.19:   simplified   long
ABCDEFGHIJKLMNOPQRS[T]UVWXYZ

This page was generated on 2024-05-20 11:35:51 -0400 (Mon, 20 May 2024).

HostnameOSArch (*)R versionInstalled pkgs
nebbiolo1Linux (Ubuntu 22.04.3 LTS)x86_644.4.0 (2024-04-24) -- "Puppy Cup" 4751
palomino3Windows Server 2022 Datacenterx644.4.0 (2024-04-24 ucrt) -- "Puppy Cup" 4485
lconwaymacOS 12.7.1 Montereyx86_644.4.0 (2024-04-24) -- "Puppy Cup" 4515
Click on any hostname to see more info about the system (e.g. compilers)      (*) as reported by 'uname -p', except on Windows and Mac OS X

All results for package TFBSTools


To the developers/maintainers of the TFBSTools package:
- Allow up to 24 hours (and sometimes 48 hours) for your latest push to git@git.bioconductor.org:packages/TFBSTools.git to reflect on this report. See Troubleshooting Build Report for more information.
- Use the following Renviron settings to reproduce errors and warnings.
- If 'R CMD check' started to fail recently on the Linux builder(s) over a missing dependency, add the missing dependency to 'Suggests:' in your DESCRIPTION file. See Renviron.bioc for more information.

raw results

Package 2150/2300HostnameOS / ArchINSTALLBUILDCHECKBUILD BIN
TFBSTools 1.42.0  (landing page)
Ge Tan
Snapshot Date: 2024-05-19 14:00:13 -0400 (Sun, 19 May 2024)
git_url: https://git.bioconductor.org/packages/TFBSTools
git_branch: RELEASE_3_19
git_last_commit: 713402e
git_last_commit_date: 2024-04-30 10:34:05 -0400 (Tue, 30 Apr 2024)
nebbiolo1Linux (Ubuntu 22.04.3 LTS) / x86_64  OK    OK    OK  UNNEEDED, same version is already published
palomino3Windows Server 2022 Datacenter / x64  OK    OK    OK    OK  UNNEEDED, same version is already published
lconwaymacOS 12.7.1 Monterey / x86_64  OK    OK    OK    OK  UNNEEDED, same version is already published
kjohnson3macOS 13.6.5 Ventura / arm64see weekly results here

Results for Bioconductor software packages that depend directly on package TFBSTools

QUICK STATSOS / ArchINSTALLBUILDCHECKBUILD BIN
nebbiolo1Linux (Ubuntu 22.04.3 LTS) / x86_64
0012
0012
0129
palomino3Windows Server 2022 Datacenter / x64
0111
0111
00110
0011
lconwaymacOS 12.7.1 Monterey / x86_64
0012
0012
00210
0012
Package 1/12HostnameOS / ArchINSTALLBUILDCHECKBUILD BIN
ATACCoGAPS 1.6.0  (landing page)
Rossin Erbe
git_last_commit: d9555fb
git_last_commit_date: 2024-04-30 11:43:31 -0400
nebbiolo1Linux (Ubuntu 22.04.3 LTS) / x86_64  OK    OK    OK  UNNEEDED, same version is already published
palomino3Windows Server 2022 Datacenter / x64  OK    OK    OK    OK  UNNEEDED, same version is already published
lconwaymacOS 12.7.1 Monterey / x86_64  OK    OK    OK    OK  UNNEEDED, same version is already published
kjohnson3macOS 13.6.5 Ventura / arm64see weekly results here
Package 2/12HostnameOS / ArchINSTALLBUILDCHECKBUILD BIN
ATACseqTFEA 1.6.0  (landing page)
Jianhong Ou
git_last_commit: 9d17d68
git_last_commit_date: 2024-04-30 11:44:07 -0400
nebbiolo1Linux (Ubuntu 22.04.3 LTS) / x86_64  OK    OK    OK  UNNEEDED, same version is already published
palomino3Windows Server 2022 Datacenter / x64  OK    OK    OK    OK  UNNEEDED, same version is already published
lconwaymacOS 12.7.1 Monterey / x86_64  OK    OK    OK    OK  UNNEEDED, same version is already published
kjohnson3macOS 13.6.5 Ventura / arm64see weekly results here
Package 3/12HostnameOS / ArchINSTALLBUILDCHECKBUILD BIN
chromVAR 1.26.0  (landing page)
Alicia Schep
git_last_commit: 8150876
git_last_commit_date: 2024-04-30 11:01:15 -0400
nebbiolo1Linux (Ubuntu 22.04.3 LTS) / x86_64  OK    OK    OK  UNNEEDED, same version is already published
palomino3Windows Server 2022 Datacenter / x64  OK    OK    OK    OK  UNNEEDED, same version is already published
lconwaymacOS 12.7.1 Monterey / x86_64  OK    OK    OK    OK  UNNEEDED, same version is already published
kjohnson3macOS 13.6.5 Ventura / arm64see weekly results here
Package 4/12HostnameOS / ArchINSTALLBUILDCHECKBUILD BIN
enrichTF 1.20.0  (landing page)
Zheng Wei
git_last_commit: 651a042
git_last_commit_date: 2024-04-30 11:14:37 -0400
nebbiolo1Linux (Ubuntu 22.04.3 LTS) / x86_64  OK    OK    ERROR  
palomino3Windows Server 2022 Datacenter / x64  OK    OK    OK    OK  UNNEEDED, same version is already published
lconwaymacOS 12.7.1 Monterey / x86_64  OK    OK    OK    OK  UNNEEDED, same version is already published
kjohnson3macOS 13.6.5 Ventura / arm64see weekly results here
Package 5/12HostnameOS / ArchINSTALLBUILDCHECKBUILD BIN
esATAC 1.26.0  (landing page)
Zheng Wei
git_last_commit: 222623c
git_last_commit_date: 2024-04-30 11:02:36 -0400
nebbiolo1Linux (Ubuntu 22.04.3 LTS) / x86_64  OK    OK    OK  UNNEEDED, same version is already published
palomino3Windows Server 2022 Datacenter / x64  ERROR    ERROR  skippedskipped
lconwaymacOS 12.7.1 Monterey / x86_64  OK    OK    OK    OK  UNNEEDED, same version is already published
kjohnson3macOS 13.6.5 Ventura / arm64see weekly results here
Package 6/12HostnameOS / ArchINSTALLBUILDCHECKBUILD BIN
MatrixRider 1.36.0  (landing page)
Elena Grassi
git_last_commit: 84f41c6
git_last_commit_date: 2024-04-30 10:42:15 -0400
nebbiolo1Linux (Ubuntu 22.04.3 LTS) / x86_64  OK    OK    WARNINGS  UNNEEDED, same version is already published
palomino3Windows Server 2022 Datacenter / x64  OK    OK    OK    OK  UNNEEDED, same version is already published
lconwaymacOS 12.7.1 Monterey / x86_64  OK    OK    WARNINGS    OK  UNNEEDED, same version is already published
kjohnson3macOS 13.6.5 Ventura / arm64see weekly results here
Package 7/12HostnameOS / ArchINSTALLBUILDCHECKBUILD BIN
MethReg 1.14.0  (landing page)
Tiago Silva
git_last_commit: 8b67831
git_last_commit_date: 2024-04-30 11:27:17 -0400
nebbiolo1Linux (Ubuntu 22.04.3 LTS) / x86_64  OK    OK    OK  UNNEEDED, same version is already published
palomino3Windows Server 2022 Datacenter / x64  OK    OK    OK    OK  UNNEEDED, same version is already published
lconwaymacOS 12.7.1 Monterey / x86_64  OK    OK    OK    OK  UNNEEDED, same version is already published
kjohnson3macOS 13.6.5 Ventura / arm64see weekly results here
Package 8/12HostnameOS / ArchINSTALLBUILDCHECKBUILD BIN
monaLisa 1.10.0  (landing page)
Michael Stadler
git_last_commit: cdd4728
git_last_commit_date: 2024-04-30 11:37:37 -0400
nebbiolo1Linux (Ubuntu 22.04.3 LTS) / x86_64  OK    OK    OK  UNNEEDED, same version is already published
palomino3Windows Server 2022 Datacenter / x64  OK    OK    OK    OK  UNNEEDED, same version is already published
lconwaymacOS 12.7.1 Monterey / x86_64  OK    OK    OK    OK  UNNEEDED, same version is already published
kjohnson3macOS 13.6.5 Ventura / arm64see weekly results here
Package 9/12HostnameOS / ArchINSTALLBUILDCHECKBUILD BIN
motifmatchr 1.26.0  (landing page)
Alicia Schep
git_last_commit: cd370a8
git_last_commit_date: 2024-04-30 10:58:28 -0400
nebbiolo1Linux (Ubuntu 22.04.3 LTS) / x86_64  OK    OK    OK  UNNEEDED, same version is already published
palomino3Windows Server 2022 Datacenter / x64  OK    OK    OK    OK  UNNEEDED, same version is already published
lconwaymacOS 12.7.1 Monterey / x86_64  OK    OK    OK    OK  UNNEEDED, same version is already published
kjohnson3macOS 13.6.5 Ventura / arm64see weekly results here
Package 10/12HostnameOS / ArchINSTALLBUILDCHECKBUILD BIN
motifStack 1.48.0  (landing page)
Jianhong Ou
git_last_commit: 862803c
git_last_commit_date: 2024-04-30 10:28:56 -0400
nebbiolo1Linux (Ubuntu 22.04.3 LTS) / x86_64  OK    OK    OK  UNNEEDED, same version is already published
palomino3Windows Server 2022 Datacenter / x64  OK    OK    OK    OK  UNNEEDED, same version is already published
lconwaymacOS 12.7.1 Monterey / x86_64  OK    OK    OK    OK  UNNEEDED, same version is already published
kjohnson3macOS 13.6.5 Ventura / arm64see weekly results here
Package 11/12HostnameOS / ArchINSTALLBUILDCHECKBUILD BIN
primirTSS 1.22.0  (landing page)
Pumin Li
git_last_commit: 3d986ad
git_last_commit_date: 2024-04-30 11:08:56 -0400
nebbiolo1Linux (Ubuntu 22.04.3 LTS) / x86_64  OK    OK    WARNINGS  UNNEEDED, same version is already published
palomino3Windows Server 2022 Datacenter / x64  OK    OK    WARNINGS    OK  UNNEEDED, same version is already published
lconwaymacOS 12.7.1 Monterey / x86_64  OK    OK    WARNINGS    OK  UNNEEDED, same version is already published
kjohnson3macOS 13.6.5 Ventura / arm64see weekly results here
Package 12/12HostnameOS / ArchINSTALLBUILDCHECKBUILD BIN
spatzie 1.10.0  (landing page)
Jennifer Hammelman
git_last_commit: adb0b9b
git_last_commit_date: 2024-04-30 11:36:15 -0400
nebbiolo1Linux (Ubuntu 22.04.3 LTS) / x86_64  OK    OK    OK  UNNEEDED, same version is already published
palomino3Windows Server 2022 Datacenter / x64  OK    OK    OK    OK  UNNEEDED, same version is already published
lconwaymacOS 12.7.1 Monterey / x86_64  OK    OK    OK    OK  UNNEEDED, same version is already published
kjohnson3macOS 13.6.5 Ventura / arm64see weekly results here