Index of /checkResults/release/bioc-LATEST/TENxIO/raw-results

[ICO]NameLast modifiedSizeDescription

[DIR]Parent Directory  -  
[   ]info.dcf23-May-2024 00:34 276  
[DIR]kunpeng2/10-May-2024 00:41 -  
[DIR]lconway/23-May-2024 00:37 -  
[DIR]merida1/05-Mar-2024 01:40 -  
[DIR]nebbiolo1/23-May-2024 00:35 -  
[DIR]palomino3/23-May-2024 00:36 -