Back to Multiple platform build/check report for BioC 3.13
ABCDEFGHIJKLMNOPQRS[T]UVWXYZ

This page was generated on 2021-07-23 15:06:23 -0400 (Fri, 23 Jul 2021).

BUILD BIN results for TCGAbiolinksGUI on tokay2

To the developers/maintainers of the TCGAbiolinksGUI package:
- Please allow up to 24 hours (and sometimes 48 hours) for your latest push to git@git.bioconductor.org:packages/TCGAbiolinksGUI.git to
reflect on this report. See How and When does the builder pull? When will my changes propagate? here for more information.
- Make sure to use the following settings in order to reproduce any error or warning you see on this page.

raw results

Package 1900/2041HostnameOS / ArchINSTALLBUILDCHECKBUILD BIN
TCGAbiolinksGUI 1.18.0  (landing page)
Tiago C. Silva
Snapshot Date: 2021-07-22 04:50:13 -0400 (Thu, 22 Jul 2021)
URL: https://git.bioconductor.org/packages/TCGAbiolinksGUI
Branch: RELEASE_3_13
Last Commit: 8315ea1
Last Changed Date: 2021-05-19 12:25:56 -0400 (Wed, 19 May 2021)
nebbiolo1Linux (Ubuntu 20.04.2 LTS) / x86_64  OK    OK    OK  UNNEEDED, same version is already published
tokay2Windows Server 2012 R2 Standard / x64  OK    OK    OK    OK  UNNEEDED, same version is already published
machv2macOS 10.14.6 Mojave / x86_64  OK    OK    OK    OK  UNNEEDED, same version is already published

Summary

Package: TCGAbiolinksGUI
Version: 1.18.0
Command: rm -rf TCGAbiolinksGUI.buildbin-libdir && mkdir TCGAbiolinksGUI.buildbin-libdir && C:\Users\biocbuild\bbs-3.13-bioc\R\bin\R.exe CMD INSTALL --merge-multiarch --build --library=TCGAbiolinksGUI.buildbin-libdir TCGAbiolinksGUI_1.18.0.tar.gz
StartedAt: 2021-07-23 12:00:57 -0400 (Fri, 23 Jul 2021)
EndedAt: 2021-07-23 12:02:21 -0400 (Fri, 23 Jul 2021)
EllapsedTime: 84.1 seconds
RetCode: 0
Status:   OK  
PackageFile: TCGAbiolinksGUI_1.18.0.zip
PackageFileSize: 16.73 MiB

Command output

##############################################################################
##############################################################################
###
### Running command:
###
###   rm -rf TCGAbiolinksGUI.buildbin-libdir && mkdir TCGAbiolinksGUI.buildbin-libdir && C:\Users\biocbuild\bbs-3.13-bioc\R\bin\R.exe CMD INSTALL --merge-multiarch --build --library=TCGAbiolinksGUI.buildbin-libdir TCGAbiolinksGUI_1.18.0.tar.gz
###
##############################################################################
##############################################################################



install for i386

* installing *source* package 'TCGAbiolinksGUI' ...
** using staged installation
** R
** inst
** byte-compile and prepare package for lazy loading
** help
*** installing help indices
  converting help for package 'TCGAbiolinksGUI'
    finding HTML links ... done
    TCGAbiolinksGUI                         html  
** building package indices
** installing vignettes
** testing if installed package can be loaded from temporary location
** testing if installed package can be loaded from final location
** testing if installed package keeps a record of temporary installation path

install for x64

* installing *source* package 'TCGAbiolinksGUI' ...
** testing if installed package can be loaded
* MD5 sums
packaged installation of 'TCGAbiolinksGUI' as TCGAbiolinksGUI_1.18.0.zip
* DONE (TCGAbiolinksGUI)