Back to Multiple platform build/check report for BioC 3.19:   simplified   long
ABCDEFGHIJKLMNOPQRS[T]UVWXYZ

This page was generated on 2024-06-11 14:41 -0400 (Tue, 11 Jun 2024).

HostnameOSArch (*)R versionInstalled pkgs
nebbiolo1Linux (Ubuntu 22.04.3 LTS)x86_644.4.0 (2024-04-24) -- "Puppy Cup" 4757
palomino3Windows Server 2022 Datacenterx644.4.0 (2024-04-24 ucrt) -- "Puppy Cup" 4491
lconwaymacOS 12.7.1 Montereyx86_644.4.0 (2024-04-24) -- "Puppy Cup" 4522
kjohnson3macOS 13.6.5 Venturaarm644.4.0 (2024-04-24) -- "Puppy Cup" 4468
Click on any hostname to see more info about the system (e.g. compilers)      (*) as reported by 'uname -p', except on Windows and Mac OS X

Package 2136/2300HostnameOS / ArchINSTALLBUILDCHECKBUILD BIN
TBSignatureProfiler 1.16.0  (landing page)
Aubrey R. Odom
Snapshot Date: 2024-06-09 14:00 -0400 (Sun, 09 Jun 2024)
git_url: https://git.bioconductor.org/packages/TBSignatureProfiler
git_branch: RELEASE_3_19
git_last_commit: 5f3c2c3
git_last_commit_date: 2024-04-30 11:23:30 -0400 (Tue, 30 Apr 2024)
nebbiolo1Linux (Ubuntu 22.04.3 LTS) / x86_64  OK    OK    OK  UNNEEDED, same version is already published
palomino3Windows Server 2022 Datacenter / x64  OK    OK    OK    OK  UNNEEDED, same version is already published
lconwaymacOS 12.7.1 Monterey / x86_64  OK    OK    OK    OK  UNNEEDED, same version is already published
kjohnson3macOS 13.6.5 Ventura / arm64  OK    OK    OK    OK  UNNEEDED, same version is already published


BUILD results for TBSignatureProfiler on palomino3

To the developers/maintainers of the TBSignatureProfiler package:
- Allow up to 24 hours (and sometimes 48 hours) for your latest push to git@git.bioconductor.org:packages/TBSignatureProfiler.git to reflect on this report. See Troubleshooting Build Report for more information.
- Use the following Renviron settings to reproduce errors and warnings.
- If 'R CMD check' started to fail recently on the Linux builder(s) over a missing dependency, add the missing dependency to 'Suggests:' in your DESCRIPTION file. See Renviron.bioc for more information.

raw results


Summary

Package: TBSignatureProfiler
Version: 1.16.0
Command: chmod a+r TBSignatureProfiler -R && F:\biocbuild\bbs-3.19-bioc\R\bin\R.exe CMD build --keep-empty-dirs --no-resave-data TBSignatureProfiler
StartedAt: 2024-06-09 23:29:38 -0400 (Sun, 09 Jun 2024)
EndedAt: 2024-06-09 23:31:21 -0400 (Sun, 09 Jun 2024)
EllapsedTime: 103.6 seconds
RetCode: 0
Status:   OK  
PackageFile: TBSignatureProfiler_1.16.0.tar.gz
PackageFileSize: 3.342 MiB

Command output

##############################################################################
##############################################################################
###
### Running command:
###
###   chmod a+r TBSignatureProfiler -R && F:\biocbuild\bbs-3.19-bioc\R\bin\R.exe CMD build --keep-empty-dirs --no-resave-data TBSignatureProfiler
###
##############################################################################
##############################################################################


* checking for file 'TBSignatureProfiler/DESCRIPTION' ... OK
* preparing 'TBSignatureProfiler':
* checking DESCRIPTION meta-information ... OK
* installing the package to build vignettes
* creating vignettes ... OK
* checking for LF line-endings in source and make files and shell scripts
* checking for empty or unneeded directories
* building 'TBSignatureProfiler_1.16.0.tar.gz'