Back to Multiple platform build/check report for BioC 3.13
ABCDEFGHIJKLMNOPQR[S]TUVWXYZ

This page was generated on 2021-07-30 15:06:12 -0400 (Fri, 30 Jul 2021).

BUILD BIN results for Streamer on tokay2

To the developers/maintainers of the Streamer package:
- Please allow up to 24 hours (and sometimes 48 hours) for your latest push to git@git.bioconductor.org:packages/Streamer.git to
reflect on this report. See How and When does the builder pull? When will my changes propagate? here for more information.
- Make sure to use the following settings in order to reproduce any error or warning you see on this page.

raw results

Package 1859/2041HostnameOS / ArchINSTALLBUILDCHECKBUILD BIN
Streamer 1.38.0  (landing page)
Martin Morgan
Snapshot Date: 2021-07-29 04:50:02 -0400 (Thu, 29 Jul 2021)
URL: https://git.bioconductor.org/packages/Streamer
Branch: RELEASE_3_13
Last Commit: c079c02
Last Changed Date: 2021-05-19 11:49:23 -0400 (Wed, 19 May 2021)
nebbiolo1Linux (Ubuntu 20.04.2 LTS) / x86_64  OK    OK    OK  UNNEEDED, same version is already published
tokay2Windows Server 2012 R2 Standard / x64  OK    OK    OK    OK  UNNEEDED, same version is already published
machv2macOS 10.14.6 Mojave / x86_64  OK    OK    OK    OK  UNNEEDED, same version is already published

Summary

Package: Streamer
Version: 1.38.0
Command: rm -rf Streamer.buildbin-libdir && mkdir Streamer.buildbin-libdir && C:\Users\biocbuild\bbs-3.13-bioc\R\bin\R.exe CMD INSTALL --merge-multiarch --build --library=Streamer.buildbin-libdir Streamer_1.38.0.tar.gz
StartedAt: 2021-07-30 11:50:46 -0400 (Fri, 30 Jul 2021)
EndedAt: 2021-07-30 11:51:58 -0400 (Fri, 30 Jul 2021)
EllapsedTime: 72.0 seconds
RetCode: 0
Status:   OK  
PackageFile: Streamer_1.38.0.zip
PackageFileSize: 600.3 KiB

Command output

##############################################################################
##############################################################################
###
### Running command:
###
###   rm -rf Streamer.buildbin-libdir && mkdir Streamer.buildbin-libdir && C:\Users\biocbuild\bbs-3.13-bioc\R\bin\R.exe CMD INSTALL --merge-multiarch --build --library=Streamer.buildbin-libdir Streamer_1.38.0.tar.gz
###
##############################################################################
##############################################################################



install for i386

* installing *source* package 'Streamer' ...
** using staged installation
** libs
"C:/rtools40/mingw32/bin/"gcc  -I"C:/Users/BIOCBU~1/BBS-3~1.13-/R/include" -DNDEBUG     -I"C:/extsoft/include"     -O2 -Wall  -std=gnu99 -mfpmath=sse -msse2 -mstackrealign  -c R_init_Streamer.c -o R_init_Streamer.o
"C:/rtools40/mingw32/bin/"gcc  -I"C:/Users/BIOCBU~1/BBS-3~1.13-/R/include" -DNDEBUG     -I"C:/extsoft/include"     -O2 -Wall  -std=gnu99 -mfpmath=sse -msse2 -mstackrealign  -c raw_input.c -o raw_input.o
C:/rtools40/mingw32/bin/gcc -shared -s -static-libgcc -o Streamer.dll tmp.def R_init_Streamer.o raw_input.o -LC:/extsoft/lib/i386 -LC:/extsoft/lib -LC:/Users/BIOCBU~1/BBS-3~1.13-/R/bin/i386 -lR
installing to C:/Users/biocbuild/bbs-3.13-bioc/meat/Streamer.buildbin-libdir/00LOCK-Streamer/00new/Streamer/libs/i386
** R
** inst
** byte-compile and prepare package for lazy loading
** help
*** installing help indices
  converting help for package 'Streamer'
    finding HTML links ... done
    ConnectionProducer-classes              html  
    Consumer-class                          html  
    DAGTeam-class                           html  
    finding level-2 HTML links ... done

    Downsample-class                        html  
    FunctionProducerConsumer-classes        html  
REDIRECT:topic	 Function* -> FunctionProducerConsumer-classes.html [ FAIL ]
    ParallelParam-classes                   html  
    Producer-class                          html  
    RawInput-class                          html  
    Reducer-class                           html  
    Seq-class                               html  
    Stream-class                            html  
    Streamer-package                        html  
    Team-class                              html  
    Utility-classes                         html  
    reset                                   html  
    status                                  html  
    yield                                   html  
** building package indices
** installing vignettes
** testing if installed package can be loaded from temporary location
** testing if installed package can be loaded from final location
** testing if installed package keeps a record of temporary installation path

install for x64

* installing *source* package 'Streamer' ...
** libs
"C:/rtools40/mingw64/bin/"gcc  -I"C:/Users/BIOCBU~1/BBS-3~1.13-/R/include" -DNDEBUG     -I"C:/extsoft/include"     -O2 -Wall  -std=gnu99 -mfpmath=sse -msse2 -mstackrealign  -c R_init_Streamer.c -o R_init_Streamer.o
"C:/rtools40/mingw64/bin/"gcc  -I"C:/Users/BIOCBU~1/BBS-3~1.13-/R/include" -DNDEBUG     -I"C:/extsoft/include"     -O2 -Wall  -std=gnu99 -mfpmath=sse -msse2 -mstackrealign  -c raw_input.c -o raw_input.o
C:/rtools40/mingw64/bin/gcc -shared -s -static-libgcc -o Streamer.dll tmp.def R_init_Streamer.o raw_input.o -LC:/extsoft/lib/x64 -LC:/extsoft/lib -LC:/Users/BIOCBU~1/BBS-3~1.13-/R/bin/x64 -lR
installing to C:/Users/biocbuild/bbs-3.13-bioc/meat/Streamer.buildbin-libdir/Streamer/libs/x64
** testing if installed package can be loaded
* MD5 sums
packaged installation of 'Streamer' as Streamer_1.38.0.zip
* DONE (Streamer)