Back to Multiple platform build/check report for BioC 3.19:   simplified   long
ABCDEFGHIJKLMNOPQR[S]TUVWXYZ

This page was generated on 2024-06-21 17:40 -0400 (Fri, 21 Jun 2024).

HostnameOSArch (*)R versionInstalled pkgs
nebbiolo1Linux (Ubuntu 22.04.3 LTS)x86_644.4.0 (2024-04-24) -- "Puppy Cup" 4758
palomino3Windows Server 2022 Datacenterx644.4.0 (2024-04-24 ucrt) -- "Puppy Cup" 4492
merida1macOS 12.7.4 Montereyx86_644.4.0 (2024-04-24) -- "Puppy Cup" 4506
kjohnson1macOS 13.6.6 Venturaarm644.4.0 (2024-04-24) -- "Puppy Cup" 4464
Click on any hostname to see more info about the system (e.g. compilers)      (*) as reported by 'uname -p', except on Windows and Mac OS X

Package 2029/2300HostnameOS / ArchINSTALLBUILDCHECKBUILD BIN
SparseSignatures 2.14.0  (landing page)
Luca De Sano
Snapshot Date: 2024-06-19 14:00 -0400 (Wed, 19 Jun 2024)
git_url: https://git.bioconductor.org/packages/SparseSignatures
git_branch: RELEASE_3_19
git_last_commit: 4574ded
git_last_commit_date: 2024-04-30 11:05:42 -0400 (Tue, 30 Apr 2024)
nebbiolo1Linux (Ubuntu 22.04.3 LTS) / x86_64  OK    OK    OK  UNNEEDED, same version is already published
palomino3Windows Server 2022 Datacenter / x64  OK    OK    OK    OK  UNNEEDED, same version is already published
merida1macOS 12.7.4 Monterey / x86_64  OK    OK    OK    OK  UNNEEDED, same version is already published
kjohnson1macOS 13.6.6 Ventura / arm64  OK    OK    OK    NA  


CHECK results for SparseSignatures on palomino3

To the developers/maintainers of the SparseSignatures package:
- Allow up to 24 hours (and sometimes 48 hours) for your latest push to git@git.bioconductor.org:packages/SparseSignatures.git to reflect on this report. See Troubleshooting Build Report for more information.
- Use the following Renviron settings to reproduce errors and warnings.
- If 'R CMD check' started to fail recently on the Linux builder(s) over a missing dependency, add the missing dependency to 'Suggests:' in your DESCRIPTION file. See Renviron.bioc for more information.

raw results


Summary

Package: SparseSignatures
Version: 2.14.0
Command: F:\biocbuild\bbs-3.19-bioc\R\bin\R.exe CMD check --no-multiarch --install=check:SparseSignatures.install-out.txt --library=F:\biocbuild\bbs-3.19-bioc\R\library --no-vignettes --timings SparseSignatures_2.14.0.tar.gz
StartedAt: 2024-06-20 12:45:18 -0400 (Thu, 20 Jun 2024)
EndedAt: 2024-06-20 13:01:08 -0400 (Thu, 20 Jun 2024)
EllapsedTime: 950.0 seconds
RetCode: 0
Status:   OK  
CheckDir: SparseSignatures.Rcheck
Warnings: 0

Command output

##############################################################################
##############################################################################
###
### Running command:
###
###   F:\biocbuild\bbs-3.19-bioc\R\bin\R.exe CMD check --no-multiarch --install=check:SparseSignatures.install-out.txt --library=F:\biocbuild\bbs-3.19-bioc\R\library --no-vignettes --timings SparseSignatures_2.14.0.tar.gz
###
##############################################################################
##############################################################################


* using log directory 'F:/biocbuild/bbs-3.19-bioc/meat/SparseSignatures.Rcheck'
* using R version 4.4.0 (2024-04-24 ucrt)
* using platform: x86_64-w64-mingw32
* R was compiled by
    gcc.exe (GCC) 13.2.0
    GNU Fortran (GCC) 13.2.0
* running under: Windows Server 2022 x64 (build 20348)
* using session charset: UTF-8
* using option '--no-vignettes'
* checking for file 'SparseSignatures/DESCRIPTION' ... OK
* this is package 'SparseSignatures' version '2.14.0'
* package encoding: UTF-8
* checking package namespace information ... OK
* checking package dependencies ... OK
* checking if this is a source package ... OK
* checking if there is a namespace ... OK
* checking for hidden files and directories ... OK
* checking for portable file names ... OK
* checking whether package 'SparseSignatures' can be installed ... OK
* checking installed package size ... OK
* checking package directory ... OK
* checking 'build' directory ... OK
* checking DESCRIPTION meta-information ... OK
* checking top-level files ... OK
* checking for left-over files ... OK
* checking index information ... OK
* checking package subdirectories ... OK
* checking code files for non-ASCII characters ... OK
* checking R files for syntax errors ... OK
* checking whether the package can be loaded ... OK
* checking whether the package can be loaded with stated dependencies ... OK
* checking whether the package can be unloaded cleanly ... OK
* checking whether the namespace can be loaded with stated dependencies ... OK
* checking whether the namespace can be unloaded cleanly ... OK
* checking dependencies in R code ... OK
* checking S3 generic/method consistency ... OK
* checking replacement functions ... OK
* checking foreign function calls ... OK
* checking R code for possible problems ... NOTE
import.trinucleotides.counts: no visible global function definition for
  '.'
patients.plot: no visible binding for global variable 'Context'
patients.plot: no visible binding for global variable 'alt'
patients.plot: no visible binding for global variable 'patient'
patients.plot: no visible binding for global variable 'value'
signatures.plot: no visible binding for global variable 'Context'
signatures.plot: no visible binding for global variable 'alt'
signatures.plot: no visible binding for global variable 'value'
Undefined global functions or variables:
  . Context alt patient value
* checking Rd files ... OK
* checking Rd metadata ... OK
* checking Rd cross-references ... OK
* checking for missing documentation entries ... OK
* checking for code/documentation mismatches ... OK
* checking Rd \usage sections ... OK
* checking Rd contents ... OK
* checking for unstated dependencies in examples ... OK
* checking contents of 'data' directory ... OK
* checking data for non-ASCII characters ... OK
* checking data for ASCII and uncompressed saves ... OK
* checking files in 'vignettes' ... OK
* checking examples ... OK
Examples with CPU (user + system) or elapsed time > 5s
                              user system elapsed
lambdaRangeBetaEvaluation    82.55   1.41   83.95
lambdaRangeAlphaEvaluation   73.99   0.67   74.67
nmfLassoBootstrap            15.78   3.09   18.84
nmfLassoCV                   15.98   0.75   16.72
import.trinucleotides.counts  2.64   3.33    6.14
nmfLasso                      5.19   0.06    5.26
* checking for unstated dependencies in 'tests' ... OK
* checking tests ...
  Running 'testthat.R'
 OK
* checking for unstated dependencies in vignettes ... OK
* checking package vignettes ... OK
* checking running R code from vignettes ... SKIPPED
* checking re-building of vignette outputs ... SKIPPED
* checking PDF version of manual ... OK
* DONE

Status: 1 NOTE
See
  'F:/biocbuild/bbs-3.19-bioc/meat/SparseSignatures.Rcheck/00check.log'
for details.


Installation output

SparseSignatures.Rcheck/00install.out

##############################################################################
##############################################################################
###
### Running command:
###
###   F:\biocbuild\bbs-3.19-bioc\R\bin\R.exe CMD INSTALL SparseSignatures
###
##############################################################################
##############################################################################


* installing to library 'F:/biocbuild/bbs-3.19-bioc/R/library'
* installing *source* package 'SparseSignatures' ...
** using staged installation
** R
** data
** inst
** byte-compile and prepare package for lazy loading
** help
*** installing help indices
** building package indices
** installing vignettes
** testing if installed package can be loaded from temporary location
** testing if installed package can be loaded from final location
** testing if installed package keeps a record of temporary installation path
* DONE (SparseSignatures)

Tests output

SparseSignatures.Rcheck/tests/testthat.Rout


R version 4.4.0 (2024-04-24 ucrt) -- "Puppy Cup"
Copyright (C) 2024 The R Foundation for Statistical Computing
Platform: x86_64-w64-mingw32/x64

R is free software and comes with ABSOLUTELY NO WARRANTY.
You are welcome to redistribute it under certain conditions.
Type 'license()' or 'licence()' for distribution details.

R is a collaborative project with many contributors.
Type 'contributors()' for more information and
'citation()' on how to cite R or R packages in publications.

Type 'demo()' for some demos, 'help()' for on-line help, or
'help.start()' for an HTML browser interface to help.
Type 'q()' to quit R.

> Sys.setenv("R_TESTS" = "")
> 
> library("testthat")
> library("SparseSignatures")
Loading required package: NMF
Loading required package: registry
Loading required package: rngtools
Loading required package: cluster
NMF - BioConductor layer [OK] | Shared memory capabilities [NO: windows] | Cores 2/2

Attaching package: 'NMF'

The following object is masked from 'package:testthat':

    compare

> 
> test_check("SparseSignatures")
[ FAIL 0 | WARN 0 | SKIP 0 | PASS 1 ]
> 
> proc.time()
   user  system elapsed 
  12.96   17.40   30.71 

Example timings

SparseSignatures.Rcheck/SparseSignatures-Ex.timings

nameusersystemelapsed
import.trinucleotides.counts2.643.336.14
lambdaRangeAlphaEvaluation73.99 0.6774.67
lambdaRangeBetaEvaluation82.55 1.4183.95
nmfLasso5.190.065.26
nmfLassoBootstrap15.78 3.0918.84
nmfLassoCV15.98 0.7516.72
patients.plot1.670.091.84
sigAssignmentCV0.130.000.13
sigAssignmentEvaluation1.780.021.79
sigAssignmentLasso0.840.020.86
signatures.plot3.190.203.39
startingBetaEstimation3.870.013.89