Back to Multiple platform build/check report for BioC 3.14
ABCDEFGHIJKLMNOPQR[S]TUVWXYZ

This page was generated on 2021-11-24 15:05:49 -0500 (Wed, 24 Nov 2021).

BUILD results for SomaticSignatures on tokay2

To the developers/maintainers of the SomaticSignatures package:
- Please allow up to 24 hours (and sometimes 48 hours) for your latest push to git@git.bioconductor.org:packages/SomaticSignatures.git to
reflect on this report. See How and When does the builder pull? When will my changes propagate? here for more information.
- Make sure to use the following settings in order to reproduce any error or warning you see on this page.

raw results

Package 1835/2083HostnameOS / ArchINSTALLBUILDCHECKBUILD BIN
SomaticSignatures 2.30.0  (landing page)
Julian Gehring
Snapshot Date: 2021-11-23 04:15:06 -0500 (Tue, 23 Nov 2021)
git_url: https://git.bioconductor.org/packages/SomaticSignatures
git_branch: RELEASE_3_14
git_last_commit: 03f7ad7
git_last_commit_date: 2021-10-26 12:11:42 -0500 (Tue, 26 Oct 2021)
nebbiolo2Linux (Ubuntu 20.04.3 LTS) / x86_64  OK    OK    OK  UNNEEDED, same version is already published
tokay2Windows Server 2012 R2 Standard / x64  OK    OK    OK    OK  UNNEEDED, same version is already published
machv2macOS 10.14.6 Mojave / x86_64  OK    OK    OK    OK  UNNEEDED, same version is already published

Summary

Package: SomaticSignatures
Version: 2.30.0
Command: chmod a+r SomaticSignatures -R && C:\Users\biocbuild\bbs-3.14-bioc\R\bin\R.exe CMD build --keep-empty-dirs --no-resave-data SomaticSignatures
StartedAt: 2021-11-23 16:40:31 -0500 (Tue, 23 Nov 2021)
EndedAt: 2021-11-23 16:49:52 -0500 (Tue, 23 Nov 2021)
EllapsedTime: 560.8 seconds
RetCode: 0
Status:   OK  
PackageFile: SomaticSignatures_2.30.0.tar.gz
PackageFileSize: 718.6 KiB

Command output

##############################################################################
##############################################################################
###
### Running command:
###
###   chmod a+r SomaticSignatures -R && C:\Users\biocbuild\bbs-3.14-bioc\R\bin\R.exe CMD build --keep-empty-dirs --no-resave-data SomaticSignatures
###
##############################################################################
##############################################################################


* checking for file 'SomaticSignatures/DESCRIPTION' ... OK
* preparing 'SomaticSignatures':
* checking DESCRIPTION meta-information ... OK
* installing the package to build vignettes
* creating vignettes ... OK
* checking for LF line-endings in source and make files and shell scripts
* checking for empty or unneeded directories
* looking to see if a 'data/datalist' file should be added
* building 'SomaticSignatures_2.30.0.tar.gz'