Back to Multiple platform build/check report for BioC 3.13
ABCDEFGHIJKLMNOPQR[S]TUVWXYZ

All results for package SingleCellSignalR

This page was generated on 2021-06-11 14:05:31 -0400 (Fri, 11 Jun 2021).

Package 1777/2041HostnameOS / ArchINSTALLBUILDCHECKBUILD BIN
SingleCellSignalR 1.4.0  (landing page)
Jacques Colinge
Snapshot Date: 2021-06-10 06:50:12 -0400 (Thu, 10 Jun 2021)
URL: https://git.bioconductor.org/packages/SingleCellSignalR
Branch: RELEASE_3_13
Last Commit: 7bf26c8
Last Changed Date: 2021-05-19 12:52:18 -0400 (Wed, 19 May 2021)
nebbiolo1Linux (Ubuntu 20.04.2 LTS) / x86_64  OK    OK    WARNINGS  UNNEEDED, same version is already published
tokay2Windows Server 2012 R2 Standard / x64  OK    OK    WARNINGS    OK  UNNEEDED, same version is already published
machv2macOS 10.14.6 Mojave / x86_64  OK    OK    WARNINGS    OK  UNNEEDED, same version is already published