Index of /checkResults/release/bioc-LATEST/SigsPack/raw-results/nebbiolo1

[ICO]NameLast modifiedSizeDescription

[DIR]Parent Directory  -  
[TXT]buildsrc-out.txt17-Jul-2024 06:39 810  
[   ]buildsrc-summary.dcf17-Jul-2024 06:39 418  
[TXT]checksrc-out.txt17-Jul-2024 06:39 3.3K 
[   ]checksrc-summary.dcf17-Jul-2024 06:39 418  
[TXT]install-out.txt17-Jul-2024 06:39 1.0K 
[   ]install-summary.dcf17-Jul-2024 06:39 260