Index of /checkResults/release/bioc-LATEST/SigsPack/raw-results

[ICO]NameLast modifiedSizeDescription

[DIR]Parent Directory  -  
[   ]info.dcf19-Jun-2024 06:57 292  
[DIR]kjohnson1/19-Jun-2024 07:02 -  
[DIR]kjohnson3/12-Jun-2024 03:44 -  
[DIR]kunpeng2/10-May-2024 00:41 -  
[DIR]lconway/12-Jun-2024 03:43 -  
[DIR]merida1/19-Jun-2024 07:00 -  
[DIR]nebbiolo1/19-Jun-2024 06:58 -  
[DIR]palomino3/19-Jun-2024 06:59 -