Back to Multiple platform build/check report for BioC 3.13
ABCDEFGHIJKLMNOPQR[S]TUVWXYZ

This page was generated on 2021-08-02 15:05:31 -0400 (Mon, 02 Aug 2021).

BUILD BIN results for SRAdb on tokay2

To the developers/maintainers of the SRAdb package:
- Please allow up to 24 hours (and sometimes 48 hours) for your latest push to git@git.bioconductor.org:packages/SRAdb.git to
reflect on this report. See How and When does the builder pull? When will my changes propagate? here for more information.
- Make sure to use the following settings in order to reproduce any error or warning you see on this page.

raw results

Package 1840/2041HostnameOS / ArchINSTALLBUILDCHECKBUILD BIN
SRAdb 1.54.0  (landing page)
Jack Zhu
Snapshot Date: 2021-08-01 04:50:10 -0400 (Sun, 01 Aug 2021)
URL: https://git.bioconductor.org/packages/SRAdb
Branch: RELEASE_3_13
Last Commit: d4df032
Last Changed Date: 2021-05-19 11:45:18 -0400 (Wed, 19 May 2021)
nebbiolo1Linux (Ubuntu 20.04.2 LTS) / x86_64  OK    OK    OK  UNNEEDED, same version is already published
tokay2Windows Server 2012 R2 Standard / x64  OK    OK    OK    OK  UNNEEDED, same version is already published
machv2macOS 10.14.6 Mojave / x86_64  OK    OK    OK    OK  UNNEEDED, same version is already published

Summary

Package: SRAdb
Version: 1.54.0
Command: rm -rf SRAdb.buildbin-libdir && mkdir SRAdb.buildbin-libdir && C:\Users\biocbuild\bbs-3.13-bioc\R\bin\R.exe CMD INSTALL --merge-multiarch --build --library=SRAdb.buildbin-libdir SRAdb_1.54.0.tar.gz
StartedAt: 2021-08-02 11:43:34 -0400 (Mon, 02 Aug 2021)
EndedAt: 2021-08-02 11:45:13 -0400 (Mon, 02 Aug 2021)
EllapsedTime: 99.4 seconds
RetCode: 0
Status:   OK  
PackageFile: SRAdb_1.54.0.zip
PackageFileSize: 798.7 KiB

Command output

##############################################################################
##############################################################################
###
### Running command:
###
###   rm -rf SRAdb.buildbin-libdir && mkdir SRAdb.buildbin-libdir && C:\Users\biocbuild\bbs-3.13-bioc\R\bin\R.exe CMD INSTALL --merge-multiarch --build --library=SRAdb.buildbin-libdir SRAdb_1.54.0.tar.gz
###
##############################################################################
##############################################################################



install for i386

* installing *source* package 'SRAdb' ...
** using staged installation
** R
** inst
** byte-compile and prepare package for lazy loading
** help
*** installing help indices
  converting help for package 'SRAdb'
    finding HTML links ... done
    IGVclear                                html  
    IGVcollapse                             html  
    IGVgenome                               html  
    IGVgoto                                 html  
    IGVload                                 html  
    IGVsession                              html  
    IGVsnapshot                             html  
    IGVsocket                               html  
    IGVsort                                 html  
    SRAdb-package                           html  
    ascpR                                   html  
    ascpSRA                                 html  
    colDescriptions                         html  
    entityGraph                             html  
    getFASTQfile                            html  
    getFASTQinfo                            html  
    getSRA                                  html  
    getSRAdbFile                            html  
    getSRAfile                              html  
    getSRAinfo                              html  
    listSRAfile                             html  
    sraConvert                              html  
    sraGraph                                html  
    startIGV                                html  
** building package indices
** installing vignettes
** testing if installed package can be loaded from temporary location
** testing if installed package can be loaded from final location
** testing if installed package keeps a record of temporary installation path

install for x64

* installing *source* package 'SRAdb' ...
** testing if installed package can be loaded
* MD5 sums
packaged installation of 'SRAdb' as SRAdb_1.54.0.zip
* DONE (SRAdb)