Index of /checkResults/release/bioc-LATEST/SRAdb/raw-results/nebbiolo1

[ICO]NameLast modifiedSizeDescription

[DIR]Parent Directory  -  
[TXT]buildsrc-out.txt16-Oct-2021 04:05 798  
[   ]buildsrc-summary.dcf16-Oct-2021 04:05 411  
[TXT]checksrc-out.txt16-Oct-2021 04:05 5.3K 
[   ]checksrc-summary.dcf16-Oct-2021 04:05 415  
[TXT]install-out.txt16-Oct-2021 04:05 941  
[   ]install-summary.dcf16-Oct-2021 04:05 254