Back to Multiple platform build/check report for BioC 3.13
ABCDEFGHIJKLMNOPQR[S]TUVWXYZ

This page was generated on 2021-09-17 15:06:23 -0400 (Fri, 17 Sep 2021).

BUILD BIN results for SIMAT on tokay2

To the developers/maintainers of the SIMAT package:
- Please allow up to 24 hours (and sometimes 48 hours) for your latest push to git@git.bioconductor.org:packages/SIMAT.git to
reflect on this report. See How and When does the builder pull? When will my changes propagate? here for more information.
- Make sure to use the following settings in order to reproduce any error or warning you see on this page.

raw results

Package 1767/2041HostnameOS / ArchINSTALLBUILDCHECKBUILD BIN
SIMAT 1.24.0  (landing page)
M. R. Nezami Ranjbar
Snapshot Date: 2021-09-16 04:50:11 -0400 (Thu, 16 Sep 2021)
git_url: https://git.bioconductor.org/packages/SIMAT
git_branch: RELEASE_3_13
git_last_commit: 07b989a
git_last_commit_date: 2021-05-19 12:11:54 -0400 (Wed, 19 May 2021)
nebbiolo1Linux (Ubuntu 20.04.2 LTS) / x86_64  OK    OK    OK  UNNEEDED, same version is already published
tokay2Windows Server 2012 R2 Standard / x64  OK    OK    OK    OK  UNNEEDED, same version is already published
machv2macOS 10.14.6 Mojave / x86_64  OK    OK    OK    OK  UNNEEDED, same version is already published

Summary

Package: SIMAT
Version: 1.24.0
Command: rm -rf SIMAT.buildbin-libdir && mkdir SIMAT.buildbin-libdir && C:\Users\biocbuild\bbs-3.13-bioc\R\bin\R.exe CMD INSTALL --merge-multiarch --build --library=SIMAT.buildbin-libdir SIMAT_1.24.0.tar.gz
StartedAt: 2021-09-17 11:59:02 -0400 (Fri, 17 Sep 2021)
EndedAt: 2021-09-17 12:00:23 -0400 (Fri, 17 Sep 2021)
EllapsedTime: 80.8 seconds
RetCode: 0
Status:   OK  
PackageFile: SIMAT_1.24.0.zip
PackageFileSize: 1.142 MiB

Command output

##############################################################################
##############################################################################
###
### Running command:
###
###   rm -rf SIMAT.buildbin-libdir && mkdir SIMAT.buildbin-libdir && C:\Users\biocbuild\bbs-3.13-bioc\R\bin\R.exe CMD INSTALL --merge-multiarch --build --library=SIMAT.buildbin-libdir SIMAT_1.24.0.tar.gz
###
##############################################################################
##############################################################################



install for i386

* installing *source* package 'SIMAT' ...
** using staged installation
** R
** data
** inst
** byte-compile and prepare package for lazy loading
** help
*** installing help indices
  converting help for package 'SIMAT'
    finding HTML links ... done
    Library                                 html  
    RItable                                 html  
    Run                                     html  
    SIMAT-package                           html  
    Targets                                 html  
    getEIC                                  html  
    getPeak                                 html  
    getPeakScore                            html  
    getRI                                   html  
    getRIStandard                           html  
    getScore                                html  
    getTarget                               html  
    getTargetTable                          html  
    optFrag                                 html  
    plotEIC                                 html  
    plotTIC                                 html  
    putTargetTable                          html  
    readCDF                                 html  
    readMSL                                 html  
    target.table                            html  
    writeMSL                                html  
    writeResult                             html  
** building package indices
** installing vignettes
** testing if installed package can be loaded from temporary location
** testing if installed package can be loaded from final location
** testing if installed package keeps a record of temporary installation path

install for x64

* installing *source* package 'SIMAT' ...
** testing if installed package can be loaded
* MD5 sums
packaged installation of 'SIMAT' as SIMAT_1.24.0.zip
* DONE (SIMAT)