Index of /checkResults/release/bioc-LATEST/SCBN/raw-results/nebbiolo1

[ICO]NameLast modifiedSizeDescription

[DIR]Parent Directory  -  
[TXT]buildsrc-out.txt10-Jul-2024 06:39 794  
[   ]buildsrc-summary.dcf10-Jul-2024 06:39 408  
[TXT]checksrc-out.txt10-Jul-2024 06:39 3.3K 
[   ]checksrc-summary.dcf10-Jul-2024 06:39 402  
[TXT]install-out.txt10-Jul-2024 06:39 1.0K 
[   ]install-summary.dcf10-Jul-2024 06:39 252