Back to Multiple platform build/check report for BioC 3.13
ABCDEFGHIJKLMNOPQR[S]TUVWXYZ

This page was generated on 2021-09-20 15:05:56 -0400 (Mon, 20 Sep 2021).

BUILD results for S4Vectors on machv2

To the developers/maintainers of the S4Vectors package:
- Please allow up to 24 hours (and sometimes 48 hours) for your latest push to git@git.bioconductor.org:packages/S4Vectors.git to
reflect on this report. See How and When does the builder pull? When will my changes propagate? here for more information.
- Make sure to use the following settings in order to reproduce any error or warning you see on this page.

raw results

Package 1660/2041HostnameOS / ArchINSTALLBUILDCHECKBUILD BIN
S4Vectors 0.30.0  (landing page)
Bioconductor Package Maintainer
Snapshot Date: 2021-09-19 04:50:10 -0400 (Sun, 19 Sep 2021)
git_url: https://git.bioconductor.org/packages/S4Vectors
git_branch: RELEASE_3_13
git_last_commit: ed0165c
git_last_commit_date: 2021-05-19 12:05:03 -0400 (Wed, 19 May 2021)
nebbiolo1Linux (Ubuntu 20.04.2 LTS) / x86_64  OK    OK    WARNINGS  UNNEEDED, same version is already published
tokay2Windows Server 2012 R2 Standard / x64  OK    OK    WARNINGS    OK  UNNEEDED, same version is already published
machv2macOS 10.14.6 Mojave / x86_64  OK    OK    WARNINGS    OK  UNNEEDED, same version is already published

Summary

Package: S4Vectors
Version: 0.30.0
Command: /Library/Frameworks/R.framework/Versions/Current/Resources/bin/R CMD build --keep-empty-dirs --no-resave-data S4Vectors
StartedAt: 2021-09-19 14:29:45 -0400 (Sun, 19 Sep 2021)
EndedAt: 2021-09-19 14:30:59 -0400 (Sun, 19 Sep 2021)
EllapsedTime: 74.2 seconds
RetCode: 0
Status:   OK  
PackageFile: S4Vectors_0.30.0.tar.gz
PackageFileSize: 657.6 KiB

Command output

##############################################################################
##############################################################################
###
### Running command:
###
###   /Library/Frameworks/R.framework/Versions/Current/Resources/bin/R CMD build --keep-empty-dirs --no-resave-data S4Vectors
###
##############################################################################
##############################################################################


* checking for file ‘S4Vectors/DESCRIPTION’ ... OK
* preparing ‘S4Vectors’:
* checking DESCRIPTION meta-information ... OK
* cleaning src
* installing the package to build vignettes
* creating vignettes ... OK
* cleaning src
* checking for LF line-endings in source and make files and shell scripts
* checking for empty or unneeded directories
* building ‘S4Vectors_0.30.0.tar.gz’