Back to Multiple platform build/check report for BioC 3.18:   simplified   long
ABCDEFGHIJKLMNOPQ[R]STUVWXYZ

This page was generated on 2024-03-29 11:35:29 -0400 (Fri, 29 Mar 2024).

HostnameOSArch (*)R versionInstalled pkgs
nebbiolo2Linux (Ubuntu 22.04.3 LTS)x86_644.3.3 (2024-02-29) -- "Angel Food Cake" 4669
palomino4Windows Server 2022 Datacenterx644.3.3 (2024-02-29 ucrt) -- "Angel Food Cake" 4404
merida1macOS 12.7.1 Montereyx86_644.3.3 (2024-02-29) -- "Angel Food Cake" 4427
Click on any hostname to see more info about the system (e.g. compilers)      (*) as reported by 'uname -p', except on Windows and Mac OS X

All results for package Rsamtools


To the developers/maintainers of the Rsamtools package:
- Allow up to 24 hours (and sometimes 48 hours) for your latest push to git@git.bioconductor.org:packages/Rsamtools.git to reflect on this report. See Troubleshooting Build Report for more information.
- Use the following Renviron settings to reproduce errors and warnings.
- If 'R CMD check' started to fail recently on the Linux builder(s) over a missing dependency, add the missing dependency to 'Suggests:' in your DESCRIPTION file. See Renviron.bioc for more information.

raw results

Package 1804/2266HostnameOS / ArchINSTALLBUILDCHECKBUILD BIN
Rsamtools 2.18.0  (landing page)
Bioconductor Package Maintainer
Snapshot Date: 2024-03-27 14:05:05 -0400 (Wed, 27 Mar 2024)
git_url: https://git.bioconductor.org/packages/Rsamtools
git_branch: RELEASE_3_18
git_last_commit: fbb12d4
git_last_commit_date: 2023-10-24 09:43:40 -0400 (Tue, 24 Oct 2023)
nebbiolo2Linux (Ubuntu 22.04.3 LTS) / x86_64  OK    OK    WARNINGS  UNNEEDED, same version is already published
palomino4Windows Server 2022 Datacenter / x64  OK    OK    WARNINGS    OK  UNNEEDED, same version is already published
merida1macOS 12.7.1 Monterey / x86_64  OK    OK    WARNINGS    OK  UNNEEDED, same version is already published
kjohnson1macOS 13.6.1 Ventura / arm64see weekly results here

Results for Bioconductor software packages that depend directly on package Rsamtools

QUICK STATSOS / ArchINSTALLBUILDCHECKBUILD BIN
nebbiolo2Linux (Ubuntu 22.04.3 LTS) / x86_64
00184
02182
1352126
palomino4Windows Server 2022 Datacenter / x64
00176
01175
0444127
00175
merida1macOS 12.7.1 Monterey / x86_64
01182
04179
0350126
00179
Package 1/184HostnameOS / ArchINSTALLBUILDCHECKBUILD BIN
alabaster.files 1.0.0  (landing page)
Aaron Lun
git_last_commit: 7ed9441
git_last_commit_date: 2023-10-24 11:49:55 -0400
nebbiolo2Linux (Ubuntu 22.04.3 LTS) / x86_64  OK    OK    OK  UNNEEDED, same version is already published
palomino4Windows Server 2022 Datacenter / x64  OK    OK    OK    OK  UNNEEDED, same version is already published
merida1macOS 12.7.1 Monterey / x86_64  OK    OK    OK    OK  UNNEEDED, same version is already published
kjohnson1macOS 13.6.1 Ventura / arm64see weekly results here
Package 2/184HostnameOS / ArchINSTALLBUILDCHECKBUILD BIN
alabaster.vcf 1.2.0  (landing page)
Aaron Lun
git_last_commit: 1a436b8
git_last_commit_date: 2023-10-24 11:47:16 -0400
nebbiolo2Linux (Ubuntu 22.04.3 LTS) / x86_64  OK    OK    OK  UNNEEDED, same version is already published
palomino4Windows Server 2022 Datacenter / x64  OK    OK    OK    OK  UNNEEDED, same version is already published
merida1macOS 12.7.1 Monterey / x86_64  OK    OK    OK    OK  UNNEEDED, same version is already published
kjohnson1macOS 13.6.1 Ventura / arm64see weekly results here
Package 3/184HostnameOS / ArchINSTALLBUILDCHECKBUILD BIN
AllelicImbalance 1.40.0  (landing page)
Jesper R Gadin
git_last_commit: e3fc911
git_last_commit_date: 2023-10-24 09:56:05 -0400
nebbiolo2Linux (Ubuntu 22.04.3 LTS) / x86_64  OK    OK    OK  UNNEEDED, same version is already published
palomino4Windows Server 2022 Datacenter / x64  OK    OK    OK    OK  UNNEEDED, same version is already published
merida1macOS 12.7.1 Monterey / x86_64  OK    OK    OK    OK  UNNEEDED, same version is already published
kjohnson1macOS 13.6.1 Ventura / arm64see weekly results here
Package 4/184HostnameOS / ArchINSTALLBUILDCHECKBUILD BIN
AneuFinder 1.30.0  (landing page)
Aaron Taudt
git_last_commit: f0c9ccf
git_last_commit_date: 2023-10-24 10:48:50 -0400
nebbiolo2Linux (Ubuntu 22.04.3 LTS) / x86_64  OK    OK    OK  UNNEEDED, same version is already published
palomino4Windows Server 2022 Datacenter / x64  OK    OK    OK    OK  UNNEEDED, same version is already published
merida1macOS 12.7.1 Monterey / x86_64  OK    OK    OK    OK  UNNEEDED, same version is already published
kjohnson1macOS 13.6.1 Ventura / arm64see weekly results here
Package 5/184HostnameOS / ArchINSTALLBUILDCHECKBUILD BIN
annmap 1.44.0  (landing page)
Chris Wirth
git_last_commit: 039a9a2
git_last_commit_date: 2023-10-24 09:50:21 -0400
nebbiolo2Linux (Ubuntu 22.04.3 LTS) / x86_64  OK    OK    WARNINGS  UNNEEDED, same version is already published
palomino4Windows Server 2022 Datacenter / x64... NOT SUPPORTED ...
merida1macOS 12.7.1 Monterey / x86_64  OK    OK    WARNINGS    OK  UNNEEDED, same version is already published
kjohnson1macOS 13.6.1 Ventura / arm64see weekly results here
Package 6/184HostnameOS / ArchINSTALLBUILDCHECKBUILD BIN
AnnotationHubData 1.32.1  (landing page)
Bioconductor Package Maintainer
git_last_commit: 938caa2
git_last_commit_date: 2024-02-12 13:07:50 -0400
nebbiolo2Linux (Ubuntu 22.04.3 LTS) / x86_64  OK    OK    WARNINGS  UNNEEDED, same version is already published
palomino4Windows Server 2022 Datacenter / x64  OK    OK    WARNINGS    OK  UNNEEDED, same version is already published
merida1macOS 12.7.1 Monterey / x86_64  OK    OK    WARNINGS    OK  UNNEEDED, same version is already published
kjohnson1macOS 13.6.1 Ventura / arm64see weekly results here
Package 7/184HostnameOS / ArchINSTALLBUILDCHECKBUILD BIN
APAlyzer 1.16.0  (landing page)
Ruijia Wang
git_last_commit: 9a02db1
git_last_commit_date: 2023-10-24 11:15:41 -0400
nebbiolo2Linux (Ubuntu 22.04.3 LTS) / x86_64  OK    OK    WARNINGS  UNNEEDED, same version is already published
palomino4Windows Server 2022 Datacenter / x64  OK    OK    WARNINGS    OK  UNNEEDED, same version is already published
merida1macOS 12.7.1 Monterey / x86_64  OK    OK    WARNINGS    OK  UNNEEDED, same version is already published
kjohnson1macOS 13.6.1 Ventura / arm64see weekly results here
Package 8/184HostnameOS / ArchINSTALLBUILDCHECKBUILD BIN
appreci8R 1.20.2  (landing page)
Sarah Sandmann
git_last_commit: 491a34d
git_last_commit_date: 2024-02-14 07:29:50 -0400
nebbiolo2Linux (Ubuntu 22.04.3 LTS) / x86_64  OK    OK    OK  UNNEEDED, same version is already published
palomino4Windows Server 2022 Datacenter / x64  OK    OK    OK    OK  UNNEEDED, same version is already published
merida1macOS 12.7.1 Monterey / x86_64  OK    OK    OK    OK  UNNEEDED, same version is already published
kjohnson1macOS 13.6.1 Ventura / arm64see weekly results here
Package 9/184HostnameOS / ArchINSTALLBUILDCHECKBUILD BIN
ASpli 2.12.0  (landing page)
Ariel Chernomoretz
git_last_commit: bf94d05
git_last_commit_date: 2023-10-24 10:51:51 -0400
nebbiolo2Linux (Ubuntu 22.04.3 LTS) / x86_64  OK    OK    WARNINGS  UNNEEDED, same version is already published
palomino4Windows Server 2022 Datacenter / x64  OK    OK    WARNINGS    OK  UNNEEDED, same version is already published
merida1macOS 12.7.1 Monterey / x86_64  OK    OK    WARNINGS    OK  UNNEEDED, same version is already published
kjohnson1macOS 13.6.1 Ventura / arm64see weekly results here
Package 10/184HostnameOS / ArchINSTALLBUILDCHECKBUILD BIN
ATACseqQC 1.26.0  (landing page)
Jianhong Ou
git_last_commit: 415dbcb
git_last_commit_date: 2023-10-24 10:57:16 -0400
nebbiolo2Linux (Ubuntu 22.04.3 LTS) / x86_64  OK    OK    OK  UNNEEDED, same version is already published
palomino4Windows Server 2022 Datacenter / x64  OK    OK    OK    OK  UNNEEDED, same version is already published
merida1macOS 12.7.1 Monterey / x86_64  OK    OK    OK    OK  UNNEEDED, same version is already published
kjohnson1macOS 13.6.1 Ventura / arm64see weekly results here
Package 11/184HostnameOS / ArchINSTALLBUILDCHECKBUILD BIN
ATACseqTFEA 1.4.0  (landing page)
Jianhong Ou
git_last_commit: a8b0929
git_last_commit_date: 2023-10-24 11:43:31 -0400
nebbiolo2Linux (Ubuntu 22.04.3 LTS) / x86_64  OK    OK    OK  UNNEEDED, same version is already published
palomino4Windows Server 2022 Datacenter / x64  OK    OK    OK    OK  UNNEEDED, same version is already published
merida1macOS 12.7.1 Monterey / x86_64  OK    OK    OK    OK  UNNEEDED, same version is already published
kjohnson1macOS 13.6.1 Ventura / arm64see weekly results here
Package 12/184HostnameOS / ArchINSTALLBUILDCHECKBUILD BIN
atena 1.8.0  (landing page)
Beatriz Calvo-Serra
git_last_commit: 634a469
git_last_commit_date: 2023-10-24 11:36:26 -0400
nebbiolo2Linux (Ubuntu 22.04.3 LTS) / x86_64  OK    OK    OK  UNNEEDED, same version is already published
palomino4Windows Server 2022 Datacenter / x64  OK    OK    OK    OK  UNNEEDED, same version is already published
merida1macOS 12.7.1 Monterey / x86_64  OK    OK    OK    OK  UNNEEDED, same version is already published
kjohnson1macOS 13.6.1 Ventura / arm64see weekly results here
Package 13/184HostnameOS / ArchINSTALLBUILDCHECKBUILD BIN
BaalChIP 1.28.0  (landing page)
Ines de Santiago
git_last_commit: 7efb036
git_last_commit_date: 2023-10-24 10:52:41 -0400
nebbiolo2Linux (Ubuntu 22.04.3 LTS) / x86_64  OK    OK    WARNINGS  UNNEEDED, same version is already published
palomino4Windows Server 2022 Datacenter / x64  OK    OK    WARNINGS    OK  UNNEEDED, same version is already published
merida1macOS 12.7.1 Monterey / x86_64  OK    OK    WARNINGS    OK  UNNEEDED, same version is already published
kjohnson1macOS 13.6.1 Ventura / arm64see weekly results here
Package 14/184HostnameOS / ArchINSTALLBUILDCHECKBUILD BIN
BadRegionFinder 1.30.0  (landing page)
Sarah Sandmann
git_last_commit: b58606f
git_last_commit_date: 2023-10-24 10:49:13 -0400
nebbiolo2Linux (Ubuntu 22.04.3 LTS) / x86_64  OK    OK    OK  UNNEEDED, same version is already published
palomino4Windows Server 2022 Datacenter / x64  OK    OK    OK    OK  UNNEEDED, same version is already published
merida1macOS 12.7.1 Monterey / x86_64  OK    OK    OK    OK  UNNEEDED, same version is already published
kjohnson1macOS 13.6.1 Ventura / arm64see weekly results here
Package 15/184HostnameOS / ArchINSTALLBUILDCHECKBUILD BIN
bambu 3.4.0  (landing page)
Ying Chen
git_last_commit: bf38f6d
git_last_commit_date: 2023-10-24 11:27:04 -0400
nebbiolo2Linux (Ubuntu 22.04.3 LTS) / x86_64  OK    OK    TIMEOUT  
palomino4Windows Server 2022 Datacenter / x64  OK    OK    OK    OK  UNNEEDED, same version is already published
merida1macOS 12.7.1 Monterey / x86_64  OK    OK    OK    OK  UNNEEDED, same version is already published
kjohnson1macOS 13.6.1 Ventura / arm64see weekly results here
Package 16/184HostnameOS / ArchINSTALLBUILDCHECKBUILD BIN
BBCAnalyzer 1.32.0  (landing page)
Sarah Sandmann
git_last_commit: eb90d95
git_last_commit_date: 2023-10-24 10:44:49 -0400
nebbiolo2Linux (Ubuntu 22.04.3 LTS) / x86_64  OK    OK    OK  UNNEEDED, same version is already published
palomino4Windows Server 2022 Datacenter / x64  OK    OK    WARNINGS    OK  UNNEEDED, same version is already published
merida1macOS 12.7.1 Monterey / x86_64  OK    OK    OK    OK  UNNEEDED, same version is already published
kjohnson1macOS 13.6.1 Ventura / arm64see weekly results here
Package 17/184HostnameOS / ArchINSTALLBUILDCHECKBUILD BIN
biovizBase 1.50.0  (landing page)
Michael Lawrence
git_last_commit: c961633
git_last_commit_date: 2023-10-24 09:48:08 -0400
nebbiolo2Linux (Ubuntu 22.04.3 LTS) / x86_64  OK    OK    WARNINGS  UNNEEDED, same version is already published
palomino4Windows Server 2022 Datacenter / x64  OK    OK    WARNINGS    OK  UNNEEDED, same version is already published
merida1macOS 12.7.1 Monterey / x86_64  OK    OK    WARNINGS    OK  UNNEEDED, same version is already published
kjohnson1macOS 13.6.1 Ventura / arm64see weekly results here
Package 18/184HostnameOS / ArchINSTALLBUILDCHECKBUILD BIN
biscuiteer 1.16.0  (landing page)
Jacob Morrison
git_last_commit: ebfa0bf
git_last_commit_date: 2023-10-24 11:17:31 -0400
nebbiolo2Linux (Ubuntu 22.04.3 LTS) / x86_64  OK    OK    WARNINGS  UNNEEDED, same version is already published
palomino4Windows Server 2022 Datacenter / x64  OK    OK    WARNINGS    OK  UNNEEDED, same version is already published
merida1macOS 12.7.1 Monterey / x86_64  OK    OK    WARNINGS    OK  UNNEEDED, same version is already published
kjohnson1macOS 13.6.1 Ventura / arm64see weekly results here
Package 19/184HostnameOS / ArchINSTALLBUILDCHECKBUILD BIN
breakpointR 1.20.0  (landing page)
David Porubsky
git_last_commit: eef3f27
git_last_commit_date: 2023-10-24 11:08:00 -0400
nebbiolo2Linux (Ubuntu 22.04.3 LTS) / x86_64  OK    OK    OK  UNNEEDED, same version is already published
palomino4Windows Server 2022 Datacenter / x64  OK    OK    OK    OK  UNNEEDED, same version is already published
merida1macOS 12.7.1 Monterey / x86_64  OK    OK    OK    OK  UNNEEDED, same version is already published
kjohnson1macOS 13.6.1 Ventura / arm64see weekly results here
Package 20/184HostnameOS / ArchINSTALLBUILDCHECKBUILD BIN
BRGenomics 1.14.1  (landing page)
Mike DeBerardine
git_last_commit: bbd90bf
git_last_commit_date: 2024-02-29 16:27:31 -0400
nebbiolo2Linux (Ubuntu 22.04.3 LTS) / x86_64  OK    OK    OK  UNNEEDED, same version is already published
palomino4Windows Server 2022 Datacenter / x64  OK    OK    OK    OK  UNNEEDED, same version is already published
merida1macOS 12.7.1 Monterey / x86_64  OK    OK    OK    OK  UNNEEDED, same version is already published
kjohnson1macOS 13.6.1 Ventura / arm64see weekly results here
Package 21/184HostnameOS / ArchINSTALLBUILDCHECKBUILD BIN
BSgenome 1.70.2  (landing page)
Hervé Pagès
git_last_commit: 77b80d5
git_last_commit_date: 2024-02-07 18:38:59 -0400
nebbiolo2Linux (Ubuntu 22.04.3 LTS) / x86_64  OK    OK    WARNINGS  UNNEEDED, same version is already published
palomino4Windows Server 2022 Datacenter / x64  OK    OK    WARNINGS    OK  UNNEEDED, same version is already published
merida1macOS 12.7.1 Monterey / x86_64  OK    OK    WARNINGS    OK  UNNEEDED, same version is already published
kjohnson1macOS 13.6.1 Ventura / arm64see weekly results here
Package 22/184HostnameOS / ArchINSTALLBUILDCHECKBUILD BIN
CAGEr 2.8.0  (landing page)
Charles Plessy
git_last_commit: 6ad953b
git_last_commit_date: 2023-10-24 09:52:59 -0400
nebbiolo2Linux (Ubuntu 22.04.3 LTS) / x86_64  OK    OK    OK  UNNEEDED, same version is already published
palomino4Windows Server 2022 Datacenter / x64  OK    OK    OK    OK  UNNEEDED, same version is already published
merida1macOS 12.7.1 Monterey / x86_64  OK    OK    OK    OK  UNNEEDED, same version is already published
kjohnson1macOS 13.6.1 Ventura / arm64see weekly results here
Package 23/184HostnameOS / ArchINSTALLBUILDCHECKBUILD BIN
casper 2.36.0  (landing page)
David Rossell
git_last_commit: 10bb585
git_last_commit_date: 2023-10-24 09:52:32 -0400
nebbiolo2Linux (Ubuntu 22.04.3 LTS) / x86_64  OK    OK    OK  UNNEEDED, same version is already published
palomino4Windows Server 2022 Datacenter / x64  OK    OK    WARNINGS    OK  UNNEEDED, same version is already published
merida1macOS 12.7.1 Monterey / x86_64  OK    ERROR  skippedskipped
kjohnson1macOS 13.6.1 Ventura / arm64see weekly results here
Package 24/184HostnameOS / ArchINSTALLBUILDCHECKBUILD BIN
CellBarcode 1.8.1  (landing page)
Wenjie Sun
git_last_commit: a70f2d2
git_last_commit_date: 2024-02-20 03:53:33 -0400
nebbiolo2Linux (Ubuntu 22.04.3 LTS) / x86_64  OK    OK    OK  UNNEEDED, same version is already published
palomino4Windows Server 2022 Datacenter / x64  OK    OK    OK    OK  UNNEEDED, same version is already published
merida1macOS 12.7.1 Monterey / x86_64  OK    OK    OK    OK  UNNEEDED, same version is already published
kjohnson1macOS 13.6.1 Ventura / arm64see weekly results here
Package 25/184HostnameOS / ArchINSTALLBUILDCHECKBUILD BIN
cellbaseR 1.26.0  (landing page)
Mohammed OE Abdallah
git_last_commit: 0c5400a
git_last_commit_date: 2023-11-23 00:36:54 -0400
nebbiolo2Linux (Ubuntu 22.04.3 LTS) / x86_64  OK    OK    OK  UNNEEDED, same version is already published
palomino4Windows Server 2022 Datacenter / x64  OK    OK    OK    OK  UNNEEDED, same version is already published
merida1macOS 12.7.1 Monterey / x86_64  OK    OK    OK    OK  UNNEEDED, same version is already published
kjohnson1macOS 13.6.1 Ventura / arm64see weekly results here
Package 26/184HostnameOS / ArchINSTALLBUILDCHECKBUILD BIN
CexoR 1.40.0  (landing page)
Pedro Madrigal
git_last_commit: 0eb2404
git_last_commit_date: 2023-10-24 11:36:53 -0400
nebbiolo2Linux (Ubuntu 22.04.3 LTS) / x86_64  OK    OK    OK  UNNEEDED, same version is already published
palomino4Windows Server 2022 Datacenter / x64  OK    OK    OK    OK  UNNEEDED, same version is already published
merida1macOS 12.7.1 Monterey / x86_64  OK    OK    OK    OK  UNNEEDED, same version is already published
kjohnson1macOS 13.6.1 Ventura / arm64see weekly results here
Package 27/184HostnameOS / ArchINSTALLBUILDCHECKBUILD BIN
cfdnakit 1.0.0  (landing page)
Pitithat Puranachot
git_last_commit: 68ca26c
git_last_commit_date: 2023-10-24 11:49:49 -0400
nebbiolo2Linux (Ubuntu 22.04.3 LTS) / x86_64  OK    OK    OK  UNNEEDED, same version is already published
palomino4Windows Server 2022 Datacenter / x64  OK    OK    OK    OK  UNNEEDED, same version is already published
merida1macOS 12.7.1 Monterey / x86_64  OK    OK    OK    OK  UNNEEDED, same version is already published
kjohnson1macOS 13.6.1 Ventura / arm64see weekly results here
Package 28/184HostnameOS / ArchINSTALLBUILDCHECKBUILD BIN
cfDNAPro 1.8.0  (landing page)
Haichao Wang
git_last_commit: 01178b8
git_last_commit_date: 2023-10-24 11:35:16 -0400
nebbiolo2Linux (Ubuntu 22.04.3 LTS) / x86_64  OK    OK    WARNINGS  UNNEEDED, same version is already published
palomino4Windows Server 2022 Datacenter / x64  OK    OK    WARNINGS    OK  UNNEEDED, same version is already published
merida1macOS 12.7.1 Monterey / x86_64  OK    OK    WARNINGS    OK  UNNEEDED, same version is already published
kjohnson1macOS 13.6.1 Ventura / arm64see weekly results here
Package 29/184HostnameOS / ArchINSTALLBUILDCHECKBUILD BIN
chimeraviz 1.28.0  (landing page)
Stian Lågstad
git_last_commit: 2a2ebf3
git_last_commit_date: 2023-10-24 10:54:26 -0400
nebbiolo2Linux (Ubuntu 22.04.3 LTS) / x86_64  OK    OK    OK  UNNEEDED, same version is already published
palomino4Windows Server 2022 Datacenter / x64  OK    OK    OK    OK  UNNEEDED, same version is already published
merida1macOS 12.7.1 Monterey / x86_64  OK    OK    OK    OK  UNNEEDED, same version is already published
kjohnson1macOS 13.6.1 Ventura / arm64see weekly results here
Package 30/184HostnameOS / ArchINSTALLBUILDCHECKBUILD BIN
ChIPComp 1.32.0  (landing page)
Li Chen
git_last_commit: 46346bb
git_last_commit_date: 2023-10-24 10:44:51 -0400
nebbiolo2Linux (Ubuntu 22.04.3 LTS) / x86_64  OK    OK    OK  UNNEEDED, same version is already published
palomino4Windows Server 2022 Datacenter / x64  OK    OK    OK    OK  UNNEEDED, same version is already published
merida1macOS 12.7.1 Monterey / x86_64  OK    OK    OK    OK  UNNEEDED, same version is already published
kjohnson1macOS 13.6.1 Ventura / arm64see weekly results here
Package 31/184HostnameOS / ArchINSTALLBUILDCHECKBUILD BIN
ChIPexoQual 1.26.0  (landing page)
Rene Welch
git_last_commit: fb1b084
git_last_commit_date: 2023-10-24 10:55:06 -0400
nebbiolo2Linux (Ubuntu 22.04.3 LTS) / x86_64  OK    OK    OK  UNNEEDED, same version is already published
palomino4Windows Server 2022 Datacenter / x64  OK    OK    OK    OK  UNNEEDED, same version is already published
merida1macOS 12.7.1 Monterey / x86_64  OK    OK    OK    OK  UNNEEDED, same version is already published
kjohnson1macOS 13.6.1 Ventura / arm64see weekly results here
Package 32/184HostnameOS / ArchINSTALLBUILDCHECKBUILD BIN
ChIPpeakAnno 3.36.1  (landing page)
Jianhong Ou
git_last_commit: 105ec60
git_last_commit_date: 2024-02-15 15:06:09 -0400
nebbiolo2Linux (Ubuntu 22.04.3 LTS) / x86_64  OK    OK    OK  UNNEEDED, same version is already published
palomino4Windows Server 2022 Datacenter / x64  OK    OK    OK    OK  UNNEEDED, same version is already published
merida1macOS 12.7.1 Monterey / x86_64  OK    OK    OK    OK  UNNEEDED, same version is already published
kjohnson1macOS 13.6.1 Ventura / arm64see weekly results here
Package 33/184HostnameOS / ArchINSTALLBUILDCHECKBUILD BIN
ChIPQC 1.38.0  (landing page)
Tom Carroll , Rory Stark
git_last_commit: 850e458
git_last_commit_date: 2023-10-24 09:58:19 -0400
nebbiolo2Linux (Ubuntu 22.04.3 LTS) / x86_64  OK    OK    WARNINGS  UNNEEDED, same version is already published
palomino4Windows Server 2022 Datacenter / x64  OK    OK    WARNINGS    OK  UNNEEDED, same version is already published
merida1macOS 12.7.1 Monterey / x86_64  OK    OK    WARNINGS    OK  UNNEEDED, same version is already published
kjohnson1macOS 13.6.1 Ventura / arm64see weekly results here
Package 34/184HostnameOS / ArchINSTALLBUILDCHECKBUILD BIN
ChromSCape 1.12.0  (landing page)
Pacome Prompsy
git_last_commit: 8311c30
git_last_commit_date: 2023-10-24 11:26:16 -0400
nebbiolo2Linux (Ubuntu 22.04.3 LTS) / x86_64  OK    OK    WARNINGS  UNNEEDED, same version is already published
palomino4Windows Server 2022 Datacenter / x64  OK    OK    WARNINGS    OK  UNNEEDED, same version is already published
merida1macOS 12.7.1 Monterey / x86_64  OK    OK    WARNINGS    OK  UNNEEDED, same version is already published
kjohnson1macOS 13.6.1 Ventura / arm64see weekly results here
Package 35/184HostnameOS / ArchINSTALLBUILDCHECKBUILD BIN
chromstaR 1.28.0  (landing page)
Aaron Taudt
git_last_commit: b61ea88
git_last_commit_date: 2023-10-24 10:51:00 -0400
nebbiolo2Linux (Ubuntu 22.04.3 LTS) / x86_64  OK    ERROR  skipped
palomino4Windows Server 2022 Datacenter / x64  OK    ERROR  skippedskipped
merida1macOS 12.7.1 Monterey / x86_64  OK    ERROR  skippedskipped
kjohnson1macOS 13.6.1 Ventura / arm64see weekly results here
Package 36/184HostnameOS / ArchINSTALLBUILDCHECKBUILD BIN
chromVAR 1.24.0  (landing page)
Alicia Schep
git_last_commit: e2d61b0
git_last_commit_date: 2023-10-24 11:00:14 -0400
nebbiolo2Linux (Ubuntu 22.04.3 LTS) / x86_64  OK    OK    OK  UNNEEDED, same version is already published
palomino4Windows Server 2022 Datacenter / x64  OK    OK    OK    OK  UNNEEDED, same version is already published
merida1macOS 12.7.1 Monterey / x86_64  OK    OK    OK    OK  UNNEEDED, same version is already published
kjohnson1macOS 13.6.1 Ventura / arm64see weekly results here
Package 37/184HostnameOS / ArchINSTALLBUILDCHECKBUILD BIN
CircSeqAlignTk 1.4.0  (landing page)
Jianqiang Sun
git_last_commit: 958204b
git_last_commit_date: 2023-10-24 11:44:28 -0400
nebbiolo2Linux (Ubuntu 22.04.3 LTS) / x86_64  OK    OK    OK  UNNEEDED, same version is already published
palomino4Windows Server 2022 Datacenter / x64  OK    OK    ERROR    OK  
merida1macOS 12.7.1 Monterey / x86_64  OK    OK    OK    OK  UNNEEDED, same version is already published
kjohnson1macOS 13.6.1 Ventura / arm64see weekly results here
Package 38/184HostnameOS / ArchINSTALLBUILDCHECKBUILD BIN
cn.mops 1.48.0  (landing page)
Gundula Povysil
git_last_commit: f3cf243
git_last_commit_date: 2023-10-24 09:48:47 -0400
nebbiolo2Linux (Ubuntu 22.04.3 LTS) / x86_64  OK    OK    OK  UNNEEDED, same version is already published
palomino4Windows Server 2022 Datacenter / x64  OK    OK    OK    OK  UNNEEDED, same version is already published
merida1macOS 12.7.1 Monterey / x86_64  OK    OK    OK    OK  UNNEEDED, same version is already published
kjohnson1macOS 13.6.1 Ventura / arm64see weekly results here
Package 39/184HostnameOS / ArchINSTALLBUILDCHECKBUILD BIN
CNVfilteR 1.16.0  (landing page)
Jose Marcos Moreno-Cabrera
git_last_commit: b3a6913
git_last_commit_date: 2023-10-24 11:17:02 -0400
nebbiolo2Linux (Ubuntu 22.04.3 LTS) / x86_64  OK    OK    OK  UNNEEDED, same version is already published
palomino4Windows Server 2022 Datacenter / x64  OK    OK    OK    OK  UNNEEDED, same version is already published
merida1macOS 12.7.1 Monterey / x86_64  OK    OK    OK    OK  UNNEEDED, same version is already published
kjohnson1macOS 13.6.1 Ventura / arm64see weekly results here
Package 40/184HostnameOS / ArchINSTALLBUILDCHECKBUILD BIN
CNVPanelizer 1.34.0  (landing page)
Thomas Wolf
git_last_commit: ca119f6
git_last_commit_date: 2023-10-24 10:44:06 -0400
nebbiolo2Linux (Ubuntu 22.04.3 LTS) / x86_64  OK    OK    OK  UNNEEDED, same version is already published
palomino4Windows Server 2022 Datacenter / x64  OK    OK    OK    OK  UNNEEDED, same version is already published
merida1macOS 12.7.1 Monterey / x86_64  OK    OK    OK    OK  UNNEEDED, same version is already published
kjohnson1macOS 13.6.1 Ventura / arm64see weekly results here
Package 41/184HostnameOS / ArchINSTALLBUILDCHECKBUILD BIN
CNVrd2 1.40.0  (landing page)
Hoang Tan Nguyen
git_last_commit: 497de63
git_last_commit_date: 2023-10-24 09:56:44 -0400
nebbiolo2Linux (Ubuntu 22.04.3 LTS) / x86_64  OK    OK    OK  UNNEEDED, same version is already published
palomino4Windows Server 2022 Datacenter / x64  OK    OK    OK    OK  UNNEEDED, same version is already published
merida1macOS 12.7.1 Monterey / x86_64  OK    OK    OK    OK  UNNEEDED, same version is already published
kjohnson1macOS 13.6.1 Ventura / arm64see weekly results here
Package 42/184HostnameOS / ArchINSTALLBUILDCHECKBUILD BIN
CODEX 1.34.0  (landing page)
Yuchao Jiang
git_last_commit: f59d9cf
git_last_commit_date: 2023-10-24 10:40:53 -0400
nebbiolo2Linux (Ubuntu 22.04.3 LTS) / x86_64  OK    OK    OK  UNNEEDED, same version is already published
palomino4Windows Server 2022 Datacenter / x64  OK    OK    OK    OK  UNNEEDED, same version is already published
merida1macOS 12.7.1 Monterey / x86_64  OK    OK    OK    OK  UNNEEDED, same version is already published
kjohnson1macOS 13.6.1 Ventura / arm64see weekly results here
Package 43/184HostnameOS / ArchINSTALLBUILDCHECKBUILD BIN
compEpiTools 1.36.0  (landing page)
Mattia Furlan
git_last_commit: a66a836
git_last_commit_date: 2023-10-24 10:00:44 -0400
nebbiolo2Linux (Ubuntu 22.04.3 LTS) / x86_64  OK    OK    WARNINGS  UNNEEDED, same version is already published
palomino4Windows Server 2022 Datacenter / x64  OK    OK    WARNINGS    OK  UNNEEDED, same version is already published
merida1macOS 12.7.1 Monterey / x86_64  OK    OK    WARNINGS    OK  UNNEEDED, same version is already published
kjohnson1macOS 13.6.1 Ventura / arm64see weekly results here
Package 44/184HostnameOS / ArchINSTALLBUILDCHECKBUILD BIN
consensusDE 1.20.0  (landing page)
Ashley J. Waardenberg
git_last_commit: 8cccaad
git_last_commit_date: 2023-10-24 11:09:05 -0400
nebbiolo2Linux (Ubuntu 22.04.3 LTS) / x86_64  OK    OK    OK  UNNEEDED, same version is already published
palomino4Windows Server 2022 Datacenter / x64  OK    OK    OK    OK  UNNEEDED, same version is already published
merida1macOS 12.7.1 Monterey / x86_64  OK    OK    OK    OK  UNNEEDED, same version is already published
kjohnson1macOS 13.6.1 Ventura / arm64see weekly results here
Package 45/184HostnameOS / ArchINSTALLBUILDCHECKBUILD BIN
contiBAIT 1.30.0  (landing page)
Kieran O'Neill
git_last_commit: 4d4e432
git_last_commit_date: 2023-10-24 10:47:36 -0400
nebbiolo2Linux (Ubuntu 22.04.3 LTS) / x86_64  OK    OK    WARNINGS  UNNEEDED, same version is already published
palomino4Windows Server 2022 Datacenter / x64  OK    OK    WARNINGS    OK  UNNEEDED, same version is already published
merida1macOS 12.7.1 Monterey / x86_64  OK    OK    WARNINGS    OK  UNNEEDED, same version is already published
kjohnson1macOS 13.6.1 Ventura / arm64see weekly results here
Package 46/184HostnameOS / ArchINSTALLBUILDCHECKBUILD BIN
CopyNumberPlots 1.18.0  (landing page)
Bernat Gel
git_last_commit: 88ca611
git_last_commit_date: 2023-10-24 11:13:15 -0400
nebbiolo2Linux (Ubuntu 22.04.3 LTS) / x86_64  OK    OK    OK  UNNEEDED, same version is already published
palomino4Windows Server 2022 Datacenter / x64  OK    OK    OK    OK  UNNEEDED, same version is already published
merida1macOS 12.7.1 Monterey / x86_64  OK    OK    OK    OK  UNNEEDED, same version is already published
kjohnson1macOS 13.6.1 Ventura / arm64see weekly results here
Package 47/184HostnameOS / ArchINSTALLBUILDCHECKBUILD BIN
CoverageView 1.40.0  (landing page)
Ernesto Lowy
git_last_commit: 68638ab
git_last_commit_date: 2023-10-24 09:58:32 -0400
nebbiolo2Linux (Ubuntu 22.04.3 LTS) / x86_64  OK    OK    WARNINGS  UNNEEDED, same version is already published
palomino4Windows Server 2022 Datacenter / x64... NOT SUPPORTED ...
merida1macOS 12.7.1 Monterey / x86_64  OK    OK    WARNINGS    OK  UNNEEDED, same version is already published
kjohnson1macOS 13.6.1 Ventura / arm64see weekly results here
Package 48/184HostnameOS / ArchINSTALLBUILDCHECKBUILD BIN
CrispRVariants 1.30.0  (landing page)
Helen Lindsay
git_last_commit: 871c979
git_last_commit_date: 2023-10-24 10:46:52 -0400
nebbiolo2Linux (Ubuntu 22.04.3 LTS) / x86_64  OK    OK    WARNINGS  UNNEEDED, same version is already published
palomino4Windows Server 2022 Datacenter / x64  OK    OK    WARNINGS    OK  UNNEEDED, same version is already published
merida1macOS 12.7.1 Monterey / x86_64  OK    OK    WARNINGS    OK  UNNEEDED, same version is already published
kjohnson1macOS 13.6.1 Ventura / arm64see weekly results here
Package 49/184HostnameOS / ArchINSTALLBUILDCHECKBUILD BIN
csaw 1.36.1  (landing page)
Aaron Lun
git_last_commit: 25b51ba
git_last_commit_date: 2023-11-30 02:21:57 -0400
nebbiolo2Linux (Ubuntu 22.04.3 LTS) / x86_64  OK    OK    WARNINGS  UNNEEDED, same version is already published
palomino4Windows Server 2022 Datacenter / x64  OK    OK    WARNINGS    OK  UNNEEDED, same version is already published
merida1macOS 12.7.1 Monterey / x86_64  OK    OK    WARNINGS    OK  UNNEEDED, same version is already published
kjohnson1macOS 13.6.1 Ventura / arm64see weekly results here
Package 50/184HostnameOS / ArchINSTALLBUILDCHECKBUILD BIN
CSSQ 1.14.0  (landing page)
Fan Lab at Georgia Institute of Technology
git_last_commit: 169f2fd
git_last_commit_date: 2023-10-24 11:18:33 -0400
nebbiolo2Linux (Ubuntu 22.04.3 LTS) / x86_64  OK    OK    OK  UNNEEDED, same version is already published
palomino4Windows Server 2022 Datacenter / x64  OK    OK    OK    OK  UNNEEDED, same version is already published
merida1macOS 12.7.1 Monterey / x86_64  OK    OK    OK    OK  UNNEEDED, same version is already published
kjohnson1macOS 13.6.1 Ventura / arm64see weekly results here
Package 51/184HostnameOS / ArchINSTALLBUILDCHECKBUILD BIN
customProDB 1.42.1  (landing page)
Xiaojing Wang
git_last_commit: 74cddbb
git_last_commit_date: 2024-03-05 00:31:17 -0400
nebbiolo2Linux (Ubuntu 22.04.3 LTS) / x86_64  OK    OK    ERROR  
palomino4Windows Server 2022 Datacenter / x64  OK    OK    ERROR    OK  
merida1macOS 12.7.1 Monterey / x86_64  OK    OK    ERROR    OK  
kjohnson1macOS 13.6.1 Ventura / arm64see weekly results here
Package 52/184HostnameOS / ArchINSTALLBUILDCHECKBUILD BIN
DAMEfinder 1.14.0  (landing page)
Stephany Orjuela
git_last_commit: 622c379
git_last_commit_date: 2023-10-24 11:19:04 -0400
nebbiolo2Linux (Ubuntu 22.04.3 LTS) / x86_64  OK    OK    OK  UNNEEDED, same version is already published
palomino4Windows Server 2022 Datacenter / x64  OK    OK    OK    OK  UNNEEDED, same version is already published
merida1macOS 12.7.1 Monterey / x86_64  OK    OK    OK    OK  UNNEEDED, same version is already published
kjohnson1macOS 13.6.1 Ventura / arm64see weekly results here
Package 53/184HostnameOS / ArchINSTALLBUILDCHECKBUILD BIN
DegNorm 1.12.0  (landing page)
Ji-Ping Wang
git_last_commit: 405e5cb
git_last_commit_date: 2023-10-24 11:22:52 -0400
nebbiolo2Linux (Ubuntu 22.04.3 LTS) / x86_64  OK    OK    OK  UNNEEDED, same version is already published
palomino4Windows Server 2022 Datacenter / x64  OK    OK    OK    OK  UNNEEDED, same version is already published
merida1macOS 12.7.1 Monterey / x86_64  OK    OK    OK    OK  UNNEEDED, same version is already published
kjohnson1macOS 13.6.1 Ventura / arm64see weekly results here
Package 54/184HostnameOS / ArchINSTALLBUILDCHECKBUILD BIN
derfinder 1.36.0  (landing page)
Leonardo Collado-Torres
git_last_commit: 9bc4cd5
git_last_commit_date: 2023-10-24 10:38:56 -0400
nebbiolo2Linux (Ubuntu 22.04.3 LTS) / x86_64  OK    OK    OK  UNNEEDED, same version is already published
palomino4Windows Server 2022 Datacenter / x64  OK    OK    OK    OK  UNNEEDED, same version is already published
merida1macOS 12.7.1 Monterey / x86_64  OK    OK    OK    OK  UNNEEDED, same version is already published
kjohnson1macOS 13.6.1 Ventura / arm64see weekly results here
Package 55/184HostnameOS / ArchINSTALLBUILDCHECKBUILD BIN
DEXSeq 1.48.0  (landing page)
Alejandro Reyes
git_last_commit: 40ec7ae
git_last_commit_date: 2023-10-24 09:47:02 -0400
nebbiolo2Linux (Ubuntu 22.04.3 LTS) / x86_64  OK    OK    OK  UNNEEDED, same version is already published
palomino4Windows Server 2022 Datacenter / x64  OK    OK    OK    OK  UNNEEDED, same version is already published
merida1macOS 12.7.1 Monterey / x86_64  OK    OK    OK    OK  UNNEEDED, same version is already published
kjohnson1macOS 13.6.1 Ventura / arm64see weekly results here
Package 56/184HostnameOS / ArchINSTALLBUILDCHECKBUILD BIN
DiffBind 3.12.0  (landing page)
Rory Stark
git_last_commit: 00284e8
git_last_commit_date: 2023-10-24 09:48:02 -0400
nebbiolo2Linux (Ubuntu 22.04.3 LTS) / x86_64  OK    OK    WARNINGS  UNNEEDED, same version is already published
palomino4Windows Server 2022 Datacenter / x64  OK    OK    OK    OK  UNNEEDED, same version is already published
merida1macOS 12.7.1 Monterey / x86_64  OK    OK    WARNINGS    OK  UNNEEDED, same version is already published
kjohnson1macOS 13.6.1 Ventura / arm64see weekly results here
Package 57/184HostnameOS / ArchINSTALLBUILDCHECKBUILD BIN
diffHic 1.34.0  (landing page)
Aaron Lun
git_last_commit: d7d9f66
git_last_commit_date: 2023-10-24 10:43:16 -0400
nebbiolo2Linux (Ubuntu 22.04.3 LTS) / x86_64  OK    OK    WARNINGS  UNNEEDED, same version is already published
palomino4Windows Server 2022 Datacenter / x64  OK    OK    WARNINGS    OK  UNNEEDED, same version is already published
merida1macOS 12.7.1 Monterey / x86_64  OK    OK    WARNINGS    OK  UNNEEDED, same version is already published
kjohnson1macOS 13.6.1 Ventura / arm64see weekly results here
Package 58/184HostnameOS / ArchINSTALLBUILDCHECKBUILD BIN
DNAfusion 1.4.0  (landing page)
Christoffer Trier Maansson
git_last_commit: 6684cb7
git_last_commit_date: 2023-10-24 11:45:11 -0400
nebbiolo2Linux (Ubuntu 22.04.3 LTS) / x86_64  OK    OK    OK  UNNEEDED, same version is already published
palomino4Windows Server 2022 Datacenter / x64  OK    OK    OK    OK  UNNEEDED, same version is already published
merida1macOS 12.7.1 Monterey / x86_64  OK    OK    OK    OK  UNNEEDED, same version is already published
kjohnson1macOS 13.6.1 Ventura / arm64see weekly results here
Package 59/184HostnameOS / ArchINSTALLBUILDCHECKBUILD BIN
easyRNASeq 2.38.0  (landing page)
Nicolas Delhomme
git_last_commit: e7d99c2
git_last_commit_date: 2023-10-24 09:49:08 -0400
nebbiolo2Linux (Ubuntu 22.04.3 LTS) / x86_64  OK    OK    OK  UNNEEDED, same version is already published
palomino4Windows Server 2022 Datacenter / x64  OK    OK    OK    OK  UNNEEDED, same version is already published
merida1macOS 12.7.1 Monterey / x86_64  OK    OK    OK    OK  UNNEEDED, same version is already published
kjohnson1macOS 13.6.1 Ventura / arm64see weekly results here
Package 60/184HostnameOS / ArchINSTALLBUILDCHECKBUILD BIN
EDASeq 2.36.0  (landing page)
Davide Risso
git_last_commit: af70dab
git_last_commit_date: 2023-10-24 09:47:57 -0400
nebbiolo2Linux (Ubuntu 22.04.3 LTS) / x86_64  OK    OK    OK  UNNEEDED, same version is already published
palomino4Windows Server 2022 Datacenter / x64  OK    OK    OK    OK  UNNEEDED, same version is already published
merida1macOS 12.7.1 Monterey / x86_64  OK    OK    OK    OK  UNNEEDED, same version is already published
kjohnson1macOS 13.6.1 Ventura / arm64see weekly results here
Package 61/184HostnameOS / ArchINSTALLBUILDCHECKBUILD BIN
ensembldb 2.26.0  (landing page)
Johannes Rainer
git_last_commit: 7046d99
git_last_commit_date: 2023-10-24 10:42:20 -0400
nebbiolo2Linux (Ubuntu 22.04.3 LTS) / x86_64  OK    OK    OK  UNNEEDED, same version is already published
palomino4Windows Server 2022 Datacenter / x64  OK    OK    OK    OK  UNNEEDED, same version is already published
merida1macOS 12.7.1 Monterey / x86_64  OK    OK    OK    OK  UNNEEDED, same version is already published
kjohnson1macOS 13.6.1 Ventura / arm64see weekly results here
Package 62/184HostnameOS / ArchINSTALLBUILDCHECKBUILD BIN
epigenomix 1.42.0  (landing page)
Hans-Ulrich Klein
git_last_commit: 060951e
git_last_commit_date: 2023-10-24 09:53:11 -0400
nebbiolo2Linux (Ubuntu 22.04.3 LTS) / x86_64  OK    OK    OK  UNNEEDED, same version is already published
palomino4Windows Server 2022 Datacenter / x64  OK    OK    OK    OK  UNNEEDED, same version is already published
merida1macOS 12.7.1 Monterey / x86_64  OK    OK    OK    OK  UNNEEDED, same version is already published
kjohnson1macOS 13.6.1 Ventura / arm64see weekly results here
Package 63/184HostnameOS / ArchINSTALLBUILDCHECKBUILD BIN
epigraHMM 1.10.0  (landing page)
Pedro Baldoni
git_last_commit: 810c6f9
git_last_commit_date: 2023-10-24 11:33:52 -0400
nebbiolo2Linux (Ubuntu 22.04.3 LTS) / x86_64  OK    OK    WARNINGS  UNNEEDED, same version is already published
palomino4Windows Server 2022 Datacenter / x64  OK    OK    OK    OK  UNNEEDED, same version is already published
merida1macOS 12.7.1 Monterey / x86_64  OK    OK    WARNINGS    OK  UNNEEDED, same version is already published
kjohnson1macOS 13.6.1 Ventura / arm64see weekly results here
Package 64/184HostnameOS / ArchINSTALLBUILDCHECKBUILD BIN
esATAC 1.24.0  (landing page)
Zheng Wei
git_last_commit: fc5274b
git_last_commit_date: 2023-10-24 11:01:27 -0400
nebbiolo2Linux (Ubuntu 22.04.3 LTS) / x86_64  OK    OK    OK  UNNEEDED, same version is already published
palomino4Windows Server 2022 Datacenter / x64  OK    OK    OK    OK  UNNEEDED, same version is already published
merida1macOS 12.7.1 Monterey / x86_64  OK    OK    OK    OK  UNNEEDED, same version is already published
kjohnson1macOS 13.6.1 Ventura / arm64see weekly results here
Package 65/184HostnameOS / ArchINSTALLBUILDCHECKBUILD BIN
eudysbiome 1.32.0  (landing page)
Xiaoyuan Zhou
git_last_commit: 37639cc
git_last_commit_date: 2023-10-24 10:44:38 -0400
nebbiolo2Linux (Ubuntu 22.04.3 LTS) / x86_64  OK    OK    OK  UNNEEDED, same version is already published
palomino4Windows Server 2022 Datacenter / x64  OK    OK    OK    OK  UNNEEDED, same version is already published
merida1macOS 12.7.1 Monterey / x86_64  OK    OK    OK    OK  UNNEEDED, same version is already published
kjohnson1macOS 13.6.1 Ventura / arm64see weekly results here
Package 66/184HostnameOS / ArchINSTALLBUILDCHECKBUILD BIN
exomeCopy 1.48.0  (landing page)
Michael Love
git_last_commit: c418319
git_last_commit_date: 2023-10-24 09:48:35 -0400
nebbiolo2Linux (Ubuntu 22.04.3 LTS) / x86_64  OK    OK    WARNINGS  UNNEEDED, same version is already published
palomino4Windows Server 2022 Datacenter / x64  OK    OK    WARNINGS    OK  UNNEEDED, same version is already published
merida1macOS 12.7.1 Monterey / x86_64  OK    OK    WARNINGS    OK  UNNEEDED, same version is already published
kjohnson1macOS 13.6.1 Ventura / arm64see weekly results here
Package 67/184HostnameOS / ArchINSTALLBUILDCHECKBUILD BIN
exomePeak2 1.14.3  (landing page)
Zhen Wei
git_last_commit: 8d265ea
git_last_commit_date: 2023-11-26 20:47:38 -0400
nebbiolo2Linux (Ubuntu 22.04.3 LTS) / x86_64  OK    OK    OK  UNNEEDED, same version is already published
palomino4Windows Server 2022 Datacenter / x64  OK    OK    OK    OK  UNNEEDED, same version is already published
merida1macOS 12.7.1 Monterey / x86_64  OK    OK    OK    OK  UNNEEDED, same version is already published
kjohnson1macOS 13.6.1 Ventura / arm64see weekly results here
Package 68/184HostnameOS / ArchINSTALLBUILDCHECKBUILD BIN
extraChIPs 1.6.1  (landing page)
Stephen Pederson
git_last_commit: fb27d0b
git_last_commit_date: 2024-02-27 06:23:59 -0400
nebbiolo2Linux (Ubuntu 22.04.3 LTS) / x86_64  OK    OK    OK  UNNEEDED, same version is already published
palomino4Windows Server 2022 Datacenter / x64  OK    OK    OK    OK  UNNEEDED, same version is already published
merida1macOS 12.7.1 Monterey / x86_64  OK    OK    OK    OK  UNNEEDED, same version is already published
kjohnson1macOS 13.6.1 Ventura / arm64see weekly results here
Package 69/184HostnameOS / ArchINSTALLBUILDCHECKBUILD BIN
FilterFFPE 1.12.0  (landing page)
Lanying Wei
git_last_commit: d78f518
git_last_commit_date: 2023-10-24 11:25:33 -0400
nebbiolo2Linux (Ubuntu 22.04.3 LTS) / x86_64  OK    OK    OK  UNNEEDED, same version is already published
palomino4Windows Server 2022 Datacenter / x64  OK    OK    OK    OK  UNNEEDED, same version is already published
merida1macOS 12.7.1 Monterey / x86_64  OK    OK    OK    OK  UNNEEDED, same version is already published
kjohnson1macOS 13.6.1 Ventura / arm64see weekly results here
Package 70/184HostnameOS / ArchINSTALLBUILDCHECKBUILD BIN
FLAMES 1.8.0  (landing page)
Oliver Voogd
git_last_commit: 8b72098
git_last_commit_date: 2023-10-24 11:34:56 -0400
nebbiolo2Linux (Ubuntu 22.04.3 LTS) / x86_64  OK    OK    OK  UNNEEDED, same version is already published
palomino4Windows Server 2022 Datacenter / x64... NOT SUPPORTED ...
merida1macOS 12.7.1 Monterey / x86_64  OK    OK    OK    OK  UNNEEDED, same version is already published
kjohnson1macOS 13.6.1 Ventura / arm64see weekly results here
Package 71/184HostnameOS / ArchINSTALLBUILDCHECKBUILD BIN
FRASER 1.14.1  (landing page)
Christian Mertes
git_last_commit: 0a7204b
git_last_commit_date: 2024-02-11 14:03:18 -0400
nebbiolo2Linux (Ubuntu 22.04.3 LTS) / x86_64  OK    OK    OK  UNNEEDED, same version is already published
palomino4Windows Server 2022 Datacenter / x64  OK    OK    OK    OK  UNNEEDED, same version is already published
merida1macOS 12.7.1 Monterey / x86_64  OK    OK    OK    OK  UNNEEDED, same version is already published
kjohnson1macOS 13.6.1 Ventura / arm64see weekly results here
Package 72/184HostnameOS / ArchINSTALLBUILDCHECKBUILD BIN
FunChIP 1.28.0  (landing page)
Alice Parodi
git_last_commit: ee9b6c9
git_last_commit_date: 2023-10-24 10:50:38 -0400
nebbiolo2Linux (Ubuntu 22.04.3 LTS) / x86_64  OK    OK    WARNINGS  UNNEEDED, same version is already published
palomino4Windows Server 2022 Datacenter / x64  OK    OK    WARNINGS    OK  UNNEEDED, same version is already published
merida1macOS 12.7.1 Monterey / x86_64  OK    OK    OK    OK  UNNEEDED, same version is already published
kjohnson1macOS 13.6.1 Ventura / arm64see weekly results here
Package 73/184HostnameOS / ArchINSTALLBUILDCHECKBUILD BIN
gcapc 1.26.0  (landing page)
Mingxiang Teng
git_last_commit: ceff70c
git_last_commit_date: 2023-10-24 10:54:29 -0400
nebbiolo2Linux (Ubuntu 22.04.3 LTS) / x86_64  OK    OK    OK  UNNEEDED, same version is already published
palomino4Windows Server 2022 Datacenter / x64  OK    OK    OK    OK  UNNEEDED, same version is already published
merida1macOS 12.7.1 Monterey / x86_64  OK    OK    OK    OK  UNNEEDED, same version is already published
kjohnson1macOS 13.6.1 Ventura / arm64see weekly results here
Package 74/184HostnameOS / ArchINSTALLBUILDCHECKBUILD BIN
gDNAx 1.0.2  (landing page)
Beatriz Calvo-Serra
git_last_commit: 0fb2969
git_last_commit_date: 2024-03-15 15:38:59 -0400
nebbiolo2Linux (Ubuntu 22.04.3 LTS) / x86_64  OK    OK    OK  UNNEEDED, same version is already published
palomino4Windows Server 2022 Datacenter / x64  OK    OK    OK    OK  UNNEEDED, same version is already published
merida1macOS 12.7.1 Monterey / x86_64  OK    OK    OK    OK  UNNEEDED, same version is already published
kjohnson1macOS 13.6.1 Ventura / arm64see weekly results here
Package 75/184HostnameOS / ArchINSTALLBUILDCHECKBUILD BIN
GeneGeneInteR 1.28.0  (landing page)
Mathieu Emily
git_last_commit: 5961a9f
git_last_commit_date: 2023-10-24 10:51:41 -0400
nebbiolo2Linux (Ubuntu 22.04.3 LTS) / x86_64  OK    OK    OK  UNNEEDED, same version is already published
palomino4Windows Server 2022 Datacenter / x64  OK    OK    OK    OK  UNNEEDED, same version is already published
merida1macOS 12.7.1 Monterey / x86_64  OK    OK    OK    OK  UNNEEDED, same version is already published
kjohnson1macOS 13.6.1 Ventura / arm64see weekly results here
Package 76/184HostnameOS / ArchINSTALLBUILDCHECKBUILD BIN
genomation 1.34.0  (landing page)
Altuna Akalin , Vedran Franke
git_last_commit: accaf9c
git_last_commit_date: 2023-10-24 10:40:33 -0400
nebbiolo2Linux (Ubuntu 22.04.3 LTS) / x86_64  OK    OK    WARNINGS  UNNEEDED, same version is already published
palomino4Windows Server 2022 Datacenter / x64  OK    OK    WARNINGS    OK  UNNEEDED, same version is already published
merida1macOS 12.7.1 Monterey / x86_64  OK    OK    WARNINGS    OK  UNNEEDED, same version is already published
kjohnson1macOS 13.6.1 Ventura / arm64see weekly results here
Package 77/184HostnameOS / ArchINSTALLBUILDCHECKBUILD BIN
GenomicAlignments 1.38.2  (landing page)
Hervé Pagès
git_last_commit: d740c47
git_last_commit_date: 2024-01-16 12:05:27 -0400
nebbiolo2Linux (Ubuntu 22.04.3 LTS) / x86_64  OK    OK    OK  UNNEEDED, same version is already published
palomino4Windows Server 2022 Datacenter / x64  OK    OK    OK    OK  UNNEEDED, same version is already published
merida1macOS 12.7.1 Monterey / x86_64  OK    OK    OK    OK  UNNEEDED, same version is already published
kjohnson1macOS 13.6.1 Ventura / arm64see weekly results here
Package 78/184HostnameOS / ArchINSTALLBUILDCHECKBUILD BIN
GenomicFiles 1.38.0  (landing page)
Bioconductor Package Maintainer
git_last_commit: ddc9a88
git_last_commit_date: 2023-10-24 09:58:47 -0400
nebbiolo2Linux (Ubuntu 22.04.3 LTS) / x86_64  OK    OK    WARNINGS  UNNEEDED, same version is already published
palomino4Windows Server 2022 Datacenter / x64  OK    OK    WARNINGS    OK  UNNEEDED, same version is already published
merida1macOS 12.7.1 Monterey / x86_64  OK    OK    WARNINGS    OK  UNNEEDED, same version is already published
kjohnson1macOS 13.6.1 Ventura / arm64see weekly results here
Package 79/184HostnameOS / ArchINSTALLBUILDCHECKBUILD BIN
GenomicInteractions 1.36.0  (landing page)
Liz Ing-Simmons
git_last_commit: 879441e
git_last_commit_date: 2023-10-24 10:38:45 -0400
nebbiolo2Linux (Ubuntu 22.04.3 LTS) / x86_64  OK    OK    OK  UNNEEDED, same version is already published
palomino4Windows Server 2022 Datacenter / x64  OK    OK    OK    OK  UNNEEDED, same version is already published
merida1macOS 12.7.1 Monterey / x86_64  OK    OK    OK    OK  UNNEEDED, same version is already published
kjohnson1macOS 13.6.1 Ventura / arm64see weekly results here
Package 80/184HostnameOS / ArchINSTALLBUILDCHECKBUILD BIN
GenomicPlot 1.0.5  (landing page)
Shuye Pu
git_last_commit: 825d718
git_last_commit_date: 2024-02-20 21:31:33 -0400
nebbiolo2Linux (Ubuntu 22.04.3 LTS) / x86_64  OK    OK    OK  UNNEEDED, same version is already published
palomino4Windows Server 2022 Datacenter / x64  OK    OK    OK    OK  UNNEEDED, same version is already published
merida1macOS 12.7.1 Monterey / x86_64  OK    OK    OK    OK  UNNEEDED, same version is already published
kjohnson1macOS 13.6.1 Ventura / arm64see weekly results here
Package 81/184HostnameOS / ArchINSTALLBUILDCHECKBUILD BIN
GenVisR 1.34.0  (landing page)
Zachary Skidmore
git_last_commit: 99c427b
git_last_commit_date: 2023-10-24 10:47:14 -0400
nebbiolo2Linux (Ubuntu 22.04.3 LTS) / x86_64  OK    OK    ERROR  
palomino4Windows Server 2022 Datacenter / x64  OK    OK    ERROR    OK  
merida1macOS 12.7.1 Monterey / x86_64  OK    OK    ERROR    OK  
kjohnson1macOS 13.6.1 Ventura / arm64see weekly results here
Package 82/184HostnameOS / ArchINSTALLBUILDCHECKBUILD BIN
ggbio 1.50.0  (landing page)
Michael Lawrence
git_last_commit: ec89905
git_last_commit_date: 2023-10-24 09:48:30 -0400
nebbiolo2Linux (Ubuntu 22.04.3 LTS) / x86_64  OK    OK    WARNINGS  UNNEEDED, same version is already published
palomino4Windows Server 2022 Datacenter / x64  OK    OK    WARNINGS    OK  UNNEEDED, same version is already published
merida1macOS 12.7.1 Monterey / x86_64  OK    OK    WARNINGS    OK  UNNEEDED, same version is already published
kjohnson1macOS 13.6.1 Ventura / arm64see weekly results here
Package 83/184HostnameOS / ArchINSTALLBUILDCHECKBUILD BIN
girafe 1.54.0  (landing page)
J. Toedling
git_last_commit: 15a7530
git_last_commit_date: 2023-10-24 09:43:38 -0400
nebbiolo2Linux (Ubuntu 22.04.3 LTS) / x86_64  OK    OK    OK  UNNEEDED, same version is already published
palomino4Windows Server 2022 Datacenter / x64  OK    OK    OK    OK  UNNEEDED, same version is already published
merida1macOS 12.7.1 Monterey / x86_64  OK    OK    OK    OK  UNNEEDED, same version is already published
kjohnson1macOS 13.6.1 Ventura / arm64see weekly results here
Package 84/184HostnameOS / ArchINSTALLBUILDCHECKBUILD BIN
gmapR 1.44.0  (landing page)
Michael Lawrence
git_last_commit: 5a7a726
git_last_commit_date: 2024-01-18 16:27:39 -0400
nebbiolo2Linux (Ubuntu 22.04.3 LTS) / x86_64  OK    OK    WARNINGS  UNNEEDED, same version is already published
palomino4Windows Server 2022 Datacenter / x64... NOT SUPPORTED ...
merida1macOS 12.7.1 Monterey / x86_64  OK    OK    WARNINGS    OK  UNNEEDED, same version is already published
kjohnson1macOS 13.6.1 Ventura / arm64see weekly results here
Package 85/184HostnameOS / ArchINSTALLBUILDCHECKBUILD BIN
gmoviz 1.14.0  (landing page)
Kathleen Zeglinski
git_last_commit: 1bc517f
git_last_commit_date: 2023-10-24 11:20:31 -0400
nebbiolo2Linux (Ubuntu 22.04.3 LTS) / x86_64  OK    OK    OK  UNNEEDED, same version is already published
palomino4Windows Server 2022 Datacenter / x64  OK    OK    OK    OK  UNNEEDED, same version is already published
merida1macOS 12.7.1 Monterey / x86_64  OK    OK    OK    OK  UNNEEDED, same version is already published
kjohnson1macOS 13.6.1 Ventura / arm64see weekly results here
Package 86/184HostnameOS / ArchINSTALLBUILDCHECKBUILD BIN
GOTHiC 1.38.0  (landing page)
Borbala Mifsud
git_last_commit: 809ce7c
git_last_commit_date: 2023-10-24 11:15:00 -0400
nebbiolo2Linux (Ubuntu 22.04.3 LTS) / x86_64  OK    OK    OK  UNNEEDED, same version is already published
palomino4Windows Server 2022 Datacenter / x64  OK    OK    OK    OK  UNNEEDED, same version is already published
merida1macOS 12.7.1 Monterey / x86_64  OK    OK    OK    OK  UNNEEDED, same version is already published
kjohnson1macOS 13.6.1 Ventura / arm64see weekly results here
Package 87/184HostnameOS / ArchINSTALLBUILDCHECKBUILD BIN
GreyListChIP 1.34.0  (landing page)
Matt Eldridge
git_last_commit: 75f5a62
git_last_commit_date: 2023-10-24 10:41:19 -0400
nebbiolo2Linux (Ubuntu 22.04.3 LTS) / x86_64  OK    OK    OK  UNNEEDED, same version is already published
palomino4Windows Server 2022 Datacenter / x64  OK    OK    OK    OK  UNNEEDED, same version is already published
merida1macOS 12.7.1 Monterey / x86_64  OK    OK    OK    OK  UNNEEDED, same version is already published
kjohnson1macOS 13.6.1 Ventura / arm64see weekly results here
Package 88/184HostnameOS / ArchINSTALLBUILDCHECKBUILD BIN
GUIDEseq 1.32.0  (landing page)
Lihua Julie Zhu
git_last_commit: d675d44
git_last_commit_date: 2023-10-24 10:45:51 -0400
nebbiolo2Linux (Ubuntu 22.04.3 LTS) / x86_64  OK    OK    OK  UNNEEDED, same version is already published
palomino4Windows Server 2022 Datacenter / x64  OK    OK    OK    OK  UNNEEDED, same version is already published
merida1macOS 12.7.1 Monterey / x86_64  OK    OK    OK    OK  UNNEEDED, same version is already published
kjohnson1macOS 13.6.1 Ventura / arm64see weekly results here
Package 89/184HostnameOS / ArchINSTALLBUILDCHECKBUILD BIN
Gviz 1.46.1  (landing page)
Robert Ivanek
git_last_commit: ef98aa8
git_last_commit_date: 2023-11-16 09:48:08 -0400
nebbiolo2Linux (Ubuntu 22.04.3 LTS) / x86_64  OK    OK    OK  UNNEEDED, same version is already published
palomino4Windows Server 2022 Datacenter / x64  OK    OK    OK    OK  UNNEEDED, same version is already published
merida1macOS 12.7.1 Monterey / x86_64  OK    OK    OK    OK  UNNEEDED, same version is already published
kjohnson1macOS 13.6.1 Ventura / arm64see weekly results here
Package 90/184HostnameOS / ArchINSTALLBUILDCHECKBUILD BIN
h5vc 2.36.0  (landing page)
Paul Theodor Pyl
git_last_commit: 7284b89
git_last_commit_date: 2023-10-24 09:56:42 -0400
nebbiolo2Linux (Ubuntu 22.04.3 LTS) / x86_64  OK    OK    WARNINGS  UNNEEDED, same version is already published
palomino4Windows Server 2022 Datacenter / x64  OK    OK    WARNINGS    OK  UNNEEDED, same version is already published
merida1macOS 12.7.1 Monterey / x86_64  OK    OK    WARNINGS    OK  UNNEEDED, same version is already published
kjohnson1macOS 13.6.1 Ventura / arm64see weekly results here
Package 91/184HostnameOS / ArchINSTALLBUILDCHECKBUILD BIN
HelloRanges 1.28.0  (landing page)
Michael Lawrence
git_last_commit: 8cafa1f
git_last_commit_date: 2023-10-24 10:53:38 -0400
nebbiolo2Linux (Ubuntu 22.04.3 LTS) / x86_64  OK    OK    OK  UNNEEDED, same version is already published
palomino4Windows Server 2022 Datacenter / x64  OK    OK    OK    OK  UNNEEDED, same version is already published
merida1macOS 12.7.1 Monterey / x86_64  OK    OK    OK    OK  UNNEEDED, same version is already published
kjohnson1macOS 13.6.1 Ventura / arm64see weekly results here
Package 92/184HostnameOS / ArchINSTALLBUILDCHECKBUILD BIN
HTSeqGenie 4.32.0  (landing page)
Jens Reeder
git_last_commit: 9a84f3d
git_last_commit_date: 2023-10-24 09:51:39 -0400
nebbiolo2Linux (Ubuntu 22.04.3 LTS) / x86_64  OK    OK    OK  UNNEEDED, same version is already published
palomino4Windows Server 2022 Datacenter / x64... NOT SUPPORTED ...
merida1macOS 12.7.1 Monterey / x86_64... NOT SUPPORTED ...
kjohnson1macOS 13.6.1 Ventura / arm64see weekly results here
Package 93/184HostnameOS / ArchINSTALLBUILDCHECKBUILD BIN
icetea 1.20.0  (landing page)
Vivek Bhardwaj
git_last_commit: 7b58dbe
git_last_commit_date: 2023-10-24 11:06:09 -0400
nebbiolo2Linux (Ubuntu 22.04.3 LTS) / x86_64  OK    OK    WARNINGS  UNNEEDED, same version is already published
palomino4Windows Server 2022 Datacenter / x64  OK    OK    WARNINGS    OK  UNNEEDED, same version is already published
merida1macOS 12.7.1 Monterey / x86_64  OK    OK    WARNINGS    OK  UNNEEDED, same version is already published
kjohnson1macOS 13.6.1 Ventura / arm64see weekly results here
Package 94/184HostnameOS / ArchINSTALLBUILDCHECKBUILD BIN
IMAS 1.26.0  (landing page)
Seonggyun Han
git_last_commit: 98a5e4e
git_last_commit_date: 2023-10-24 10:56:52 -0400
nebbiolo2Linux (Ubuntu 22.04.3 LTS) / x86_64  OK    OK    OK  UNNEEDED, same version is already published
palomino4Windows Server 2022 Datacenter / x64  OK    OK    OK    OK  UNNEEDED, same version is already published
merida1macOS 12.7.1 Monterey / x86_64  OK    OK    OK    OK  UNNEEDED, same version is already published
kjohnson1macOS 13.6.1 Ventura / arm64see weekly results here
Package 95/184HostnameOS / ArchINSTALLBUILDCHECKBUILD BIN
INSPEcT 1.32.1  (landing page)
Stefano de Pretis
git_last_commit: fa69597
git_last_commit_date: 2024-01-04 05:44:49 -0400
nebbiolo2Linux (Ubuntu 22.04.3 LTS) / x86_64  OK    OK    OK  UNNEEDED, same version is already published
palomino4Windows Server 2022 Datacenter / x64  OK    OK    OK    OK  UNNEEDED, same version is already published
merida1macOS 12.7.1 Monterey / x86_64  OK    OK    OK    OK  UNNEEDED, same version is already published
kjohnson1macOS 13.6.1 Ventura / arm64see weekly results here
Package 96/184HostnameOS / ArchINSTALLBUILDCHECKBUILD BIN
IntEREst 1.26.0  (landing page)
Ali Oghabian , Mikko Frilander
git_last_commit: 759bac6
git_last_commit_date: 2023-10-24 10:55:57 -0400
nebbiolo2Linux (Ubuntu 22.04.3 LTS) / x86_64  OK    OK    OK  UNNEEDED, same version is already published
palomino4Windows Server 2022 Datacenter / x64  OK    OK    OK    OK  UNNEEDED, same version is already published
merida1macOS 12.7.1 Monterey / x86_64  OK    OK    OK    OK  UNNEEDED, same version is already published
kjohnson1macOS 13.6.1 Ventura / arm64see weekly results here
Package 97/184HostnameOS / ArchINSTALLBUILDCHECKBUILD BIN
karyoploteR 1.28.0  (landing page)
Bernat Gel
git_last_commit: 20fa00f
git_last_commit_date: 2023-10-24 10:55:15 -0400
nebbiolo2Linux (Ubuntu 22.04.3 LTS) / x86_64  OK    OK    OK  UNNEEDED, same version is already published
palomino4Windows Server 2022 Datacenter / x64  OK    OK    OK    OK  UNNEEDED, same version is already published
merida1macOS 12.7.1 Monterey / x86_64  OK    OK    OK    OK  UNNEEDED, same version is already published
kjohnson1macOS 13.6.1 Ventura / arm64see weekly results here
Package 98/184HostnameOS / ArchINSTALLBUILDCHECKBUILD BIN
MADSEQ 1.28.0  (landing page)
Yu Kong
git_last_commit: 2448026
git_last_commit_date: 2023-10-24 10:50:43 -0400
nebbiolo2Linux (Ubuntu 22.04.3 LTS) / x86_64  OK    OK    OK  UNNEEDED, same version is already published
palomino4Windows Server 2022 Datacenter / x64  OK    OK    OK    OK  UNNEEDED, same version is already published
merida1macOS 12.7.1 Monterey / x86_64  OK    OK    OK    OK  UNNEEDED, same version is already published
kjohnson1macOS 13.6.1 Ventura / arm64see weekly results here
Package 99/184HostnameOS / ArchINSTALLBUILDCHECKBUILD BIN
magpie 1.2.0  (landing page)
Daoyu Duan
git_last_commit: ae6eb0e
git_last_commit_date: 2023-10-24 11:47:32 -0400
nebbiolo2Linux (Ubuntu 22.04.3 LTS) / x86_64  OK    OK    OK  UNNEEDED, same version is already published
palomino4Windows Server 2022 Datacenter / x64  OK    OK    OK    OK  UNNEEDED, same version is already published
merida1macOS 12.7.1 Monterey / x86_64  OK    OK    OK    OK  UNNEEDED, same version is already published
kjohnson1macOS 13.6.1 Ventura / arm64see weekly results here
Package 100/184HostnameOS / ArchINSTALLBUILDCHECKBUILD BIN
MDTS 1.22.0  (landing page)
Jack M.. Fu
git_last_commit: 7791f1e
git_last_commit_date: 2023-10-24 11:03:21 -0400
nebbiolo2Linux (Ubuntu 22.04.3 LTS) / x86_64  OK    OK    OK  UNNEEDED, same version is already published
palomino4Windows Server 2022 Datacenter / x64  OK    OK    OK    OK  UNNEEDED, same version is already published
merida1macOS 12.7.1 Monterey / x86_64  OK    OK    OK    OK  UNNEEDED, same version is already published
kjohnson1macOS 13.6.1 Ventura / arm64see weekly results here
Package 101/184HostnameOS / ArchINSTALLBUILDCHECKBUILD BIN
MEDIPS 1.54.0  (landing page)
Lukas Chavez
git_last_commit: a174f2a
git_last_commit_date: 2023-10-24 09:45:13 -0400
nebbiolo2Linux (Ubuntu 22.04.3 LTS) / x86_64  OK    OK    OK  UNNEEDED, same version is already published
palomino4Windows Server 2022 Datacenter / x64  OK    OK    OK    OK  UNNEEDED, same version is already published
merida1macOS 12.7.1 Monterey / x86_64  OK    OK    OK    OK  UNNEEDED, same version is already published
kjohnson1macOS 13.6.1 Ventura / arm64see weekly results here
Package 102/184HostnameOS / ArchINSTALLBUILDCHECKBUILD BIN
metagene 2.34.0  (landing page)
Charles Joly Beauparlant
git_last_commit: 088f7ef
git_last_commit_date: 2023-10-24 10:00:24 -0400
nebbiolo2Linux (Ubuntu 22.04.3 LTS) / x86_64  OK    OK    ERROR  
palomino4Windows Server 2022 Datacenter / x64  OK    OK    WARNINGS    OK  UNNEEDED, same version is already published
merida1macOS 12.7.1 Monterey / x86_64  OK    OK    ERROR    OK  
kjohnson1macOS 13.6.1 Ventura / arm64see weekly results here
Package 103/184HostnameOS / ArchINSTALLBUILDCHECKBUILD BIN
metagene2 1.18.0  (landing page)
Eric Fournier
git_last_commit: 32c93af
git_last_commit_date: 2023-10-24 11:13:42 -0400
nebbiolo2Linux (Ubuntu 22.04.3 LTS) / x86_64  OK    OK    WARNINGS  UNNEEDED, same version is already published
palomino4Windows Server 2022 Datacenter / x64  OK    OK    WARNINGS    OK  UNNEEDED, same version is already published
merida1macOS 12.7.1 Monterey / x86_64  OK    OK    WARNINGS    OK  UNNEEDED, same version is already published
kjohnson1macOS 13.6.1 Ventura / arm64see weekly results here
Package 104/184HostnameOS / ArchINSTALLBUILDCHECKBUILD BIN
metaseqR2 1.14.0  (landing page)
Panagiotis Moulos
git_last_commit: c5496b0
git_last_commit_date: 2023-10-24 11:22:10 -0400
nebbiolo2Linux (Ubuntu 22.04.3 LTS) / x86_64  OK    OK    OK  UNNEEDED, same version is already published
palomino4Windows Server 2022 Datacenter / x64  OK    OK    OK    OK  UNNEEDED, same version is already published
merida1macOS 12.7.1 Monterey / x86_64  OK    OK    OK    OK  UNNEEDED, same version is already published
kjohnson1macOS 13.6.1 Ventura / arm64see weekly results here
Package 105/184HostnameOS / ArchINSTALLBUILDCHECKBUILD BIN
methylKit 1.28.0  (landing page)
Altuna Akalin , Alexander Blume
git_last_commit: 42a6cbf
git_last_commit_date: 2023-10-24 10:51:28 -0400
nebbiolo2Linux (Ubuntu 22.04.3 LTS) / x86_64  OK    OK    WARNINGS  UNNEEDED, same version is already published
palomino4Windows Server 2022 Datacenter / x64  OK    OK    OK    OK  UNNEEDED, same version is already published
merida1macOS 12.7.1 Monterey / x86_64  OK    OK    WARNINGS    OK  UNNEEDED, same version is already published
kjohnson1macOS 13.6.1 Ventura / arm64see weekly results here
Package 106/184HostnameOS / ArchINSTALLBUILDCHECKBUILD BIN
methylPipe 1.36.0  (landing page)
Mattia Furlan
git_last_commit: eac2790
git_last_commit_date: 2023-10-24 10:00:55 -0400
nebbiolo2Linux (Ubuntu 22.04.3 LTS) / x86_64  OK    OK    WARNINGS  UNNEEDED, same version is already published
palomino4Windows Server 2022 Datacenter / x64  OK    OK    WARNINGS    OK  UNNEEDED, same version is already published
merida1macOS 12.7.1 Monterey / x86_64  OK    OK    WARNINGS    OK  UNNEEDED, same version is already published
kjohnson1macOS 13.6.1 Ventura / arm64see weekly results here
Package 107/184HostnameOS / ArchINSTALLBUILDCHECKBUILD BIN
MMAPPR2 1.16.0  (landing page)
Jonathon Hill
git_last_commit: e30fb29
git_last_commit_date: 2023-10-24 11:14:46 -0400
nebbiolo2Linux (Ubuntu 22.04.3 LTS) / x86_64  OK    ERROR  skipped
palomino4Windows Server 2022 Datacenter / x64... NOT SUPPORTED ...
merida1macOS 12.7.1 Monterey / x86_64  OK    ERROR  skippedskipped
kjohnson1macOS 13.6.1 Ventura / arm64see weekly results here
Package 108/184HostnameOS / ArchINSTALLBUILDCHECKBUILD BIN
MMDiff2 1.30.0  (landing page)
Gabriele Schweikert
git_last_commit: 59a5822
git_last_commit_date: 2023-10-24 10:50:12 -0400
nebbiolo2Linux (Ubuntu 22.04.3 LTS) / x86_64  OK    OK    OK  UNNEEDED, same version is already published
palomino4Windows Server 2022 Datacenter / x64  OK    OK    WARNINGS    OK  UNNEEDED, same version is already published
merida1macOS 12.7.1 Monterey / x86_64  OK    OK    OK    OK  UNNEEDED, same version is already published
kjohnson1macOS 13.6.1 Ventura / arm64see weekly results here
Package 109/184HostnameOS / ArchINSTALLBUILDCHECKBUILD BIN
mosaics 2.40.0  (landing page)
Dongjun Chung
git_last_commit: b660aa1
git_last_commit_date: 2023-10-24 09:45:42 -0400
nebbiolo2Linux (Ubuntu 22.04.3 LTS) / x86_64  OK    OK    OK  UNNEEDED, same version is already published
palomino4Windows Server 2022 Datacenter / x64  OK    OK    OK    OK  UNNEEDED, same version is already published
merida1macOS 12.7.1 Monterey / x86_64  OK    OK    OK    OK  UNNEEDED, same version is already published
kjohnson1macOS 13.6.1 Ventura / arm64see weekly results here
Package 110/184HostnameOS / ArchINSTALLBUILDCHECKBUILD BIN
motifmatchr 1.24.0  (landing page)
Alicia Schep
git_last_commit: 4051143
git_last_commit_date: 2023-10-24 10:57:39 -0400
nebbiolo2Linux (Ubuntu 22.04.3 LTS) / x86_64  OK    OK    OK  UNNEEDED, same version is already published
palomino4Windows Server 2022 Datacenter / x64  OK    OK    OK    OK  UNNEEDED, same version is already published
merida1macOS 12.7.1 Monterey / x86_64  OK    OK    OK    OK  UNNEEDED, same version is already published
kjohnson1macOS 13.6.1 Ventura / arm64see weekly results here
Package 111/184HostnameOS / ArchINSTALLBUILDCHECKBUILD BIN
msgbsR 1.26.0  (landing page)
Benjamin Mayne
git_last_commit: 0b34e7d
git_last_commit_date: 2023-10-24 10:57:23 -0400
nebbiolo2Linux (Ubuntu 22.04.3 LTS) / x86_64  OK    OK    OK  UNNEEDED, same version is already published
palomino4Windows Server 2022 Datacenter / x64  OK    OK    OK    OK  UNNEEDED, same version is already published
merida1macOS 12.7.1 Monterey / x86_64  OK    OK    OK    OK  UNNEEDED, same version is already published
kjohnson1macOS 13.6.1 Ventura / arm64see weekly results here
Package 112/184HostnameOS / ArchINSTALLBUILDCHECKBUILD BIN
NADfinder 1.26.0  (landing page)
Jianhong Ou
git_last_commit: d34108b
git_last_commit_date: 2023-10-24 10:56:31 -0400
nebbiolo2Linux (Ubuntu 22.04.3 LTS) / x86_64  OK    OK    OK  UNNEEDED, same version is already published
palomino4Windows Server 2022 Datacenter / x64  OK    OK    OK    OK  UNNEEDED, same version is already published
merida1macOS 12.7.1 Monterey / x86_64  OK    OK    OK    OK  UNNEEDED, same version is already published
kjohnson1macOS 13.6.1 Ventura / arm64see weekly results here
Package 113/184HostnameOS / ArchINSTALLBUILDCHECKBUILD BIN
NanoMethViz 2.8.1  (landing page)
Shian Su
git_last_commit: 1d8a149
git_last_commit_date: 2023-11-07 20:56:11 -0400
nebbiolo2Linux (Ubuntu 22.04.3 LTS) / x86_64  OK    OK    OK  UNNEEDED, same version is already published
palomino4Windows Server 2022 Datacenter / x64  OK    OK    OK    OK  UNNEEDED, same version is already published
merida1macOS 12.7.1 Monterey / x86_64  OK    OK    OK    OK  UNNEEDED, same version is already published
kjohnson1macOS 13.6.1 Ventura / arm64see weekly results here
Package 114/184HostnameOS / ArchINSTALLBUILDCHECKBUILD BIN
nearBynding 1.12.0  (landing page)
Veronica Busa
git_last_commit: ea1048c
git_last_commit_date: 2023-10-24 11:25:39 -0400
nebbiolo2Linux (Ubuntu 22.04.3 LTS) / x86_64  OK    OK    OK  UNNEEDED, same version is already published
palomino4Windows Server 2022 Datacenter / x64  OK    OK    OK    OK  UNNEEDED, same version is already published
merida1macOS 12.7.1 Monterey / x86_64  OK    OK    OK    OK  UNNEEDED, same version is already published
kjohnson1macOS 13.6.1 Ventura / arm64see weekly results here
Package 115/184HostnameOS / ArchINSTALLBUILDCHECKBUILD BIN
nucleR 2.34.0  (landing page)
Alba Sala
git_last_commit: 49b3021
git_last_commit_date: 2023-10-24 09:47:23 -0400
nebbiolo2Linux (Ubuntu 22.04.3 LTS) / x86_64  OK    OK    WARNINGS  UNNEEDED, same version is already published
palomino4Windows Server 2022 Datacenter / x64  OK    OK    WARNINGS    OK  UNNEEDED, same version is already published
merida1macOS 12.7.1 Monterey / x86_64  OK    OK    WARNINGS    OK  UNNEEDED, same version is already published
kjohnson1macOS 13.6.1 Ventura / arm64see weekly results here
Package 116/184HostnameOS / ArchINSTALLBUILDCHECKBUILD BIN
ORFik 1.22.2  (landing page)
Haakon Tjeldnes
git_last_commit: 38d4748
git_last_commit_date: 2024-02-20 09:22:49 -0400
nebbiolo2Linux (Ubuntu 22.04.3 LTS) / x86_64  OK    OK    OK  UNNEEDED, same version is already published
palomino4Windows Server 2022 Datacenter / x64  OK    OK    ERROR    OK  
merida1macOS 12.7.1 Monterey / x86_64  OK    OK    OK    OK  UNNEEDED, same version is already published
kjohnson1macOS 13.6.1 Ventura / arm64see weekly results here
Package 117/184HostnameOS / ArchINSTALLBUILDCHECKBUILD BIN
panelcn.mops 1.24.0  (landing page)
Gundula Povysil
git_last_commit: 5810f78
git_last_commit_date: 2023-10-24 10:59:52 -0400
nebbiolo2Linux (Ubuntu 22.04.3 LTS) / x86_64  OK    OK    OK  UNNEEDED, same version is already published
palomino4Windows Server 2022 Datacenter / x64  OK    OK    OK    OK  UNNEEDED, same version is already published
merida1macOS 12.7.1 Monterey / x86_64  OK    OK    OK    OK  UNNEEDED, same version is already published
kjohnson1macOS 13.6.1 Ventura / arm64see weekly results here
Package 118/184HostnameOS / ArchINSTALLBUILDCHECKBUILD BIN
PICS 2.46.0  (landing page)
Renan Sauteraud
git_last_commit: 1638a3e
git_last_commit_date: 2023-10-24 09:43:52 -0400
nebbiolo2Linux (Ubuntu 22.04.3 LTS) / x86_64  OK    OK    OK  UNNEEDED, same version is already published
palomino4Windows Server 2022 Datacenter / x64  OK    OK    OK    OK  UNNEEDED, same version is already published
merida1macOS 12.7.1 Monterey / x86_64  OK    OK    OK    OK  UNNEEDED, same version is already published
kjohnson1macOS 13.6.1 Ventura / arm64see weekly results here
Package 119/184HostnameOS / ArchINSTALLBUILDCHECKBUILD BIN
plyranges 1.22.0  (landing page)
Stuart Lee
git_last_commit: f4c77de
git_last_commit_date: 2023-10-24 11:04:07 -0400
nebbiolo2Linux (Ubuntu 22.04.3 LTS) / x86_64  OK    OK    WARNINGS  UNNEEDED, same version is already published
palomino4Windows Server 2022 Datacenter / x64  OK    OK    WARNINGS    OK  UNNEEDED, same version is already published
merida1macOS 12.7.1 Monterey / x86_64  OK    OK    WARNINGS    OK  UNNEEDED, same version is already published
kjohnson1macOS 13.6.1 Ventura / arm64see weekly results here
Package 120/184HostnameOS / ArchINSTALLBUILDCHECKBUILD BIN
podkat 1.34.0  (landing page)
Ulrich Bodenhofer
git_last_commit: 0a4ab12
git_last_commit_date: 2023-10-24 10:42:31 -0400
nebbiolo2Linux (Ubuntu 22.04.3 LTS) / x86_64  OK    OK    WARNINGS  UNNEEDED, same version is already published
palomino4Windows Server 2022 Datacenter / x64  OK    OK    OK    OK  UNNEEDED, same version is already published
merida1macOS 12.7.1 Monterey / x86_64  OK    OK    WARNINGS    OK  UNNEEDED, same version is already published
kjohnson1macOS 13.6.1 Ventura / arm64see weekly results here
Package 121/184HostnameOS / ArchINSTALLBUILDCHECKBUILD BIN
pram 1.18.0  (landing page)
Peng Liu
git_last_commit: 75db306
git_last_commit_date: 2023-10-24 11:11:44 -0400
nebbiolo2Linux (Ubuntu 22.04.3 LTS) / x86_64  OK    OK    OK  UNNEEDED, same version is already published
palomino4Windows Server 2022 Datacenter / x64  OK    OK    OK    OK  UNNEEDED, same version is already published
merida1macOS 12.7.1 Monterey / x86_64  OK    OK    OK    OK  UNNEEDED, same version is already published
kjohnson1macOS 13.6.1 Ventura / arm64see weekly results here
Package 122/184HostnameOS / ArchINSTALLBUILDCHECKBUILD BIN
profileplyr 1.18.0  (landing page)
Tom Carroll , Doug Barrows
git_last_commit: 5470b48
git_last_commit_date: 2023-10-24 11:12:50 -0400
nebbiolo2Linux (Ubuntu 22.04.3 LTS) / x86_64  OK    OK    OK  UNNEEDED, same version is already published
palomino4Windows Server 2022 Datacenter / x64  OK    OK    OK    OK  UNNEEDED, same version is already published
merida1macOS 12.7.1 Monterey / x86_64  OK    OK    OK    OK  UNNEEDED, same version is already published
kjohnson1macOS 13.6.1 Ventura / arm64see weekly results here
Package 123/184HostnameOS / ArchINSTALLBUILDCHECKBUILD BIN
PureCN 2.8.1  (landing page)
Markus Riester
git_last_commit: 43f6a49
git_last_commit_date: 2023-11-20 16:23:17 -0400
nebbiolo2Linux (Ubuntu 22.04.3 LTS) / x86_64  OK    OK    OK  UNNEEDED, same version is already published
palomino4Windows Server 2022 Datacenter / x64  OK    OK    OK    OK  UNNEEDED, same version is already published
merida1macOS 12.7.1 Monterey / x86_64  OK    OK    OK    OK  UNNEEDED, same version is already published
kjohnson1macOS 13.6.1 Ventura / arm64see weekly results here
Package 124/184HostnameOS / ArchINSTALLBUILDCHECKBUILD BIN
QDNAseq 1.38.0  (landing page)
Daoud Sie
git_last_commit: 4ba6932
git_last_commit_date: 2023-10-24 09:57:59 -0400
nebbiolo2Linux (Ubuntu 22.04.3 LTS) / x86_64  OK    OK    OK  UNNEEDED, same version is already published
palomino4Windows Server 2022 Datacenter / x64  OK    OK    OK    OK  UNNEEDED, same version is already published
merida1macOS 12.7.1 Monterey / x86_64  OK    OK    OK    OK  UNNEEDED, same version is already published
kjohnson1macOS 13.6.1 Ventura / arm64see weekly results here
Package 125/184HostnameOS / ArchINSTALLBUILDCHECKBUILD BIN
qsea 1.28.0  (landing page)
Matthias Lienhard
git_last_commit: f1623a1
git_last_commit_date: 2023-10-24 10:51:07 -0400
nebbiolo2Linux (Ubuntu 22.04.3 LTS) / x86_64  OK    OK    OK  UNNEEDED, same version is already published
palomino4Windows Server 2022 Datacenter / x64  OK    OK    OK    OK  UNNEEDED, same version is already published
merida1macOS 12.7.1 Monterey / x86_64  OK    OK    OK    OK  UNNEEDED, same version is already published
kjohnson1macOS 13.6.1 Ventura / arm64see weekly results here
Package 126/184HostnameOS / ArchINSTALLBUILDCHECKBUILD BIN
QuasR 1.42.1  (landing page)
Michael Stadler
git_last_commit: 04c8406
git_last_commit_date: 2023-11-01 08:10:31 -0400
nebbiolo2Linux (Ubuntu 22.04.3 LTS) / x86_64  OK    OK    WARNINGS  UNNEEDED, same version is already published
palomino4Windows Server 2022 Datacenter / x64  OK    OK    OK    OK  UNNEEDED, same version is already published
merida1macOS 12.7.1 Monterey / x86_64  OK    OK    WARNINGS    OK  UNNEEDED, same version is already published
kjohnson1macOS 13.6.1 Ventura / arm64see weekly results here
Package 127/184HostnameOS / ArchINSTALLBUILDCHECKBUILD BIN
r3Cseq 1.48.0  (landing page)
Supat Thongjuea or
git_last_commit: d9ef32a
git_last_commit_date: 2023-10-24 09:48:26 -0400
nebbiolo2Linux (Ubuntu 22.04.3 LTS) / x86_64  OK    OK    OK  UNNEEDED, same version is already published
palomino4Windows Server 2022 Datacenter / x64  OK    OK    OK    OK  UNNEEDED, same version is already published
merida1macOS 12.7.1 Monterey / x86_64  OK    OK    OK    OK  UNNEEDED, same version is already published
kjohnson1macOS 13.6.1 Ventura / arm64see weekly results here
Package 128/184HostnameOS / ArchINSTALLBUILDCHECKBUILD BIN
R453Plus1Toolbox 1.52.0  (landing page)
Hans-Ulrich Klein
git_last_commit: f72252b
git_last_commit_date: 2023-10-24 09:45:08 -0400
nebbiolo2Linux (Ubuntu 22.04.3 LTS) / x86_64  OK    OK    OK  UNNEEDED, same version is already published
palomino4Windows Server 2022 Datacenter / x64  OK    OK    OK    OK  UNNEEDED, same version is already published
merida1macOS 12.7.1 Monterey / x86_64  OK    OK    OK    OK  UNNEEDED, same version is already published
kjohnson1macOS 13.6.1 Ventura / arm64see weekly results here
Package 129/184HostnameOS / ArchINSTALLBUILDCHECKBUILD BIN
raer 1.0.2  (landing page)
Kent Riemondy
git_last_commit: 852cee5
git_last_commit_date: 2024-03-08 12:35:28 -0400
nebbiolo2Linux (Ubuntu 22.04.3 LTS) / x86_64  OK    OK    WARNINGS  UNNEEDED, same version is already published
palomino4Windows Server 2022 Datacenter / x64  OK    OK    OK    OK  UNNEEDED, same version is already published
merida1macOS 12.7.1 Monterey / x86_64  OK    OK    WARNINGS    OK  UNNEEDED, same version is already published
kjohnson1macOS 13.6.1 Ventura / arm64see weekly results here
Package 130/184HostnameOS / ArchINSTALLBUILDCHECKBUILD BIN
ramwas 1.26.0  (landing page)
Andrey A Shabalin
git_last_commit: cb4c072
git_last_commit_date: 2023-10-24 10:54:39 -0400
nebbiolo2Linux (Ubuntu 22.04.3 LTS) / x86_64  OK    OK    OK  UNNEEDED, same version is already published
palomino4Windows Server 2022 Datacenter / x64  OK    OK    OK    OK  UNNEEDED, same version is already published
merida1macOS 12.7.1 Monterey / x86_64  OK    OK    OK    OK  UNNEEDED, same version is already published
kjohnson1macOS 13.6.1 Ventura / arm64see weekly results here
Package 131/184HostnameOS / ArchINSTALLBUILDCHECKBUILD BIN
Rbowtie2 2.8.0  (landing page)
Zheng Wei
git_last_commit: 34c5114
git_last_commit_date: 2023-10-24 10:59:19 -0400
nebbiolo2Linux (Ubuntu 22.04.3 LTS) / x86_64  OK    OK    OK  UNNEEDED, same version is already published
palomino4Windows Server 2022 Datacenter / x64  OK    OK    OK    OK  UNNEEDED, same version is already published
merida1macOS 12.7.1 Monterey / x86_64  OK    OK    OK    OK  UNNEEDED, same version is already published
kjohnson1macOS 13.6.1 Ventura / arm64see weekly results here
Package 132/184HostnameOS / ArchINSTALLBUILDCHECKBUILD BIN
recoup 1.30.0  (landing page)
Panagiotis Moulos
git_last_commit: 0d1e96b
git_last_commit_date: 2023-10-24 10:48:52 -0400
nebbiolo2Linux (Ubuntu 22.04.3 LTS) / x86_64  OK    OK    OK  UNNEEDED, same version is already published
palomino4Windows Server 2022 Datacenter / x64  OK    OK    OK    OK  UNNEEDED, same version is already published
merida1macOS 12.7.1 Monterey / x86_64  OK    OK    OK    OK  UNNEEDED, same version is already published
kjohnson1macOS 13.6.1 Ventura / arm64see weekly results here
Package 133/184HostnameOS / ArchINSTALLBUILDCHECKBUILD BIN
Repitools 1.48.0  (landing page)
Mark Robinson
git_last_commit: 2513661
git_last_commit_date: 2023-10-24 09:47:10 -0400
nebbiolo2Linux (Ubuntu 22.04.3 LTS) / x86_64  OK    OK    WARNINGS  UNNEEDED, same version is already published
palomino4Windows Server 2022 Datacenter / x64  OK    OK    WARNINGS    OK  UNNEEDED, same version is already published
merida1macOS 12.7.1 Monterey / x86_64  OK    OK    WARNINGS    OK  UNNEEDED, same version is already published
kjohnson1macOS 13.6.1 Ventura / arm64see weekly results here
Package 134/184HostnameOS / ArchINSTALLBUILDCHECKBUILD BIN
RepViz 1.18.0  (landing page)
Thomas Faux, Asta Laiho
git_last_commit: 4732c6b
git_last_commit_date: 2023-10-24 11:13:01 -0400
nebbiolo2Linux (Ubuntu 22.04.3 LTS) / x86_64  OK    OK    WARNINGS  UNNEEDED, same version is already published
palomino4Windows Server 2022 Datacenter / x64  OK    OK    WARNINGS    OK  UNNEEDED, same version is already published
merida1macOS 12.7.1 Monterey / x86_64  OK    OK    WARNINGS    OK  UNNEEDED, same version is already published
kjohnson1macOS 13.6.1 Ventura / arm64see weekly results here
Package 135/184HostnameOS / ArchINSTALLBUILDCHECKBUILD BIN
ReQON 1.48.0  (landing page)
Christopher Cabanski
git_last_commit: 9a90232
git_last_commit_date: 2023-10-24 09:48:37 -0400
nebbiolo2Linux (Ubuntu 22.04.3 LTS) / x86_64  OK    OK    WARNINGS  UNNEEDED, same version is already published
palomino4Windows Server 2022 Datacenter / x64  OK    OK    WARNINGS    OK  UNNEEDED, same version is already published
merida1macOS 12.7.1 Monterey / x86_64  ERROR    ERROR  skippedskipped
kjohnson1macOS 13.6.1 Ventura / arm64see weekly results here
Package 136/184HostnameOS / ArchINSTALLBUILDCHECKBUILD BIN
rfPred 1.40.0  (landing page)
Hugo Varet
git_last_commit: c6c0d16
git_last_commit_date: 2023-10-24 09:55:14 -0400
nebbiolo2Linux (Ubuntu 22.04.3 LTS) / x86_64  OK    OK    OK  UNNEEDED, same version is already published
palomino4Windows Server 2022 Datacenter / x64  OK    OK    OK    OK  UNNEEDED, same version is already published
merida1macOS 12.7.1 Monterey / x86_64  OK    OK    OK    OK  UNNEEDED, same version is already published
kjohnson1macOS 13.6.1 Ventura / arm64see weekly results here
Package 137/184HostnameOS / ArchINSTALLBUILDCHECKBUILD BIN
RiboDiPA 1.10.0  (landing page)
Ji-Ping Wang
git_last_commit: bb0b2d9
git_last_commit_date: 2023-10-24 11:29:22 -0400
nebbiolo2Linux (Ubuntu 22.04.3 LTS) / x86_64  OK    OK    OK  UNNEEDED, same version is already published
palomino4Windows Server 2022 Datacenter / x64  OK    OK    OK    OK  UNNEEDED, same version is already published
merida1macOS 12.7.1 Monterey / x86_64  OK    OK    OK    OK  UNNEEDED, same version is already published
kjohnson1macOS 13.6.1 Ventura / arm64see weekly results here
Package 138/184HostnameOS / ArchINSTALLBUILDCHECKBUILD BIN
RiboProfiling 1.32.0  (landing page)
A. Popa
git_last_commit: 8cec7bf
git_last_commit_date: 2023-10-24 10:45:56 -0400
nebbiolo2Linux (Ubuntu 22.04.3 LTS) / x86_64  OK    OK    WARNINGS  UNNEEDED, same version is already published
palomino4Windows Server 2022 Datacenter / x64  OK    OK    WARNINGS    OK  UNNEEDED, same version is already published
merida1macOS 12.7.1 Monterey / x86_64  OK    OK    WARNINGS    OK  UNNEEDED, same version is already published
kjohnson1macOS 13.6.1 Ventura / arm64see weekly results here
Package 139/184HostnameOS / ArchINSTALLBUILDCHECKBUILD BIN
riboSeqR 1.36.0  (landing page)
Thomas J. Hardcastle
git_last_commit: 6cc8262
git_last_commit_date: 2023-10-24 09:59:38 -0400
nebbiolo2Linux (Ubuntu 22.04.3 LTS) / x86_64  OK    OK    OK  UNNEEDED, same version is already published
palomino4Windows Server 2022 Datacenter / x64  OK    OK    OK    OK  UNNEEDED, same version is already published
merida1macOS 12.7.1 Monterey / x86_64  OK    OK    OK    OK  UNNEEDED, same version is already published
kjohnson1macOS 13.6.1 Ventura / arm64see weekly results here
Package 140/184HostnameOS / ArchINSTALLBUILDCHECKBUILD BIN
ribosomeProfilingQC 1.14.1  (landing page)
Jianhong Ou
git_last_commit: 9286a0a
git_last_commit_date: 2024-03-15 08:29:00 -0400
nebbiolo2Linux (Ubuntu 22.04.3 LTS) / x86_64  OK    OK    OK  UNNEEDED, same version is already published
palomino4Windows Server 2022 Datacenter / x64  OK    OK    OK    OK  UNNEEDED, same version is already published
merida1macOS 12.7.1 Monterey / x86_64  OK    OK    OK    OK  UNNEEDED, same version is already published
kjohnson1macOS 13.6.1 Ventura / arm64see weekly results here
Package 141/184HostnameOS / ArchINSTALLBUILDCHECKBUILD BIN
RNAmodR 1.16.0  (landing page)
Felix G.M. Ernst
git_last_commit: 721aa3d
git_last_commit_date: 2023-10-24 11:14:34 -0400
nebbiolo2Linux (Ubuntu 22.04.3 LTS) / x86_64  OK    OK    OK  UNNEEDED, same version is already published
palomino4Windows Server 2022 Datacenter / x64  OK    OK    OK    OK  UNNEEDED, same version is already published
merida1macOS 12.7.1 Monterey / x86_64  OK    OK    OK    OK  UNNEEDED, same version is already published
kjohnson1macOS 13.6.1 Ventura / arm64see weekly results here
Package 142/184HostnameOS / ArchINSTALLBUILDCHECKBUILD BIN
Rqc 1.36.0  (landing page)
Welliton Souza
git_last_commit: 500f192
git_last_commit_date: 2023-10-24 10:40:04 -0400
nebbiolo2Linux (Ubuntu 22.04.3 LTS) / x86_64  OK    OK    OK  UNNEEDED, same version is already published
palomino4Windows Server 2022 Datacenter / x64  OK    OK    OK    OK  UNNEEDED, same version is already published
merida1macOS 12.7.1 Monterey / x86_64  OK    OK    OK    OK  UNNEEDED, same version is already published
kjohnson1macOS 13.6.1 Ventura / arm64see weekly results here
Package 143/184HostnameOS / ArchINSTALLBUILDCHECKBUILD BIN
rtracklayer 1.62.0  (landing page)
Michael Lawrence
git_last_commit: 58efbf9
git_last_commit_date: 2023-10-24 09:39:43 -0400
nebbiolo2Linux (Ubuntu 22.04.3 LTS) / x86_64  OK    OK    WARNINGS  UNNEEDED, same version is already published
palomino4Windows Server 2022 Datacenter / x64  OK    OK    WARNINGS    OK  UNNEEDED, same version is already published
merida1macOS 12.7.1 Monterey / x86_64  OK    OK    WARNINGS    OK  UNNEEDED, same version is already published
kjohnson1macOS 13.6.1 Ventura / arm64see weekly results here
Package 144/184HostnameOS / ArchINSTALLBUILDCHECKBUILD BIN
scDblFinder 1.16.0  (landing page)
Pierre-Luc Germain
git_last_commit: eb6af9b
git_last_commit_date: 2023-10-24 11:17:39 -0400
nebbiolo2Linux (Ubuntu 22.04.3 LTS) / x86_64  OK    OK    OK  UNNEEDED, same version is already published
palomino4Windows Server 2022 Datacenter / x64  OK    OK    OK    OK  UNNEEDED, same version is already published
merida1macOS 12.7.1 Monterey / x86_64  OK    OK    OK    OK  UNNEEDED, same version is already published
kjohnson1macOS 13.6.1 Ventura / arm64see weekly results here
Package 145/184HostnameOS / ArchINSTALLBUILDCHECKBUILD BIN
SCOPE 1.14.0  (landing page)
Rujin Wang
git_last_commit: 11e3191
git_last_commit_date: 2023-10-24 11:19:30 -0400
nebbiolo2Linux (Ubuntu 22.04.3 LTS) / x86_64  OK    OK    OK  UNNEEDED, same version is already published
palomino4Windows Server 2022 Datacenter / x64  OK    OK    OK    OK  UNNEEDED, same version is already published
merida1macOS 12.7.1 Monterey / x86_64  OK    OK    OK    OK  UNNEEDED, same version is already published
kjohnson1macOS 13.6.1 Ventura / arm64see weekly results here
Package 146/184HostnameOS / ArchINSTALLBUILDCHECKBUILD BIN
scPipe 2.2.0  (landing page)
Shian Su
git_last_commit: 64848af
git_last_commit_date: 2023-10-24 11:00:35 -0400
nebbiolo2Linux (Ubuntu 22.04.3 LTS) / x86_64  OK    OK    WARNINGS  UNNEEDED, same version is already published
palomino4Windows Server 2022 Datacenter / x64  OK    OK    OK    OK  UNNEEDED, same version is already published
merida1macOS 12.7.1 Monterey / x86_64  OK    OK    WARNINGS    OK  UNNEEDED, same version is already published
kjohnson1macOS 13.6.1 Ventura / arm64see weekly results here
Package 147/184HostnameOS / ArchINSTALLBUILDCHECKBUILD BIN
scRNAseqApp 1.2.2  (landing page)
Jianhong Ou
git_last_commit: b792691
git_last_commit_date: 2023-11-01 16:18:44 -0400
nebbiolo2Linux (Ubuntu 22.04.3 LTS) / x86_64  OK    OK    OK  UNNEEDED, same version is already published
palomino4Windows Server 2022 Datacenter / x64  OK    OK    OK    OK  UNNEEDED, same version is already published
merida1macOS 12.7.1 Monterey / x86_64  OK    OK    OK    OK  UNNEEDED, same version is already published
kjohnson1macOS 13.6.1 Ventura / arm64see weekly results here
Package 148/184HostnameOS / ArchINSTALLBUILDCHECKBUILD BIN
scruff 1.20.0  (landing page)
Zhe Wang
git_last_commit: 9c5a572
git_last_commit_date: 2023-10-24 11:06:39 -0400
nebbiolo2Linux (Ubuntu 22.04.3 LTS) / x86_64  OK    OK    OK  UNNEEDED, same version is already published
palomino4Windows Server 2022 Datacenter / x64  OK    OK    OK    OK  UNNEEDED, same version is already published
merida1macOS 12.7.1 Monterey / x86_64  OK    OK    OK    OK  UNNEEDED, same version is already published
kjohnson1macOS 13.6.1 Ventura / arm64see weekly results here
Package 149/184HostnameOS / ArchINSTALLBUILDCHECKBUILD BIN
segmentSeq 2.36.0  (landing page)
Thomas J. Hardcastle
git_last_commit: 4116a42
git_last_commit_date: 2023-10-24 09:43:27 -0400
nebbiolo2Linux (Ubuntu 22.04.3 LTS) / x86_64  OK    OK    WARNINGS  UNNEEDED, same version is already published
palomino4Windows Server 2022 Datacenter / x64  OK    OK    WARNINGS    OK  UNNEEDED, same version is already published
merida1macOS 12.7.1 Monterey / x86_64  OK    OK    WARNINGS    OK  UNNEEDED, same version is already published
kjohnson1macOS 13.6.1 Ventura / arm64see weekly results here
Package 150/184HostnameOS / ArchINSTALLBUILDCHECKBUILD BIN
seqsetvis 1.22.1  (landing page)
Joseph R Boyd
git_last_commit: 6084d0e
git_last_commit_date: 2024-03-07 18:16:11 -0400
nebbiolo2Linux (Ubuntu 22.04.3 LTS) / x86_64  OK    OK    OK  UNNEEDED, same version is already published
palomino4Windows Server 2022 Datacenter / x64  OK    OK    OK    OK  UNNEEDED, same version is already published
merida1macOS 12.7.1 Monterey / x86_64  OK    OK    OK    OK  UNNEEDED, same version is already published
kjohnson1macOS 13.6.1 Ventura / arm64see weekly results here
Package 151/184HostnameOS / ArchINSTALLBUILDCHECKBUILD BIN
SGSeq 1.36.0  (landing page)
Leonard Goldstein
git_last_commit: be443cf
git_last_commit_date: 2023-10-24 10:39:42 -0400
nebbiolo2Linux (Ubuntu 22.04.3 LTS) / x86_64  OK    OK    OK  UNNEEDED, same version is already published
palomino4Windows Server 2022 Datacenter / x64  OK    OK    OK    OK  UNNEEDED, same version is already published
merida1macOS 12.7.1 Monterey / x86_64  OK    OK    OK    OK  UNNEEDED, same version is already published
kjohnson1macOS 13.6.1 Ventura / arm64see weekly results here
Package 152/184HostnameOS / ArchINSTALLBUILDCHECKBUILD BIN
ShortRead 1.60.0  (landing page)
Bioconductor Package Maintainer
git_last_commit: 4304db4
git_last_commit_date: 2023-10-24 09:39:49 -0400
nebbiolo2Linux (Ubuntu 22.04.3 LTS) / x86_64  OK    OK    WARNINGS  UNNEEDED, same version is already published
palomino4Windows Server 2022 Datacenter / x64  OK    OK    WARNINGS    OK  UNNEEDED, same version is already published
merida1macOS 12.7.1 Monterey / x86_64  OK    OK    WARNINGS    OK  UNNEEDED, same version is already published
kjohnson1macOS 13.6.1 Ventura / arm64see weekly results here
Package 153/184HostnameOS / ArchINSTALLBUILDCHECKBUILD BIN
SICtools 1.32.0  (landing page)
Xiaobin Xing
git_last_commit: 49e086b
git_last_commit_date: 2023-10-24 10:45:43 -0400
nebbiolo2Linux (Ubuntu 22.04.3 LTS) / x86_64  OK    OK    WARNINGS  UNNEEDED, same version is already published
palomino4Windows Server 2022 Datacenter / x64... NOT SUPPORTED ...
merida1macOS 12.7.1 Monterey / x86_64  OK    OK    WARNINGS    OK  UNNEEDED, same version is already published
kjohnson1macOS 13.6.1 Ventura / arm64see weekly results here
Package 154/184HostnameOS / ArchINSTALLBUILDCHECKBUILD BIN
SimFFPE 1.14.0  (landing page)
Lanying Wei
git_last_commit: f9fc9c2
git_last_commit_date: 2023-10-24 11:19:01 -0400
nebbiolo2Linux (Ubuntu 22.04.3 LTS) / x86_64  OK    OK    OK  UNNEEDED, same version is already published
palomino4Windows Server 2022 Datacenter / x64  OK    OK    OK    OK  UNNEEDED, same version is already published
merida1macOS 12.7.1 Monterey / x86_64  OK    OK    OK    OK  UNNEEDED, same version is already published
kjohnson1macOS 13.6.1 Ventura / arm64see weekly results here
Package 155/184HostnameOS / ArchINSTALLBUILDCHECKBUILD BIN
single 1.6.0  (landing page)
Rocio Espada
git_last_commit: faeafcc
git_last_commit_date: 2023-10-24 11:40:50 -0400
nebbiolo2Linux (Ubuntu 22.04.3 LTS) / x86_64  OK    OK    OK  UNNEEDED, same version is already published
palomino4Windows Server 2022 Datacenter / x64  OK    OK    OK    OK  UNNEEDED, same version is already published
merida1macOS 12.7.1 Monterey / x86_64  OK    OK    OK    OK  UNNEEDED, same version is already published
kjohnson1macOS 13.6.1 Ventura / arm64see weekly results here
Package 156/184HostnameOS / ArchINSTALLBUILDCHECKBUILD BIN
sitadela 1.10.0  (landing page)
Panagiotis Moulos
git_last_commit: 5322f13
git_last_commit_date: 2023-10-24 11:30:53 -0400
nebbiolo2Linux (Ubuntu 22.04.3 LTS) / x86_64  OK    OK    OK  UNNEEDED, same version is already published
palomino4Windows Server 2022 Datacenter / x64  OK    OK    OK    OK  UNNEEDED, same version is already published
merida1macOS 12.7.1 Monterey / x86_64  OK    OK    OK    OK  UNNEEDED, same version is already published
kjohnson1macOS 13.6.1 Ventura / arm64see weekly results here
Package 157/184HostnameOS / ArchINSTALLBUILDCHECKBUILD BIN
SNPhood 1.32.0  (landing page)
Christian Arnold
git_last_commit: 4985db5
git_last_commit_date: 2023-10-24 10:45:59 -0400
nebbiolo2Linux (Ubuntu 22.04.3 LTS) / x86_64  OK    OK    OK  UNNEEDED, same version is already published
palomino4Windows Server 2022 Datacenter / x64  OK    OK    OK    OK  UNNEEDED, same version is already published
merida1macOS 12.7.1 Monterey / x86_64  OK    OK    OK    OK  UNNEEDED, same version is already published
kjohnson1macOS 13.6.1 Ventura / arm64see weekly results here
Package 158/184HostnameOS / ArchINSTALLBUILDCHECKBUILD BIN
soGGi 1.34.0  (landing page)
Tom Carroll
git_last_commit: 420bae0
git_last_commit_date: 2023-10-24 10:43:06 -0400
nebbiolo2Linux (Ubuntu 22.04.3 LTS) / x86_64  OK    OK    OK  UNNEEDED, same version is already published
palomino4Windows Server 2022 Datacenter / x64  OK    OK    OK    OK  UNNEEDED, same version is already published
merida1macOS 12.7.1 Monterey / x86_64  OK    OK    OK    OK  UNNEEDED, same version is already published
kjohnson1macOS 13.6.1 Ventura / arm64see weekly results here
Package 159/184HostnameOS / ArchINSTALLBUILDCHECKBUILD BIN
spiky 1.8.0  (landing page)
Tim Triche
git_last_commit: 9732d52
git_last_commit_date: 2023-10-24 11:34:17 -0400
nebbiolo2Linux (Ubuntu 22.04.3 LTS) / x86_64  OK    OK    OK  UNNEEDED, same version is already published
palomino4Windows Server 2022 Datacenter / x64  OK    OK    OK    OK  UNNEEDED, same version is already published
merida1macOS 12.7.1 Monterey / x86_64  OK    OK    OK    OK  UNNEEDED, same version is already published
kjohnson1macOS 13.6.1 Ventura / arm64see weekly results here
Package 160/184HostnameOS / ArchINSTALLBUILDCHECKBUILD BIN
SplicingGraphs 1.42.0  (landing page)
H. Pagès
git_last_commit: ed0e2f6
git_last_commit_date: 2023-10-24 09:53:57 -0400
nebbiolo2Linux (Ubuntu 22.04.3 LTS) / x86_64  OK    OK    WARNINGS  UNNEEDED, same version is already published
palomino4Windows Server 2022 Datacenter / x64  OK    OK    WARNINGS    OK  UNNEEDED, same version is already published
merida1macOS 12.7.1 Monterey / x86_64  OK    OK    WARNINGS    OK  UNNEEDED, same version is already published
kjohnson1macOS 13.6.1 Ventura / arm64see weekly results here
Package 161/184HostnameOS / ArchINSTALLBUILDCHECKBUILD BIN
srnadiff 1.22.2  (landing page)
Zytnicki Matthias
git_last_commit: 7ddd95f
git_last_commit_date: 2024-03-07 15:02:50 -0400
nebbiolo2Linux (Ubuntu 22.04.3 LTS) / x86_64  OK    OK    WARNINGS  UNNEEDED, same version is already published
palomino4Windows Server 2022 Datacenter / x64  OK    OK    WARNINGS    OK  UNNEEDED, same version is already published
merida1macOS 12.7.1 Monterey / x86_64  OK    OK    WARNINGS    OK  UNNEEDED, same version is already published
kjohnson1macOS 13.6.1 Ventura / arm64see weekly results here
Package 162/184HostnameOS / ArchINSTALLBUILDCHECKBUILD BIN
ssviz 1.36.0  (landing page)
Diana Low
git_last_commit: 18260e5
git_last_commit_date: 2023-10-24 09:59:35 -0400
nebbiolo2Linux (Ubuntu 22.04.3 LTS) / x86_64  OK    OK    OK  UNNEEDED, same version is already published
palomino4Windows Server 2022 Datacenter / x64  OK    OK    OK    OK  UNNEEDED, same version is already published
merida1macOS 12.7.1 Monterey / x86_64  OK    OK    OK    OK  UNNEEDED, same version is already published
kjohnson1macOS 13.6.1 Ventura / arm64see weekly results here
Package 163/184HostnameOS / ArchINSTALLBUILDCHECKBUILD BIN
strandCheckR 1.20.0  (landing page)
Thu-Hien To
git_last_commit: 29e1843
git_last_commit_date: 2023-10-24 11:06:47 -0400
nebbiolo2Linux (Ubuntu 22.04.3 LTS) / x86_64  OK    OK    OK  UNNEEDED, same version is already published
palomino4Windows Server 2022 Datacenter / x64  OK    OK    OK    OK  UNNEEDED, same version is already published
merida1macOS 12.7.1 Monterey / x86_64  OK    OK    OK    OK  UNNEEDED, same version is already published
kjohnson1macOS 13.6.1 Ventura / arm64see weekly results here
Package 164/184HostnameOS / ArchINSTALLBUILDCHECKBUILD BIN
systemPipeR 2.8.0  (landing page)
Thomas Girke
git_last_commit: 7cfd237
git_last_commit_date: 2023-10-24 10:38:27 -0400
nebbiolo2Linux (Ubuntu 22.04.3 LTS) / x86_64  OK    OK    OK  UNNEEDED, same version is already published
palomino4Windows Server 2022 Datacenter / x64  OK    OK    OK    OK  UNNEEDED, same version is already published
merida1macOS 12.7.1 Monterey / x86_64  OK    OK    OK    OK  UNNEEDED, same version is already published
kjohnson1macOS 13.6.1 Ventura / arm64see weekly results here
Package 165/184HostnameOS / ArchINSTALLBUILDCHECKBUILD BIN
tadar 1.0.0  (landing page)
Lachlan Baer
git_last_commit: fdabf0f
git_last_commit_date: 2023-10-24 11:51:23 -0400
nebbiolo2Linux (Ubuntu 22.04.3 LTS) / x86_64  OK    OK    OK  UNNEEDED, same version is already published
palomino4Windows Server 2022 Datacenter / x64  OK    OK    OK    OK  UNNEEDED, same version is already published
merida1macOS 12.7.1 Monterey / x86_64  OK    OK    OK    OK  UNNEEDED, same version is already published
kjohnson1macOS 13.6.1 Ventura / arm64see weekly results here
Package 166/184HostnameOS / ArchINSTALLBUILDCHECKBUILD BIN
TCseq 1.26.0  (landing page)
Mengjun Wu
git_last_commit: 9f77324
git_last_commit_date: 2023-10-24 10:54:52 -0400
nebbiolo2Linux (Ubuntu 22.04.3 LTS) / x86_64  OK    OK    WARNINGS  UNNEEDED, same version is already published
palomino4Windows Server 2022 Datacenter / x64  OK    OK    WARNINGS    OK  UNNEEDED, same version is already published
merida1macOS 12.7.1 Monterey / x86_64  OK    OK    WARNINGS    OK  UNNEEDED, same version is already published
kjohnson1macOS 13.6.1 Ventura / arm64see weekly results here
Package 167/184HostnameOS / ArchINSTALLBUILDCHECKBUILD BIN
TEQC 4.24.0  (landing page)
Sarah Bonnin
git_last_commit: b13930a
git_last_commit_date: 2023-10-24 09:45:23 -0400
nebbiolo2Linux (Ubuntu 22.04.3 LTS) / x86_64  OK    OK    WARNINGS  UNNEEDED, same version is already published
palomino4Windows Server 2022 Datacenter / x64  OK    OK    WARNINGS    OK  UNNEEDED, same version is already published
merida1macOS 12.7.1 Monterey / x86_64  OK    OK    WARNINGS    OK  UNNEEDED, same version is already published
kjohnson1macOS 13.6.1 Ventura / arm64see weekly results here
Package 168/184HostnameOS / ArchINSTALLBUILDCHECKBUILD BIN
TFutils 1.22.0  (landing page)
Vincent Carey
git_last_commit: 29d5e5c
git_last_commit_date: 2023-10-24 11:04:27 -0400
nebbiolo2Linux (Ubuntu 22.04.3 LTS) / x86_64  OK    OK    OK  UNNEEDED, same version is already published
palomino4Windows Server 2022 Datacenter / x64  OK    OK    OK    OK  UNNEEDED, same version is already published
merida1macOS 12.7.1 Monterey / x86_64  OK    OK    OK    OK  UNNEEDED, same version is already published
kjohnson1macOS 13.6.1 Ventura / arm64see weekly results here
Package 169/184HostnameOS / ArchINSTALLBUILDCHECKBUILD BIN
tracktables 1.36.0  (landing page)
Tom Carroll
git_last_commit: 8291a0a
git_last_commit_date: 2023-10-24 10:39:56 -0400
nebbiolo2Linux (Ubuntu 22.04.3 LTS) / x86_64  OK    OK    WARNINGS  UNNEEDED, same version is already published
palomino4Windows Server 2022 Datacenter / x64  OK    OK    WARNINGS    OK  UNNEEDED, same version is already published
merida1macOS 12.7.1 Monterey / x86_64  OK    OK    WARNINGS    OK  UNNEEDED, same version is already published
kjohnson1macOS 13.6.1 Ventura / arm64see weekly results here
Package 170/184HostnameOS / ArchINSTALLBUILDCHECKBUILD BIN
trackViewer 1.38.2  (landing page)
Jianhong Ou
git_last_commit: 9e62ddd
git_last_commit_date: 2024-03-18 15:25:13 -0400
nebbiolo2Linux (Ubuntu 22.04.3 LTS) / x86_64  OK    OK    OK  UNNEEDED, same version is already published
palomino4Windows Server 2022 Datacenter / x64  OK    OK    OK    OK  UNNEEDED, same version is already published
merida1macOS 12.7.1 Monterey / x86_64  OK    OK    OK    OK  UNNEEDED, same version is already published
kjohnson1macOS 13.6.1 Ventura / arm64see weekly results here
Package 171/184HostnameOS / ArchINSTALLBUILDCHECKBUILD BIN
transcriptR 1.30.0  (landing page)
Armen R. Karapetyan
git_last_commit: 0474b89
git_last_commit_date: 2023-10-24 10:46:44 -0400
nebbiolo2Linux (Ubuntu 22.04.3 LTS) / x86_64  OK    OK    OK  UNNEEDED, same version is already published
palomino4Windows Server 2022 Datacenter / x64  OK    OK    OK    OK  UNNEEDED, same version is already published
merida1macOS 12.7.1 Monterey / x86_64  OK    OK    OK    OK  UNNEEDED, same version is already published
kjohnson1macOS 13.6.1 Ventura / arm64see weekly results here
Package 172/184HostnameOS / ArchINSTALLBUILDCHECKBUILD BIN
TRESS 1.8.0  (landing page)
Zhenxing Guo
git_last_commit: 7e92939
git_last_commit_date: 2023-10-24 11:37:07 -0400
nebbiolo2Linux (Ubuntu 22.04.3 LTS) / x86_64  OK    OK    OK  UNNEEDED, same version is already published
palomino4Windows Server 2022 Datacenter / x64  OK    OK    OK    OK  UNNEEDED, same version is already published
merida1macOS 12.7.1 Monterey / x86_64  OK    OK    OK    OK  UNNEEDED, same version is already published
kjohnson1macOS 13.6.1 Ventura / arm64see weekly results here
Package 173/184HostnameOS / ArchINSTALLBUILDCHECKBUILD BIN
tRNAscanImport 1.22.0  (landing page)
Felix G.M. Ernst
git_last_commit: 2f69582
git_last_commit_date: 2023-10-24 11:03:16 -0400
nebbiolo2Linux (Ubuntu 22.04.3 LTS) / x86_64  OK    OK    OK  UNNEEDED, same version is already published
palomino4Windows Server 2022 Datacenter / x64  OK    OK    OK    OK  UNNEEDED, same version is already published
merida1macOS 12.7.1 Monterey / x86_64  OK    OK    OK    OK  UNNEEDED, same version is already published
kjohnson1macOS 13.6.1 Ventura / arm64see weekly results here
Package 174/184HostnameOS / ArchINSTALLBUILDCHECKBUILD BIN
TVTB 1.28.0  (landing page)
Kevin Rue-Albrecht
git_last_commit: 4bc60c2
git_last_commit_date: 2023-10-24 10:53:50 -0400
nebbiolo2Linux (Ubuntu 22.04.3 LTS) / x86_64  OK    OK    WARNINGS  UNNEEDED, same version is already published
palomino4Windows Server 2022 Datacenter / x64... NOT SUPPORTED ...
merida1macOS 12.7.1 Monterey / x86_64  OK    OK    WARNINGS    OK  UNNEEDED, same version is already published
kjohnson1macOS 13.6.1 Ventura / arm64see weekly results here
Package 175/184HostnameOS / ArchINSTALLBUILDCHECKBUILD BIN
UMI4Cats 1.12.0  (landing page)
Mireia Ramos-Rodriguez
git_last_commit: e9eed0e
git_last_commit_date: 2024-03-22 08:01:25 -0400
nebbiolo2Linux (Ubuntu 22.04.3 LTS) / x86_64  OK    OK    OK  UNNEEDED, same version is already published
palomino4Windows Server 2022 Datacenter / x64  OK    OK    OK    OK  UNNEEDED, same version is already published
merida1macOS 12.7.1 Monterey / x86_64  OK    OK    OK    OK  UNNEEDED, same version is already published
kjohnson1macOS 13.6.1 Ventura / arm64see weekly results here
Package 176/184HostnameOS / ArchINSTALLBUILDCHECKBUILD BIN
uncoverappLib 1.12.0  (landing page)
Emanuela Iovino
git_last_commit: 2424917
git_last_commit_date: 2023-10-24 11:24:30 -0400
nebbiolo2Linux (Ubuntu 22.04.3 LTS) / x86_64  OK    OK    OK  UNNEEDED, same version is already published
palomino4Windows Server 2022 Datacenter / x64  OK    OK    OK    OK  UNNEEDED, same version is already published
merida1macOS 12.7.1 Monterey / x86_64  OK    OK    OK    OK  UNNEEDED, same version is already published
kjohnson1macOS 13.6.1 Ventura / arm64see weekly results here
Package 177/184HostnameOS / ArchINSTALLBUILDCHECKBUILD BIN
VariantAnnotation 1.48.1  (landing page)
Bioconductor Package Maintainer
git_last_commit: ef918f8
git_last_commit_date: 2023-11-15 01:47:30 -0400
nebbiolo2Linux (Ubuntu 22.04.3 LTS) / x86_64  OK    OK    WARNINGS  UNNEEDED, same version is already published
palomino4Windows Server 2022 Datacenter / x64  OK    OK    WARNINGS    OK  UNNEEDED, same version is already published
merida1macOS 12.7.1 Monterey / x86_64  OK    OK    WARNINGS    OK  UNNEEDED, same version is already published
kjohnson1macOS 13.6.1 Ventura / arm64see weekly results here
Package 178/184HostnameOS / ArchINSTALLBUILDCHECKBUILD BIN
VariantFiltering 1.38.0  (landing page)
Robert Castelo
git_last_commit: fa37d53
git_last_commit_date: 2023-10-24 09:58:34 -0400
nebbiolo2Linux (Ubuntu 22.04.3 LTS) / x86_64  OK    OK    OK  UNNEEDED, same version is already published
palomino4Windows Server 2022 Datacenter / x64  OK    OK    OK    OK  UNNEEDED, same version is already published
merida1macOS 12.7.1 Monterey / x86_64  OK    OK    OK    OK  UNNEEDED, same version is already published
kjohnson1macOS 13.6.1 Ventura / arm64see weekly results here
Package 179/184HostnameOS / ArchINSTALLBUILDCHECKBUILD BIN
VariantTools 1.44.0  (landing page)
Michael Lawrence
git_last_commit: 905b2d2
git_last_commit_date: 2023-10-24 09:51:46 -0400
nebbiolo2Linux (Ubuntu 22.04.3 LTS) / x86_64  OK    OK    WARNINGS  UNNEEDED, same version is already published
palomino4Windows Server 2022 Datacenter / x64  OK    OK    WARNINGS    OK  UNNEEDED, same version is already published
merida1macOS 12.7.1 Monterey / x86_64  OK    OK    WARNINGS    OK  UNNEEDED, same version is already published
kjohnson1macOS 13.6.1 Ventura / arm64see weekly results here
Package 180/184HostnameOS / ArchINSTALLBUILDCHECKBUILD BIN
VaSP 1.14.0  (landing page)
Huihui Yu
git_last_commit: 9366806
git_last_commit_date: 2023-10-24 11:19:38 -0400
nebbiolo2Linux (Ubuntu 22.04.3 LTS) / x86_64  OK    OK    OK  UNNEEDED, same version is already published
palomino4Windows Server 2022 Datacenter / x64  OK    OK    OK    OK  UNNEEDED, same version is already published
merida1macOS 12.7.1 Monterey / x86_64  OK    OK    OK    OK  UNNEEDED, same version is already published
kjohnson1macOS 13.6.1 Ventura / arm64see weekly results here
Package 181/184HostnameOS / ArchINSTALLBUILDCHECKBUILD BIN
VCFArray 1.18.0  (landing page)
Qian Liu
git_last_commit: 83c4b58
git_last_commit_date: 2023-10-24 11:09:56 -0400
nebbiolo2Linux (Ubuntu 22.04.3 LTS) / x86_64  OK    OK    OK  UNNEEDED, same version is already published
palomino4Windows Server 2022 Datacenter / x64  OK    OK    OK    OK  UNNEEDED, same version is already published
merida1macOS 12.7.1 Monterey / x86_64  OK    OK    OK    OK  UNNEEDED, same version is already published
kjohnson1macOS 13.6.1 Ventura / arm64see weekly results here
Package 182/184HostnameOS / ArchINSTALLBUILDCHECKBUILD BIN
VplotR 1.12.1  (landing page)
Jacques Serizay
git_last_commit: 3f96ff5
git_last_commit_date: 2023-12-01 07:07:44 -0400
nebbiolo2Linux (Ubuntu 22.04.3 LTS) / x86_64  OK    OK    OK  UNNEEDED, same version is already published
palomino4Windows Server 2022 Datacenter / x64  OK    OK    OK    OK  UNNEEDED, same version is already published
merida1macOS 12.7.1 Monterey / x86_64  OK    OK    OK    OK  UNNEEDED, same version is already published
kjohnson1macOS 13.6.1 Ventura / arm64see weekly results here
Package 183/184HostnameOS / ArchINSTALLBUILDCHECKBUILD BIN
wavClusteR 2.36.0  (landing page)
Federico Comoglio
git_last_commit: bec1653
git_last_commit_date: 2023-10-24 09:59:22 -0400
nebbiolo2Linux (Ubuntu 22.04.3 LTS) / x86_64  OK    OK    OK  UNNEEDED, same version is already published
palomino4Windows Server 2022 Datacenter / x64  OK    OK    OK    OK  UNNEEDED, same version is already published
merida1macOS 12.7.1 Monterey / x86_64  OK    OK    OK    OK  UNNEEDED, same version is already published
kjohnson1macOS 13.6.1 Ventura / arm64see weekly results here
Package 184/184HostnameOS / ArchINSTALLBUILDCHECKBUILD BIN
ZygosityPredictor 1.2.0  (landing page)
Marco Rheinnecker
git_last_commit: e9e07df
git_last_commit_date: 2023-10-24 11:47:53 -0400
nebbiolo2Linux (Ubuntu 22.04.3 LTS) / x86_64  OK    OK    OK  UNNEEDED, same version is already published
palomino4Windows Server 2022 Datacenter / x64  OK    OK    OK    OK  UNNEEDED, same version is already published
merida1macOS 12.7.1 Monterey / x86_64  OK    OK    OK    OK  UNNEEDED, same version is already published
kjohnson1macOS 13.6.1 Ventura / arm64see weekly results here