Back to Multiple platform build/check report for BioC 3.13
ABCDEFGHIJKLMNOPQ[R]STUVWXYZ

This page was generated on 2021-07-30 15:05:39 -0400 (Fri, 30 Jul 2021).

CHECK results for RpsiXML on nebbiolo1

To the developers/maintainers of the RpsiXML package:
- Please allow up to 24 hours (and sometimes 48 hours) for your latest push to git@git.bioconductor.org:packages/RpsiXML.git to
reflect on this report. See How and When does the builder pull? When will my changes propagate? here for more information.
- Make sure to use the following settings in order to reproduce any error or warning you see on this page.

raw results

Package 1626/2041HostnameOS / ArchINSTALLBUILDCHECKBUILD BIN
RpsiXML 2.34.0  (landing page)
Jitao David Zhang
Snapshot Date: 2021-07-29 04:50:02 -0400 (Thu, 29 Jul 2021)
URL: https://git.bioconductor.org/packages/RpsiXML
Branch: RELEASE_3_13
Last Commit: 94db0a3
Last Changed Date: 2021-05-19 11:41:31 -0400 (Wed, 19 May 2021)
nebbiolo1Linux (Ubuntu 20.04.2 LTS) / x86_64  OK    OK    OK  UNNEEDED, same version is already published
tokay2Windows Server 2012 R2 Standard / x64  OK    OK    OK    OK  UNNEEDED, same version is already published
machv2macOS 10.14.6 Mojave / x86_64  OK    OK    OK    OK  UNNEEDED, same version is already published

Summary

Package: RpsiXML
Version: 2.34.0
Command: /home/biocbuild/bbs-3.13-bioc/R/bin/R CMD check --install=check:RpsiXML.install-out.txt --library=/home/biocbuild/bbs-3.13-bioc/R/library --no-vignettes --timings RpsiXML_2.34.0.tar.gz
StartedAt: 2021-07-29 11:28:40 -0400 (Thu, 29 Jul 2021)
EndedAt: 2021-07-29 11:30:39 -0400 (Thu, 29 Jul 2021)
EllapsedTime: 118.9 seconds
RetCode: 0
Status:   OK  
CheckDir: RpsiXML.Rcheck
Warnings: 0

Command output

##############################################################################
##############################################################################
###
### Running command:
###
###   /home/biocbuild/bbs-3.13-bioc/R/bin/R CMD check --install=check:RpsiXML.install-out.txt --library=/home/biocbuild/bbs-3.13-bioc/R/library --no-vignettes --timings RpsiXML_2.34.0.tar.gz
###
##############################################################################
##############################################################################


* using log directory ‘/home/biocbuild/bbs-3.13-bioc/meat/RpsiXML.Rcheck’
* using R version 4.1.0 (2021-05-18)
* using platform: x86_64-pc-linux-gnu (64-bit)
* using session charset: UTF-8
* using option ‘--no-vignettes’
* checking for file ‘RpsiXML/DESCRIPTION’ ... OK
* this is package ‘RpsiXML’ version ‘2.34.0’
* checking package namespace information ... OK
* checking package dependencies ... OK
* checking if this is a source package ... OK
* checking if there is a namespace ... OK
* checking for hidden files and directories ... OK
* checking for portable file names ... OK
* checking for sufficient/correct file permissions ... OK
* checking whether package ‘RpsiXML’ can be installed ... OK
* checking installed package size ... OK
* checking package directory ... OK
* checking ‘build’ directory ... OK
* checking DESCRIPTION meta-information ... OK
* checking top-level files ... OK
* checking for left-over files ... OK
* checking index information ... OK
* checking package subdirectories ... OK
* checking R files for non-ASCII characters ... OK
* checking R files for syntax errors ... OK
* checking whether the package can be loaded ... OK
* checking whether the package can be loaded with stated dependencies ... OK
* checking whether the package can be unloaded cleanly ... OK
* checking whether the namespace can be loaded with stated dependencies ... OK
* checking whether the namespace can be unloaded cleanly ... OK
* checking dependencies in R code ... OK
* checking S3 generic/method consistency ... OK
* checking replacement functions ... OK
* checking foreign function calls ... OK
* checking R code for possible problems ... OK
* checking Rd files ... OK
* checking Rd metadata ... OK
* checking Rd cross-references ... OK
* checking for missing documentation entries ... OK
* checking for code/documentation mismatches ... OK
* checking Rd \usage sections ... OK
* checking Rd contents ... OK
* checking for unstated dependencies in examples ... OK
* checking files in ‘vignettes’ ... OK
* checking examples ... OK
* checking for unstated dependencies in ‘tests’ ... OK
* checking tests ...
  Running ‘testthat.R’
 OK
* checking for unstated dependencies in vignettes ... OK
* checking package vignettes in ‘inst/doc’ ... OK
* checking running R code from vignettes ... SKIPPED
* checking re-building of vignette outputs ... SKIPPED
* checking PDF version of manual ... OK
* DONE

Status: OK


Installation output

RpsiXML.Rcheck/00install.out

##############################################################################
##############################################################################
###
### Running command:
###
###   /home/biocbuild/bbs-3.13-bioc/R/bin/R CMD INSTALL RpsiXML
###
##############################################################################
##############################################################################


* installing to library ‘/home/biocbuild/bbs-3.13-bioc/R/library’
* installing *source* package ‘RpsiXML’ ...
** using staged installation
** R
** inst
** byte-compile and prepare package for lazy loading
** help
*** installing help indices
** building package indices
** installing vignettes
** testing if installed package can be loaded from temporary location
** testing if installed package can be loaded from final location
** testing if installed package keeps a record of temporary installation path
* DONE (RpsiXML)

Tests output

RpsiXML.Rcheck/tests/testthat.Rout


R version 4.1.0 (2021-05-18) -- "Camp Pontanezen"
Copyright (C) 2021 The R Foundation for Statistical Computing
Platform: x86_64-pc-linux-gnu (64-bit)

R is free software and comes with ABSOLUTELY NO WARRANTY.
You are welcome to redistribute it under certain conditions.
Type 'license()' or 'licence()' for distribution details.

R is a collaborative project with many contributors.
Type 'contributors()' for more information and
'citation()' on how to cite R or R packages in publications.

Type 'demo()' for some demos, 'help()' for on-line help, or
'help.start()' for an HTML browser interface to help.
Type 'q()' to quit R.

> library(testthat)
> library(RpsiXML)
Loading required package: XML
> 
> test_check("RpsiXML")
1 Entries found
Parsing entry 1 
  Parsing experiments: .........
  Parsing interactors:

  14% ======>
  29% ============>
  43% =================>
  57% =======================>
  71% ============================>
  86% ==================================>
  100% ========================================>
  Parsing interactions:
......
1 Entries found
Parsing entry 1 
  Parsing experiments: ...
  Parsing interactors:

  14% ======>
  29% ============>
  43% =================>
  57% =======================>
  71% ============================>
  86% ==================================>
  100% ========================================>
  Parsing interactions:
.....
1 Entries found
Parsing entry 1 
  Parsing experiments: ..
  Parsing interactors:

  6% ==>
  12% =====>
  19% ========>
  25% ==========>
  31% ============>
  38% ===============>
  44% ==================>
  50% ====================>
  56% ======================>
  62% =========================>
  69% ============================>
  75% ==============================>
  81% ================================>
  88% ===================================>
  94% ======================================>
  100% ========================================>
  Parsing interactions:
.................
1 Entries found
Parsing entry 1 
  Parsing experiments: ..
  Parsing interactors:

  3% =>
  6% ==>
  10% ====>
  13% =====>
  16% ======>
  19% ========>
  23% =========>
  26% ==========>
  29% ============>
  32% =============>
  35% ==============>
  39% ================>
  42% =================>
  45% ==================>
  48% ===================>
  52% =====================>
  55% ======================>
  58% =======================>
  61% ========================>
  65% ==========================>
  68% ===========================>
  71% ============================>
  74% ==============================>
  77% ===============================>
  81% ================================>
  84% ==================================>
  87% ===================================>
  90% ====================================>
  94% ======================================>
  97% =======================================>
  100% ========================================>
  Parsing interactions:
.............................................................................................
1 Entries found
Parsing entry 1 
  Parsing experiments: ..
  Parsing interactors:

  3% =>
  6% ==>
  10% ====>
  13% =====>
  16% ======>
  19% ========>
  23% =========>
  26% ==========>
  29% ============>
  32% =============>
  35% ==============>
  39% ================>
  42% =================>
  45% ==================>
  48% ===================>
  52% =====================>
  55% ======================>
  58% =======================>
  61% ========================>
  65% ==========================>
  68% ===========================>
  71% ============================>
  74% ==============================>
  77% ===============================>
  81% ================================>
  84% ==================================>
  87% ===================================>
  90% ====================================>
  94% ======================================>
  97% =======================================>
  100% ========================================>
  Parsing interactions:
.............................................................................................
1 Entries found
Parsing entry 1 
  Parsing experiments: 
  Parsing interactors:

  3% =>
  5% ==>
  8% ===>
  10% ====>
  13% =====>
  15% ======>
  18% =======>
  20% ========>
  23% =========>
  25% ==========>
  28% ===========>
  30% ============>
  33% =============>
  35% ==============>
  38% ===============>
  40% ================>
  43% =================>
  45% ==================>
  48% ===================>
  50% ====================>
  53% =====================>
  55% ======================>
  58% =======================>
  60% ========================>
  63% =========================>
  65% ==========================>
  68% ===========================>
  70% ============================>
  73% =============================>
  75% ==============================>
  78% ===============================>
  80% ================================>
  83% =================================>
  86% ==================================>
  88% ===================================>
  91% ====================================>
  93% =====================================>
  96% ======================================>
  98% =======================================>
  100% ========================================>
  Parsing interactions:
............................................................................................................................................................................................................................................................................................................................................................................................................................................................................................................................................................................................................................................................................................................................................................................................................................................................................................................................................................................................................................................................................................................................................................................................................................................................................................................................................................................................................................................................................................................................................................................................................................................................................................................................................................................................................................................
141 Entries found
Parsing entry 1 
  Parsing experiments: 
  Parsing interactors:

  50% ====================>
  100% ========================================>
  Parsing interactions:
.
[ FAIL 0 | WARN 0 | SKIP 0 | PASS 0 ]
> 
> proc.time()
   user  system elapsed 
 15.127   0.509  15.626 

Example timings

RpsiXML.Rcheck/RpsiXML-Ex.timings

nameusersystemelapsed
availableXrefs0.0460.0000.047
bait0.0310.0000.031
buildPCHypergraph1.6040.0961.701
complexName0.9600.0120.972
complexes1.0620.0681.129
eListHandler0.0020.0040.007
getAbstractByPMID0.2240.0240.788
graphSpeciesConverter1.5810.0321.613
interactionType0.0380.0000.039
interactions0.0370.0040.041
interactorInfo0.0370.0000.038
interactors1.1110.1241.235
null2na0.0000.0010.001
parsePsimi25Interaction1.2130.0351.249
psimi25Complex-class0.0000.0020.002
psimi25ComplexEntry-class0.0000.0010.001
psimi25Experiment-class0.0010.0000.000
psimi25Graph-class0.0010.0000.001
psimi25Hypergraph-class1.0080.0121.020
psimi25Hypergraph2GraphNEL0.0000.0000.001
psimi25Interaction-class0.0010.0000.001
psimi25InteractionEntry-class0.0000.0010.001
psimi25Interactor-class0.0000.0010.001
psimi25Source-class0.0000.0010.001
psimi25XML2Graph1.3240.0321.356
separateXMLDataByExpt0.2480.0080.256
translateID3.4630.1403.604
uniprot000
validatePSIMI250.0370.0130.051