Back to Multiple platform build/check report for BioC 3.13
ABCDEFGHIJKLMNOPQ[R]STUVWXYZ

This page was generated on 2021-06-18 14:05:33 -0400 (Fri, 18 Jun 2021).

All results for package RnBeads

To the developers/maintainers of the RnBeads package:
- Please allow up to 24 hours (and sometimes 48 hours) for your latest push to git@git.bioconductor.org:packages/RnBeads.git to
reflect on this report. See How and When does the builder pull? When will my changes propagate? here for more information.
- Make sure to use the following settings in order to reproduce any error or warning you see on this page.

raw results

Package 1614/2041HostnameOS / ArchINSTALLBUILDCHECKBUILD BIN
RnBeads 2.10.0  (landing page)
Fabian Mueller
Snapshot Date: 2021-06-17 06:50:12 -0400 (Thu, 17 Jun 2021)
URL: https://git.bioconductor.org/packages/RnBeads
Branch: RELEASE_3_13
Last Commit: 8929f8e
Last Changed Date: 2021-05-21 03:15:12 -0400 (Fri, 21 May 2021)
nebbiolo1Linux (Ubuntu 20.04.2 LTS) / x86_64  OK    OK    OK  UNNEEDED, same version is already published
tokay2Windows Server 2012 R2 Standard / x64  OK    OK    OK    OK  UNNEEDED, same version is already published
machv2macOS 10.14.6 Mojave / x86_64  OK    OK    OK    OK  UNNEEDED, same version is already published

Results for Bioconductor software packages that depend directly on package RnBeads

QUICK STATSOS / ArchINSTALLBUILDCHECKBUILD BIN
nebbiolo1Linux (Ubuntu 20.04.2 LTS) / x86_64
001
001
0001
tokay2Windows Server 2012 R2 Standard / x64
001
001
0001
001
machv2macOS 10.14.6 Mojave / x86_64
001
001
0001
001
Package 1/1HostnameOS / ArchINSTALLBUILDCHECKBUILD BIN
MAGAR 1.0.0  (landing page)
Scherer Michael
Last Commit: 0cd7d6d
Last Changed Date: 2021-05-19 12:59:59 -0400
nebbiolo1Linux (Ubuntu 20.04.2 LTS) / x86_64  OK    OK    OK  UNNEEDED, same version is already published
tokay2Windows Server 2012 R2 Standard / x64  OK    OK    OK    OK  UNNEEDED, same version is already published
machv2macOS 10.14.6 Mojave / x86_64  OK    OK    OK    OK  UNNEEDED, same version is already published