Back to Multiple platform build/check report for BioC 3.14
ABCDEFGHIJKLMNOPQ[R]STUVWXYZ

This page was generated on 2021-11-24 15:05:44 -0500 (Wed, 24 Nov 2021).

INSTALL results for RiboProfiling on tokay2

To the developers/maintainers of the RiboProfiling package:
- Please allow up to 24 hours (and sometimes 48 hours) for your latest push to git@git.bioconductor.org:packages/RiboProfiling.git to
reflect on this report. See How and When does the builder pull? When will my changes propagate? here for more information.
- Make sure to use the following settings in order to reproduce any error or warning you see on this page.

raw results

Package 1606/2083HostnameOS / ArchINSTALLBUILDCHECKBUILD BIN
RiboProfiling 1.24.0  (landing page)
A. Popa
Snapshot Date: 2021-11-23 04:15:06 -0500 (Tue, 23 Nov 2021)
git_url: https://git.bioconductor.org/packages/RiboProfiling
git_branch: RELEASE_3_14
git_last_commit: 225f775
git_last_commit_date: 2021-10-26 12:23:25 -0500 (Tue, 26 Oct 2021)
nebbiolo2Linux (Ubuntu 20.04.3 LTS) / x86_64  OK    OK    WARNINGS  UNNEEDED, same version is already published
tokay2Windows Server 2012 R2 Standard / x64  OK    OK    WARNINGS    OK  UNNEEDED, same version is already published
machv2macOS 10.14.6 Mojave / x86_64  OK    OK    WARNINGS    OK  UNNEEDED, same version is already published

Summary

Package: RiboProfiling
Version: 1.24.0
Command: C:\cygwin\bin\curl.exe -O http://155.52.207.166/BBS/3.14/bioc/src/contrib/RiboProfiling_1.24.0.tar.gz && rm -rf RiboProfiling.buildbin-libdir && mkdir RiboProfiling.buildbin-libdir && C:\Users\biocbuild\bbs-3.14-bioc\R\bin\R.exe CMD INSTALL --merge-multiarch --build --library=RiboProfiling.buildbin-libdir RiboProfiling_1.24.0.tar.gz && C:\Users\biocbuild\bbs-3.14-bioc\R\bin\R.exe CMD INSTALL RiboProfiling_1.24.0.zip && rm RiboProfiling_1.24.0.tar.gz RiboProfiling_1.24.0.zip
StartedAt: 2021-11-23 09:12:11 -0500 (Tue, 23 Nov 2021)
EndedAt: 2021-11-23 09:13:25 -0500 (Tue, 23 Nov 2021)
EllapsedTime: 73.8 seconds
RetCode: 0
Status:   OK  

Command output

##############################################################################
##############################################################################
###
### Running command:
###
###   C:\cygwin\bin\curl.exe -O http://155.52.207.166/BBS/3.14/bioc/src/contrib/RiboProfiling_1.24.0.tar.gz && rm -rf RiboProfiling.buildbin-libdir && mkdir RiboProfiling.buildbin-libdir && C:\Users\biocbuild\bbs-3.14-bioc\R\bin\R.exe CMD INSTALL --merge-multiarch --build --library=RiboProfiling.buildbin-libdir RiboProfiling_1.24.0.tar.gz && C:\Users\biocbuild\bbs-3.14-bioc\R\bin\R.exe CMD INSTALL RiboProfiling_1.24.0.zip && rm RiboProfiling_1.24.0.tar.gz RiboProfiling_1.24.0.zip
###
##############################################################################
##############################################################################


  % Total    % Received % Xferd  Average Speed   Time    Time     Time  Current
                                 Dload  Upload   Total   Spent    Left  Speed

  0     0    0     0    0     0      0      0 --:--:-- --:--:-- --:--:--     0
 19 4319k   19  855k    0     0  1451k      0  0:00:02 --:--:--  0:00:02 1449k
 79 4319k   79 3443k    0     0  2136k      0  0:00:02  0:00:01  0:00:01 2137k
100 4319k  100 4319k    0     0  2306k      0  0:00:01  0:00:01 --:--:-- 2307k

install for i386

* installing *source* package 'RiboProfiling' ...
** using staged installation
** R
** data
** inst
** byte-compile and prepare package for lazy loading
Warning: replacing previous import 'BiocGenerics::Position' by 'ggplot2::Position' when loading 'RiboProfiling'
** help
*** installing help indices
  converting help for package 'RiboProfiling'
    finding HTML links ... done
    RiboProfiling                           html  
    aroundPromoter                          html  
    cdsPosTransc                            html  
    codonDataCtrl                           html  
    codonIndexCovCtrl                       html  
    codonInfo                               html  
    codonPCA                                html  
    countShiftReads                         html  
    countsPlot                              html  
    ctrlGAlignments                         html  
    histMatchLength                         html  
    orfRelativePos                          html  
    plotSummarizedCov                       html  
    printPCA                                html  
    readStartCov                            html  
    readsToStartOrEnd                       html  
    riboSeqFromBAM                          html  
** building package indices
** installing vignettes
** testing if installed package can be loaded from temporary location
Warning: replacing previous import 'BiocGenerics::Position' by 'ggplot2::Position' when loading 'RiboProfiling'
** testing if installed package can be loaded from final location
Warning: replacing previous import 'BiocGenerics::Position' by 'ggplot2::Position' when loading 'RiboProfiling'
** testing if installed package keeps a record of temporary installation path

install for x64

* installing *source* package 'RiboProfiling' ...
** testing if installed package can be loaded
Warning: replacing previous import 'BiocGenerics::Position' by 'ggplot2::Position' when loading 'RiboProfiling'
* MD5 sums
packaged installation of 'RiboProfiling' as RiboProfiling_1.24.0.zip
* DONE (RiboProfiling)
* installing to library 'C:/Users/biocbuild/bbs-3.14-bioc/R/library'
package 'RiboProfiling' successfully unpacked and MD5 sums checked