Index of /checkResults/release/bioc-LATEST/Rhisat2/raw-results/merida1

[ICO]NameLast modifiedSizeDescription

[DIR]Parent Directory  -  
[TXT]buildbin-out.txt13-Jul-2024 06:41 76K 
[   ]buildbin-summary.dcf13-Jul-2024 06:41 529  
[TXT]buildsrc-out.txt13-Jul-2024 06:41 846  
[   ]buildsrc-summary.dcf13-Jul-2024 06:41 428  
[TXT]checksrc-out.txt13-Jul-2024 06:41 4.8K 
[   ]checksrc-summary.dcf13-Jul-2024 06:41 450  
[TXT]install-out.txt13-Jul-2024 06:41 74K 
[   ]install-summary.dcf13-Jul-2024 06:41 270