Index of /checkResults/release/bioc-LATEST/Rhisat2/raw-results/kjohnson1

[ICO]NameLast modifiedSizeDescription

[DIR]Parent Directory  -  
[TXT]buildbin-out.txt17-Jul-2024 06:42 114K 
[   ]buildbin-summary.dcf17-Jul-2024 06:42 530  
[TXT]buildsrc-out.txt20-Jul-2024 06:41 846  
[   ]buildsrc-summary.dcf20-Jul-2024 06:41 428  
[TXT]checksrc-out.txt20-Jul-2024 06:41 4.7K 
[   ]checksrc-summary.dcf20-Jul-2024 06:41 450  
[TXT]install-out.txt20-Jul-2024 06:41 112K 
[   ]install-summary.dcf20-Jul-2024 06:41 270