Back to Multiple platform build/check report for BioC 3.13
ABCDEFGHIJKLMNOPQ[R]STUVWXYZ

This page was generated on 2021-07-30 15:06:07 -0400 (Fri, 30 Jul 2021).

BUILD results for Rgraphviz on tokay2

To the developers/maintainers of the Rgraphviz package:
- Please allow up to 24 hours (and sometimes 48 hours) for your latest push to git@git.bioconductor.org:packages/Rgraphviz.git to
reflect on this report. See How and When does the builder pull? When will my changes propagate? here for more information.
- Make sure to use the following settings in order to reproduce any error or warning you see on this page.

raw results

Package 1569/2041HostnameOS / ArchINSTALLBUILDCHECKBUILD BIN
Rgraphviz 2.36.0  (landing page)
Kasper Daniel Hansen
Snapshot Date: 2021-07-29 04:50:02 -0400 (Thu, 29 Jul 2021)
URL: https://git.bioconductor.org/packages/Rgraphviz
Branch: RELEASE_3_13
Last Commit: 1ea05ef
Last Changed Date: 2021-05-19 11:33:11 -0400 (Wed, 19 May 2021)
nebbiolo1Linux (Ubuntu 20.04.2 LTS) / x86_64  OK    OK    WARNINGS  UNNEEDED, same version is already published
tokay2Windows Server 2012 R2 Standard / x64  OK    OK    OK    OK  UNNEEDED, same version is already published
machv2macOS 10.14.6 Mojave / x86_64  OK    OK    WARNINGS    OK  UNNEEDED, same version is already published

Summary

Package: Rgraphviz
Version: 2.36.0
Command: chmod a+r Rgraphviz -R && C:\Users\biocbuild\bbs-3.13-bioc\R\bin\R.exe CMD build --keep-empty-dirs --no-resave-data Rgraphviz
StartedAt: 2021-07-29 17:51:17 -0400 (Thu, 29 Jul 2021)
EndedAt: 2021-07-29 17:52:53 -0400 (Thu, 29 Jul 2021)
EllapsedTime: 95.6 seconds
RetCode: 0
Status:   OK  
PackageFile: Rgraphviz_2.36.0.tar.gz
PackageFileSize: 7.106 MiB

Command output

##############################################################################
##############################################################################
###
### Running command:
###
###   chmod a+r Rgraphviz -R && C:\Users\biocbuild\bbs-3.13-bioc\R\bin\R.exe CMD build --keep-empty-dirs --no-resave-data Rgraphviz
###
##############################################################################
##############################################################################


* checking for file 'Rgraphviz/DESCRIPTION' ... OK
* preparing 'Rgraphviz':
* checking DESCRIPTION meta-information ... OK
* cleaning src
* running 'cleanup.win'
* installing the package to build vignettes
* creating vignettes ... OK
* cleaning src
* running 'cleanup.win'
* checking for LF line-endings in source and make files and shell scripts
* checking for empty or unneeded directories
* building 'Rgraphviz_2.36.0.tar.gz'
Warning: file 'Rgraphviz/cleanup' did not have execute permissions: corrected
Warning: file 'Rgraphviz/configure' did not have execute permissions: corrected
Warning: file 'Rgraphviz/src/graphviz/configure' did not have execute permissions: corrected
Warning: file 'Rgraphviz/src/graphviz/libltdl/configure' did not have execute permissions: corrected