Back to Multiple platform build/check report for BioC 3.13
ABCDEFGHIJKLMNOPQ[R]STUVWXYZ

This page was generated on 2021-09-15 15:04:49 -0400 (Wed, 15 Sep 2021).

All results for package Rgraphviz

To the developers/maintainers of the Rgraphviz package:
- Please allow up to 24 hours (and sometimes 48 hours) for your latest push to git@git.bioconductor.org:packages/Rgraphviz.git to
reflect on this report. See How and When does the builder pull? When will my changes propagate? here for more information.
- Make sure to use the following settings in order to reproduce any error or warning you see on this page.

raw results

Package 1569/2041HostnameOS / ArchINSTALLBUILDCHECKBUILD BIN
Rgraphviz 2.36.0  (landing page)
Kasper Daniel Hansen
Snapshot Date: 2021-09-14 04:50:06 -0400 (Tue, 14 Sep 2021)
git_url: https://git.bioconductor.org/packages/Rgraphviz
git_branch: RELEASE_3_13
git_last_commit: 1ea05ef
git_last_commit_date: 2021-05-19 11:33:11 -0400 (Wed, 19 May 2021)
nebbiolo1Linux (Ubuntu 20.04.2 LTS) / x86_64  OK    OK    WARNINGS  UNNEEDED, same version is already published
tokay2Windows Server 2012 R2 Standard / x64  OK    OK    OK    OK  UNNEEDED, same version is already published
machv2macOS 10.14.6 Mojave / x86_64  OK    OK    WARNINGS    OK  UNNEEDED, same version is already published

Results for Bioconductor software packages that depend directly on package Rgraphviz

QUICK STATSOS / ArchINSTALLBUILDCHECKBUILD BIN
nebbiolo1Linux (Ubuntu 20.04.2 LTS) / x86_64
0136
0235
00827
tokay2Windows Server 2012 R2 Standard / x64
0135
0234
01825
0034
machv2macOS 10.14.6 Mojave / x86_64
0135
0234
00826
0034
Package 1/37HostnameOS / ArchINSTALLBUILDCHECKBUILD BIN
apComplex 2.58.0  (landing page)
Denise Scholtens
git_last_commit: 9d396a7
git_last_commit_date: 2021-05-19 11:35:18 -0400
nebbiolo1Linux (Ubuntu 20.04.2 LTS) / x86_64  OK    OK    OK  UNNEEDED, same version is already published
tokay2Windows Server 2012 R2 Standard / x64  OK    OK    OK    OK  UNNEEDED, same version is already published
machv2macOS 10.14.6 Mojave / x86_64  OK    OK    OK    OK  UNNEEDED, same version is already published
Package 2/37HostnameOS / ArchINSTALLBUILDCHECKBUILD BIN
biocGraph 1.54.0  (landing page)
Florian Hahne
git_last_commit: f0f25d4
git_last_commit_date: 2021-05-19 11:39:20 -0400
nebbiolo1Linux (Ubuntu 20.04.2 LTS) / x86_64  OK    OK    OK  UNNEEDED, same version is already published
tokay2Windows Server 2012 R2 Standard / x64  OK    OK    OK    OK  UNNEEDED, same version is already published
machv2macOS 10.14.6 Mojave / x86_64  OK    OK    OK    OK  UNNEEDED, same version is already published
Package 3/37HostnameOS / ArchINSTALLBUILDCHECKBUILD BIN
BiocOncoTK 1.12.1  (landing page)
VJ Carey
git_last_commit: 5b4a389
git_last_commit_date: 2021-06-28 15:44:05 -0400
nebbiolo1Linux (Ubuntu 20.04.2 LTS) / x86_64  OK    OK    OK  UNNEEDED, same version is already published
tokay2Windows Server 2012 R2 Standard / x64  OK    OK    OK    OK  UNNEEDED, same version is already published
machv2macOS 10.14.6 Mojave / x86_64  OK    OK    OK    OK  UNNEEDED, same version is already published
Package 4/37HostnameOS / ArchINSTALLBUILDCHECKBUILD BIN
BioMVCClass 1.60.0  (landing page)
Elizabeth Whalen
git_last_commit: b626fb8
git_last_commit_date: 2021-05-19 11:37:57 -0400
nebbiolo1Linux (Ubuntu 20.04.2 LTS) / x86_64  OK    OK    OK  UNNEEDED, same version is already published
tokay2Windows Server 2012 R2 Standard / x64  OK    OK    OK    OK  UNNEEDED, same version is already published
machv2macOS 10.14.6 Mojave / x86_64  OK    OK    OK    OK  UNNEEDED, same version is already published
Package 5/37HostnameOS / ArchINSTALLBUILDCHECKBUILD BIN
bnem 1.0.0  (landing page)
Martin Pirkl
git_last_commit: 3109efd
git_last_commit_date: 2021-05-19 12:58:21 -0400
nebbiolo1Linux (Ubuntu 20.04.2 LTS) / x86_64  OK    OK    OK  UNNEEDED, same version is already published
tokay2Windows Server 2012 R2 Standard / x64  OK    OK    OK    OK  UNNEEDED, same version is already published
machv2macOS 10.14.6 Mojave / x86_64  OK    OK    OK    OK  UNNEEDED, same version is already published
Package 6/37HostnameOS / ArchINSTALLBUILDCHECKBUILD BIN
CellNOptR 1.38.0  (landing page)
A.Gabor
git_last_commit: 8e211e0
git_last_commit_date: 2021-05-19 11:50:40 -0400
nebbiolo1Linux (Ubuntu 20.04.2 LTS) / x86_64  OK    OK    WARNINGS  UNNEEDED, same version is already published
tokay2Windows Server 2012 R2 Standard / x64  OK    OK    WARNINGS    OK  UNNEEDED, same version is already published
machv2macOS 10.14.6 Mojave / x86_64  OK    OK    WARNINGS    OK  UNNEEDED, same version is already published
Package 7/37HostnameOS / ArchINSTALLBUILDCHECKBUILD BIN
chimeraviz 1.18.0  (landing page)
Stian Lågstad
git_last_commit: bc2b277
git_last_commit_date: 2021-05-19 12:24:46 -0400
nebbiolo1Linux (Ubuntu 20.04.2 LTS) / x86_64  OK    OK    OK  UNNEEDED, same version is already published
tokay2Windows Server 2012 R2 Standard / x64  OK    OK    OK    OK  UNNEEDED, same version is already published
machv2macOS 10.14.6 Mojave / x86_64  OK    OK    OK    OK  UNNEEDED, same version is already published
Package 8/37HostnameOS / ArchINSTALLBUILDCHECKBUILD BIN
CompGO 1.28.0  (landing page)
Ashley J. Waardenberg
git_last_commit: e8e77da
git_last_commit_date: 2021-05-19 12:04:07 -0400
nebbiolo1Linux (Ubuntu 20.04.2 LTS) / x86_64  OK    OK    WARNINGS  UNNEEDED, same version is already published
tokay2Windows Server 2012 R2 Standard / x64  OK    OK    WARNINGS    OK  UNNEEDED, same version is already published
machv2macOS 10.14.6 Mojave / x86_64  OK    OK    WARNINGS    OK  UNNEEDED, same version is already published
Package 9/37HostnameOS / ArchINSTALLBUILDCHECKBUILD BIN
CytoML 2.4.0  (landing page)
Mike Jiang
git_last_commit: 6e64d69
git_last_commit_date: 2021-05-19 12:21:29 -0400
nebbiolo1Linux (Ubuntu 20.04.2 LTS) / x86_64  OK    OK    WARNINGS  UNNEEDED, same version is already published
tokay2Windows Server 2012 R2 Standard / x64  OK    OK    WARNINGS    OK  UNNEEDED, same version is already published
machv2macOS 10.14.6 Mojave / x86_64  OK    OK    WARNINGS    OK  UNNEEDED, same version is already published
Package 10/37HostnameOS / ArchINSTALLBUILDCHECKBUILD BIN
dce 1.0.0  (landing page)
Kim Philipp Jablonski
git_last_commit: a66589d
git_last_commit_date: 2021-05-19 13:00:18 -0400
nebbiolo1Linux (Ubuntu 20.04.2 LTS) / x86_64  OK    OK    OK  UNNEEDED, same version is already published
tokay2Windows Server 2012 R2 Standard / x64  OK    OK    OK    OK  UNNEEDED, same version is already published
machv2macOS 10.14.6 Mojave / x86_64  OK    OK    OK    OK  UNNEEDED, same version is already published
Package 11/37HostnameOS / ArchINSTALLBUILDCHECKBUILD BIN
DEGraph 1.44.0  (landing page)
Laurent Jacob
git_last_commit: 49e7998
git_last_commit_date: 2021-05-19 11:46:48 -0400
nebbiolo1Linux (Ubuntu 20.04.2 LTS) / x86_64  OK    OK    OK  UNNEEDED, same version is already published
tokay2Windows Server 2012 R2 Standard / x64... NOT SUPPORTED ...
machv2macOS 10.14.6 Mojave / x86_64... NOT SUPPORTED ...
Package 12/37HostnameOS / ArchINSTALLBUILDCHECKBUILD BIN
EnrichmentBrowser 2.22.2  (landing page)
Ludwig Geistlinger
git_last_commit: e3ba414
git_last_commit_date: 2021-07-21 08:44:59 -0400
nebbiolo1Linux (Ubuntu 20.04.2 LTS) / x86_64  OK    OK    OK  UNNEEDED, same version is already published
tokay2Windows Server 2012 R2 Standard / x64  OK    OK    OK    OK  UNNEEDED, same version is already published
machv2macOS 10.14.6 Mojave / x86_64  OK    OK    OK    OK  UNNEEDED, same version is already published
Package 13/37HostnameOS / ArchINSTALLBUILDCHECKBUILD BIN
flowCL 1.30.0  (landing page)
Justin Meskas
git_last_commit: f0a1525
git_last_commit_date: 2021-05-19 12:04:19 -0400
nebbiolo1Linux (Ubuntu 20.04.2 LTS) / x86_64  OK    OK    OK  UNNEEDED, same version is already published
tokay2Windows Server 2012 R2 Standard / x64  OK    OK    OK    OK  UNNEEDED, same version is already published
machv2macOS 10.14.6 Mojave / x86_64  OK    OK    OK    OK  UNNEEDED, same version is already published
Package 14/37HostnameOS / ArchINSTALLBUILDCHECKBUILD BIN
flowMerge 2.40.0  (landing page)
Greg Finak
git_last_commit: beb6e37
git_last_commit_date: 2021-05-19 11:43:25 -0400
nebbiolo1Linux (Ubuntu 20.04.2 LTS) / x86_64  OK    OK    OK  UNNEEDED, same version is already published
tokay2Windows Server 2012 R2 Standard / x64  OK    OK    OK    OK  UNNEEDED, same version is already published
machv2macOS 10.14.6 Mojave / x86_64  OK    OK    OK    OK  UNNEEDED, same version is already published
Package 15/37HostnameOS / ArchINSTALLBUILDCHECKBUILD BIN
flowWorkspace 4.4.0  (landing page)
Greg Finak , Mike Jiang
git_last_commit: 8b26faf
git_last_commit_date: 2021-05-19 11:48:41 -0400
nebbiolo1Linux (Ubuntu 20.04.2 LTS) / x86_64  OK    OK    WARNINGS  UNNEEDED, same version is already published
tokay2Windows Server 2012 R2 Standard / x64  OK    OK    WARNINGS    OK  UNNEEDED, same version is already published
machv2macOS 10.14.6 Mojave / x86_64  OK    OK    WARNINGS    OK  UNNEEDED, same version is already published
Package 16/37HostnameOS / ArchINSTALLBUILDCHECKBUILD BIN
GeneNetworkBuilder 1.34.0  (landing page)
Jianhong Ou
git_last_commit: 2e9cc20
git_last_commit_date: 2021-05-19 11:53:28 -0400
nebbiolo1Linux (Ubuntu 20.04.2 LTS) / x86_64  OK    OK    OK  UNNEEDED, same version is already published
tokay2Windows Server 2012 R2 Standard / x64  OK    OK    OK    OK  UNNEEDED, same version is already published
machv2macOS 10.14.6 Mojave / x86_64  OK    OK    OK    OK  UNNEEDED, same version is already published
Package 17/37HostnameOS / ArchINSTALLBUILDCHECKBUILD BIN
GOstats 2.58.0  (landing page)
Bioconductor Package Maintainer
git_last_commit: d3406a6
git_last_commit_date: 2021-05-19 11:34:28 -0400
nebbiolo1Linux (Ubuntu 20.04.2 LTS) / x86_64  OK    OK    OK  UNNEEDED, same version is already published
tokay2Windows Server 2012 R2 Standard / x64  OK    OK    OK    OK  UNNEEDED, same version is already published
machv2macOS 10.14.6 Mojave / x86_64  OK    OK    OK    OK  UNNEEDED, same version is already published
Package 18/37HostnameOS / ArchINSTALLBUILDCHECKBUILD BIN
hyperdraw 1.44.0  (landing page)
Paul Murrell
git_last_commit: 35eda74
git_last_commit_date: 2021-05-19 11:44:38 -0400
nebbiolo1Linux (Ubuntu 20.04.2 LTS) / x86_64  OK    OK    OK  UNNEEDED, same version is already published
tokay2Windows Server 2012 R2 Standard / x64  OK    OK    OK    OK  UNNEEDED, same version is already published
machv2macOS 10.14.6 Mojave / x86_64  OK    OK    OK    OK  UNNEEDED, same version is already published
Package 19/37HostnameOS / ArchINSTALLBUILDCHECKBUILD BIN
KEGGgraph 1.52.0  (landing page)
Jitao David Zhang
git_last_commit: 295f4c0
git_last_commit_date: 2021-05-19 11:42:28 -0400
nebbiolo1Linux (Ubuntu 20.04.2 LTS) / x86_64  OK    OK    OK  UNNEEDED, same version is already published
tokay2Windows Server 2012 R2 Standard / x64  OK    OK    OK    OK  UNNEEDED, same version is already published
machv2macOS 10.14.6 Mojave / x86_64  OK    OK    OK    OK  UNNEEDED, same version is already published
Package 20/37HostnameOS / ArchINSTALLBUILDCHECKBUILD BIN
MIGSA 1.16.0  (landing page)
Juan C. Rodriguez
git_last_commit: 021bffb
git_last_commit_date: 2021-05-19 12:26:14 -0400
nebbiolo1Linux (Ubuntu 20.04.2 LTS) / x86_64  OK    OK    OK  UNNEEDED, same version is already published
tokay2Windows Server 2012 R2 Standard / x64  OK    OK    ERROR    OK  
machv2macOS 10.14.6 Mojave / x86_64  OK    OK    OK    OK  UNNEEDED, same version is already published
Package 21/37HostnameOS / ArchINSTALLBUILDCHECKBUILD BIN
MineICA 1.32.0  (landing page)
Anne Biton
git_last_commit: def84c7
git_last_commit_date: 2021-05-19 11:57:33 -0400
nebbiolo1Linux (Ubuntu 20.04.2 LTS) / x86_64  OK    OK    WARNINGS  UNNEEDED, same version is already published
tokay2Windows Server 2012 R2 Standard / x64  OK    OK    WARNINGS    OK  UNNEEDED, same version is already published
machv2macOS 10.14.6 Mojave / x86_64  OK    OK    WARNINGS    OK  UNNEEDED, same version is already published
Package 22/37HostnameOS / ArchINSTALLBUILDCHECKBUILD BIN
mirIntegrator 1.22.0  (landing page)
Diana Diaz
git_last_commit: 7ce3bbd
git_last_commit_date: 2021-05-19 12:14:07 -0400
nebbiolo1Linux (Ubuntu 20.04.2 LTS) / x86_64  OK    OK    OK  UNNEEDED, same version is already published
tokay2Windows Server 2012 R2 Standard / x64  OK    OK    OK    OK  UNNEEDED, same version is already published
machv2macOS 10.14.6 Mojave / x86_64  OK    OK    OK    OK  UNNEEDED, same version is already published
Package 23/37HostnameOS / ArchINSTALLBUILDCHECKBUILD BIN
mnem 1.8.0  (landing page)
Martin Pirkl
git_last_commit: b3e3d91
git_last_commit_date: 2021-05-19 12:44:10 -0400
nebbiolo1Linux (Ubuntu 20.04.2 LTS) / x86_64  OK    OK    OK  UNNEEDED, same version is already published
tokay2Windows Server 2012 R2 Standard / x64  OK    OK    OK    OK  UNNEEDED, same version is already published
machv2macOS 10.14.6 Mojave / x86_64  OK    OK    OK    OK  UNNEEDED, same version is already published
Package 24/37HostnameOS / ArchINSTALLBUILDCHECKBUILD BIN
netresponse 1.52.0  (landing page)
Leo Lahti
git_last_commit: 1ecd688
git_last_commit_date: 2021-05-19 11:46:24 -0400
nebbiolo1Linux (Ubuntu 20.04.2 LTS) / x86_64  OK    OK    OK  UNNEEDED, same version is already published
tokay2Windows Server 2012 R2 Standard / x64  OK    OK    OK    OK  UNNEEDED, same version is already published
machv2macOS 10.14.6 Mojave / x86_64  OK    OK    OK    OK  UNNEEDED, same version is already published
Package 25/37HostnameOS / ArchINSTALLBUILDCHECKBUILD BIN
OncoSimulR 3.0.0  (landing page)
Ramon Diaz-Uriarte
git_last_commit: 3add541
git_last_commit_date: 2021-05-19 12:06:18 -0400
nebbiolo1Linux (Ubuntu 20.04.2 LTS) / x86_64  OK    OK    OK  UNNEEDED, same version is already published
tokay2Windows Server 2012 R2 Standard / x64  OK    OK    OK    OK  UNNEEDED, same version is already published
machv2macOS 10.14.6 Mojave / x86_64  OK    OK    OK    OK  UNNEEDED, same version is already published
Package 26/37HostnameOS / ArchINSTALLBUILDCHECKBUILD BIN
ontoProc 1.14.0  (landing page)
VJ Carey
git_last_commit: 2ba1033
git_last_commit_date: 2021-05-19 12:31:28 -0400
nebbiolo1Linux (Ubuntu 20.04.2 LTS) / x86_64  OK    OK    OK  UNNEEDED, same version is already published
tokay2Windows Server 2012 R2 Standard / x64  OK    OK    OK    OK  UNNEEDED, same version is already published
machv2macOS 10.14.6 Mojave / x86_64  OK    OK    OK    OK  UNNEEDED, same version is already published
Package 27/37HostnameOS / ArchINSTALLBUILDCHECKBUILD BIN
paircompviz 1.30.0  (landing page)
Michal Burda
git_last_commit: c2347e8
git_last_commit_date: 2021-05-19 11:59:17 -0400
nebbiolo1Linux (Ubuntu 20.04.2 LTS) / x86_64  OK    OK    OK  UNNEEDED, same version is already published
tokay2Windows Server 2012 R2 Standard / x64  OK    OK    OK    OK  UNNEEDED, same version is already published
machv2macOS 10.14.6 Mojave / x86_64  OK    OK    OK    OK  UNNEEDED, same version is already published
Package 28/37HostnameOS / ArchINSTALLBUILDCHECKBUILD BIN
pathRender 1.60.0  (landing page)
Vince Carey
git_last_commit: a976baf
git_last_commit_date: 2021-05-19 11:36:44 -0400
nebbiolo1Linux (Ubuntu 20.04.2 LTS) / x86_64  OK    OK    OK  UNNEEDED, same version is already published
tokay2Windows Server 2012 R2 Standard / x64  OK    OK    OK    OK  UNNEEDED, same version is already published
machv2macOS 10.14.6 Mojave / x86_64  OK    OK    OK    OK  UNNEEDED, same version is already published
Package 29/37HostnameOS / ArchINSTALLBUILDCHECKBUILD BIN
pathview 1.32.0  (landing page)
Weijun Luo
git_last_commit: ec7e0e1
git_last_commit_date: 2021-05-19 11:58:02 -0400
nebbiolo1Linux (Ubuntu 20.04.2 LTS) / x86_64  OK    OK    WARNINGS  UNNEEDED, same version is already published
tokay2Windows Server 2012 R2 Standard / x64  OK    OK    WARNINGS    OK  UNNEEDED, same version is already published
machv2macOS 10.14.6 Mojave / x86_64  OK    OK    WARNINGS    OK  UNNEEDED, same version is already published
Package 30/37HostnameOS / ArchINSTALLBUILDCHECKBUILD BIN
Pigengene 1.18.0  (landing page)
Habil Zare
git_last_commit: 848d21a
git_last_commit_date: 2021-05-19 12:20:45 -0400
nebbiolo1Linux (Ubuntu 20.04.2 LTS) / x86_64  OK    ERROR  skipped
tokay2Windows Server 2012 R2 Standard / x64  OK    ERROR  skippedskipped
machv2macOS 10.14.6 Mojave / x86_64  OK    ERROR  skippedskipped
Package 31/37HostnameOS / ArchINSTALLBUILDCHECKBUILD BIN
qpgraph 2.26.0  (landing page)
Robert Castelo
git_last_commit: 80062b5
git_last_commit_date: 2021-05-19 11:42:31 -0400
nebbiolo1Linux (Ubuntu 20.04.2 LTS) / x86_64  OK    OK    WARNINGS  UNNEEDED, same version is already published
tokay2Windows Server 2012 R2 Standard / x64  OK    OK    WARNINGS    OK  UNNEEDED, same version is already published
machv2macOS 10.14.6 Mojave / x86_64  OK    OK    WARNINGS    OK  UNNEEDED, same version is already published
Package 32/37HostnameOS / ArchINSTALLBUILDCHECKBUILD BIN
RchyOptimyx 2.32.0  (landing page)
Adrin Jalali , Nima Aghaeepour
git_last_commit: 0b6f214
git_last_commit_date: 2021-05-19 11:51:57 -0400
nebbiolo1Linux (Ubuntu 20.04.2 LTS) / x86_64  ERROR    ERROR  skipped
tokay2Windows Server 2012 R2 Standard / x64  ERROR    ERROR  skippedskipped
machv2macOS 10.14.6 Mojave / x86_64  ERROR    ERROR  skippedskipped
Package 33/37HostnameOS / ArchINSTALLBUILDCHECKBUILD BIN
ROntoTools 2.20.0  (landing page)
Calin Voichita
git_last_commit: b1691c3
git_last_commit_date: 2021-05-19 11:58:19 -0400
nebbiolo1Linux (Ubuntu 20.04.2 LTS) / x86_64  OK    OK    OK  UNNEEDED, same version is already published
tokay2Windows Server 2012 R2 Standard / x64  OK    OK    OK    OK  UNNEEDED, same version is already published
machv2macOS 10.14.6 Mojave / x86_64  OK    OK    OK    OK  UNNEEDED, same version is already published
Package 34/37HostnameOS / ArchINSTALLBUILDCHECKBUILD BIN
SplicingGraphs 1.32.0  (landing page)
H. Pagès
git_last_commit: 6066f74
git_last_commit_date: 2021-05-19 11:58:48 -0400
nebbiolo1Linux (Ubuntu 20.04.2 LTS) / x86_64  OK    OK    WARNINGS  UNNEEDED, same version is already published
tokay2Windows Server 2012 R2 Standard / x64  OK    OK    WARNINGS    OK  UNNEEDED, same version is already published
machv2macOS 10.14.6 Mojave / x86_64  OK    OK    WARNINGS    OK  UNNEEDED, same version is already published
Package 35/37HostnameOS / ArchINSTALLBUILDCHECKBUILD BIN
TDARACNE 1.42.0  (landing page)
Zoppoli Pietro
git_last_commit: 2e91540
git_last_commit_date: 2021-05-19 11:47:11 -0400
nebbiolo1Linux (Ubuntu 20.04.2 LTS) / x86_64  OK    OK    OK  UNNEEDED, same version is already published
tokay2Windows Server 2012 R2 Standard / x64  OK    OK    OK    OK  UNNEEDED, same version is already published
machv2macOS 10.14.6 Mojave / x86_64  OK    OK    OK    OK  UNNEEDED, same version is already published
Package 36/37HostnameOS / ArchINSTALLBUILDCHECKBUILD BIN
trackViewer 1.28.1  (landing page)
Jianhong Ou
git_last_commit: 84fca6e
git_last_commit_date: 2021-07-06 12:09:25 -0400
nebbiolo1Linux (Ubuntu 20.04.2 LTS) / x86_64  OK    OK    OK  UNNEEDED, same version is already published
tokay2Windows Server 2012 R2 Standard / x64  OK    OK    OK    OK  UNNEEDED, same version is already published
machv2macOS 10.14.6 Mojave / x86_64  OK    OK    OK    OK  UNNEEDED, same version is already published
Package 37/37HostnameOS / ArchINSTALLBUILDCHECKBUILD BIN
TRONCO 2.24.0  (landing page)
Luca De Sano
git_last_commit: 327bbb9
git_last_commit_date: 2021-05-19 12:10:30 -0400
nebbiolo1Linux (Ubuntu 20.04.2 LTS) / x86_64  OK    OK    OK  UNNEEDED, same version is already published
tokay2Windows Server 2012 R2 Standard / x64  OK    OK    OK    OK  UNNEEDED, same version is already published
machv2macOS 10.14.6 Mojave / x86_64  OK    OK    OK    OK  UNNEEDED, same version is already published