Back to Multiple platform build/check report for BioC 3.14
ABCDEFGHIJKLMNOPQ[R]STUVWXYZ

This page was generated on 2021-11-24 15:05:44 -0500 (Wed, 24 Nov 2021).

BUILD BIN results for ReportingTools on tokay2

To the developers/maintainers of the ReportingTools package:
- Please allow up to 24 hours (and sometimes 48 hours) for your latest push to git@git.bioconductor.org:packages/ReportingTools.git to
reflect on this report. See How and When does the builder pull? When will my changes propagate? here for more information.
- Make sure to use the following settings in order to reproduce any error or warning you see on this page.

raw results

Package 1579/2083HostnameOS / ArchINSTALLBUILDCHECKBUILD BIN
ReportingTools 2.34.0  (landing page)
Jason A. Hackney , Gabriel Becker
Snapshot Date: 2021-11-23 04:15:06 -0500 (Tue, 23 Nov 2021)
git_url: https://git.bioconductor.org/packages/ReportingTools
git_branch: RELEASE_3_14
git_last_commit: fb5aef0
git_last_commit_date: 2021-10-26 12:04:45 -0500 (Tue, 26 Oct 2021)
nebbiolo2Linux (Ubuntu 20.04.3 LTS) / x86_64  OK    OK    OK  UNNEEDED, same version is already published
tokay2Windows Server 2012 R2 Standard / x64  OK    OK    OK    OK  UNNEEDED, same version is already published
machv2macOS 10.14.6 Mojave / x86_64  OK    OK    OK    OK  UNNEEDED, same version is already published

Summary

Package: ReportingTools
Version: 2.34.0
Command: rm -rf ReportingTools.buildbin-libdir && mkdir ReportingTools.buildbin-libdir && C:\Users\biocbuild\bbs-3.14-bioc\R\bin\R.exe CMD INSTALL --merge-multiarch --build --library=ReportingTools.buildbin-libdir ReportingTools_2.34.0.tar.gz
StartedAt: 2021-11-24 11:03:31 -0500 (Wed, 24 Nov 2021)
EndedAt: 2021-11-24 11:05:00 -0500 (Wed, 24 Nov 2021)
EllapsedTime: 88.2 seconds
RetCode: 0
Status:   OK  
PackageFile: ReportingTools_2.34.0.zip
PackageFileSize: 2.321 MiB

Command output

##############################################################################
##############################################################################
###
### Running command:
###
###   rm -rf ReportingTools.buildbin-libdir && mkdir ReportingTools.buildbin-libdir && C:\Users\biocbuild\bbs-3.14-bioc\R\bin\R.exe CMD INSTALL --merge-multiarch --build --library=ReportingTools.buildbin-libdir ReportingTools_2.34.0.tar.gz
###
##############################################################################
##############################################################################



install for i386

* installing *source* package 'ReportingTools' ...
** using staged installation
** R
** data
** inst
** byte-compile and prepare package for lazy loading
in method for 'objectToHTML' with signature 'object="ggbio"': no definition for class "ggbio"
** help
*** installing help indices
  converting help for package 'ReportingTools'
    finding HTML links ... done
    BaseReportType-class                    html  
    CSVFile-class                           html  
    CSVFile                                 html  
    DataPackage-class                       html  
    DataPackage                             html  
    HTMLReport-class                        html  
    HTMLReport                              html  
    HTMLReportRef-class                     html  
REDIRECT:topic	 Previous alias or file overwritten by alias: C:/Users/biocbuild/bbs-3.14-bioc/meat/ReportingTools.buildbin-libdir/00LOCK-ReportingTools/00new/ReportingTools/help/HTMLReport.html
    Link                                    html  
    ReportHandlers-class                    html  
    addReportColumns-methods                html  
    custHeaderPanel                         html  
    filename-methods                        html  
    finish-methods                          html  
    mockRnaSeqData                          html  
    objectToHTML-methods                    html  
    publish-methods                         html  
    finding level-2 HTML links ... done

    readReport                              html  
    reporting.theme                         html  
    reporting.theme.alternate               html  
    toReportDF-methods                      html  
    validConnection                         html  
** building package indices
** installing vignettes
** testing if installed package can be loaded from temporary location
** testing if installed package can be loaded from final location
** testing if installed package keeps a record of temporary installation path

install for x64

* installing *source* package 'ReportingTools' ...
** testing if installed package can be loaded
* MD5 sums
packaged installation of 'ReportingTools' as ReportingTools_2.34.0.zip
* DONE (ReportingTools)