Back to Multiple platform build/check report for BioC 3.14
ABCDEFGHIJKLMNOPQ[R]STUVWXYZ

This page was generated on 2021-11-24 15:06:17 -0500 (Wed, 24 Nov 2021).

BUILD BIN results for ReportingTools on machv2

To the developers/maintainers of the ReportingTools package:
- Please allow up to 24 hours (and sometimes 48 hours) for your latest push to git@git.bioconductor.org:packages/ReportingTools.git to
reflect on this report. See How and When does the builder pull? When will my changes propagate? here for more information.
- Make sure to use the following settings in order to reproduce any error or warning you see on this page.

raw results

Package 1579/2083HostnameOS / ArchINSTALLBUILDCHECKBUILD BIN
ReportingTools 2.34.0  (landing page)
Jason A. Hackney , Gabriel Becker
Snapshot Date: 2021-11-23 04:15:06 -0500 (Tue, 23 Nov 2021)
git_url: https://git.bioconductor.org/packages/ReportingTools
git_branch: RELEASE_3_14
git_last_commit: fb5aef0
git_last_commit_date: 2021-10-26 12:04:45 -0500 (Tue, 26 Oct 2021)
nebbiolo2Linux (Ubuntu 20.04.3 LTS) / x86_64  OK    OK    OK  UNNEEDED, same version is already published
tokay2Windows Server 2012 R2 Standard / x64  OK    OK    OK    OK  UNNEEDED, same version is already published
machv2macOS 10.14.6 Mojave / x86_64  OK    OK    OK    OK  UNNEEDED, same version is already published

Summary

Package: ReportingTools
Version: 2.34.0
Command: rm -rf ReportingTools.buildbin-libdir && mkdir ReportingTools.buildbin-libdir && /Users/biocbuild/BBS/utils/build-universal.sh ReportingTools_2.34.0.tar.gz /Library/Frameworks/R.framework/Resources/bin/R ReportingTools.buildbin-libdir
StartedAt: 2021-11-24 01:43:28 -0500 (Wed, 24 Nov 2021)
EndedAt: 2021-11-24 01:44:31 -0500 (Wed, 24 Nov 2021)
EllapsedTime: 63.0 seconds
RetCode: 0
Status:   OK  
PackageFile: ReportingTools_2.34.0.tgz
PackageFileSize: 2.181 MiB

Command output

##############################################################################
##############################################################################
###
### Running command:
###
###   rm -rf ReportingTools.buildbin-libdir && mkdir ReportingTools.buildbin-libdir && /Users/biocbuild/BBS/utils/build-universal.sh ReportingTools_2.34.0.tar.gz /Library/Frameworks/R.framework/Resources/bin/R ReportingTools.buildbin-libdir
###
##############################################################################
##############################################################################


>>>>>>> 
>>>>>>> INSTALLATION WITH 'R CMD INSTALL --preclean --no-multiarch --library=ReportingTools.buildbin-libdir ReportingTools_2.34.0.tar.gz'
>>>>>>> 

* installing *source* package ‘ReportingTools’ ...
** using staged installation
** R
** data
** inst
** byte-compile and prepare package for lazy loading
in method for 'objectToHTML' with signature 'object="ggbio"': no definition for class "ggbio"
** help
*** installing help indices
** building package indices
** installing vignettes
** testing if installed package can be loaded from temporary location
** testing if installed package can be loaded from final location
** testing if installed package keeps a record of temporary installation path
* DONE (ReportingTools)