Index of /checkResults/release/bioc-LATEST/RcisTarget/raw-results/nebbiolo1

[ICO]NameLast modifiedSizeDescription

[DIR]Parent Directory  -  
[TXT]buildsrc-out.txt17-Jul-2024 06:39 1.6K 
[   ]buildsrc-summary.dcf17-Jul-2024 06:39 426  
[TXT]checksrc-out.txt17-Jul-2024 06:39 5.4K 
[   ]checksrc-summary.dcf17-Jul-2024 06:39 426  
[TXT]install-out.txt17-Jul-2024 06:39 969  
[   ]install-summary.dcf17-Jul-2024 06:39 265