Index of /checkResults/release/bioc-LATEST/RcisTarget/raw-results/kjohnson1

[ICO]NameLast modifiedSizeDescription

[DIR]Parent Directory  -  
[TXT]buildbin-out.txt13-Jul-2024 06:42 1.2K 
[   ]buildbin-summary.dcf13-Jul-2024 06:42 548  
[TXT]buildsrc-out.txt13-Jul-2024 06:42 1.6K 
[   ]buildsrc-summary.dcf13-Jul-2024 06:42 437  
[TXT]checksrc-out.txt13-Jul-2024 06:42 5.4K 
[   ]checksrc-summary.dcf13-Jul-2024 06:42 456  
[TXT]install-out.txt13-Jul-2024 06:42 1.0K 
[   ]install-summary.dcf13-Jul-2024 06:42 275