Back to Multiple platform build/check report for BioC 3.19:   simplified   long
ABCDEFGHIJKLMNOPQ[R]STUVWXYZ

This page was generated on 2024-06-18 17:58 -0400 (Tue, 18 Jun 2024).

HostnameOSArch (*)R versionInstalled pkgs
nebbiolo1Linux (Ubuntu 22.04.3 LTS)x86_644.4.0 (2024-04-24) -- "Puppy Cup" 4758
palomino3Windows Server 2022 Datacenterx644.4.0 (2024-04-24 ucrt) -- "Puppy Cup" 4492
merida1macOS 12.7.4 Montereyx86_644.4.0 (2024-04-24) -- "Puppy Cup" 4464
kjohnson1macOS 13.6.6 Venturaarm644.4.0 (2024-04-24) -- "Puppy Cup" 4464
Click on any hostname to see more info about the system (e.g. compilers)      (*) as reported by 'uname -p', except on Windows and Mac OS X

Package 1698/2300HostnameOS / ArchINSTALLBUILDCHECKBUILD BIN
RcisTarget 1.24.0  (landing page)
Gert Hulselmans
Snapshot Date: 2024-06-16 14:00 -0400 (Sun, 16 Jun 2024)
git_url: https://git.bioconductor.org/packages/RcisTarget
git_branch: RELEASE_3_19
git_last_commit: 6c20802
git_last_commit_date: 2024-04-30 11:03:32 -0400 (Tue, 30 Apr 2024)
nebbiolo1Linux (Ubuntu 22.04.3 LTS) / x86_64  OK    OK    OK  UNNEEDED, same version is already published
palomino3Windows Server 2022 Datacenter / x64  OK    OK    OK    OK  UNNEEDED, same version is already published
merida1macOS 12.7.4 Monterey / x86_64  OK    OK    OK    OK  YES
kjohnson1macOS 13.6.6 Ventura / arm64  OK    OK    OK    OK  UNNEEDED, same version is already published


CHECK results for RcisTarget on nebbiolo1

To the developers/maintainers of the RcisTarget package:
- Allow up to 24 hours (and sometimes 48 hours) for your latest push to git@git.bioconductor.org:packages/RcisTarget.git to reflect on this report. See Troubleshooting Build Report for more information.
- Use the following Renviron settings to reproduce errors and warnings.
- If 'R CMD check' started to fail recently on the Linux builder(s) over a missing dependency, add the missing dependency to 'Suggests:' in your DESCRIPTION file. See Renviron.bioc for more information.

raw results


Summary

Package: RcisTarget
Version: 1.24.0
Command: /home/biocbuild/bbs-3.19-bioc/R/bin/R CMD check --install=check:RcisTarget.install-out.txt --library=/home/biocbuild/bbs-3.19-bioc/R/site-library --timings RcisTarget_1.24.0.tar.gz
StartedAt: 2024-06-17 02:53:16 -0400 (Mon, 17 Jun 2024)
EndedAt: 2024-06-17 03:00:28 -0400 (Mon, 17 Jun 2024)
EllapsedTime: 432.1 seconds
RetCode: 0
Status:   OK  
CheckDir: RcisTarget.Rcheck
Warnings: 0

Command output

##############################################################################
##############################################################################
###
### Running command:
###
###   /home/biocbuild/bbs-3.19-bioc/R/bin/R CMD check --install=check:RcisTarget.install-out.txt --library=/home/biocbuild/bbs-3.19-bioc/R/site-library --timings RcisTarget_1.24.0.tar.gz
###
##############################################################################
##############################################################################


* using log directory ‘/home/biocbuild/bbs-3.19-bioc/meat/RcisTarget.Rcheck’
* using R version 4.4.0 (2024-04-24)
* using platform: x86_64-pc-linux-gnu
* R was compiled by
    gcc (Ubuntu 11.4.0-1ubuntu1~22.04) 11.4.0
    GNU Fortran (Ubuntu 11.4.0-1ubuntu1~22.04) 11.4.0
* running under: Ubuntu 22.04.4 LTS
* using session charset: UTF-8
* checking for file ‘RcisTarget/DESCRIPTION’ ... OK
* checking extension type ... Package
* this is package ‘RcisTarget’ version ‘1.24.0’
* checking package namespace information ... OK
* checking package dependencies ... OK
* checking if this is a source package ... OK
* checking if there is a namespace ... OK
* checking for hidden files and directories ... OK
* checking for portable file names ... OK
* checking for sufficient/correct file permissions ... OK
* checking whether package ‘RcisTarget’ can be installed ... OK
* checking installed package size ... NOTE
  installed size is 12.1Mb
  sub-directories of 1Mb or more:
    data  11.5Mb
* checking package directory ... OK
* checking ‘build’ directory ... OK
* checking DESCRIPTION meta-information ... OK
* checking top-level files ... OK
* checking for left-over files ... OK
* checking index information ... OK
* checking package subdirectories ... OK
* checking code files for non-ASCII characters ... OK
* checking R files for syntax errors ... OK
* checking whether the package can be loaded ... OK
* checking whether the package can be loaded with stated dependencies ... OK
* checking whether the package can be unloaded cleanly ... OK
* checking whether the namespace can be loaded with stated dependencies ... OK
* checking whether the namespace can be unloaded cleanly ... OK
* checking loading without being on the library search path ... OK
* checking dependencies in R code ... OK
* checking S3 generic/method consistency ... OK
* checking replacement functions ... OK
* checking foreign function calls ... OK
* checking R code for possible problems ... OK
* checking Rd files ... NOTE
checkRd: (-1) dbRegionsLoc.Rd:11-14: Lost braces in \itemize; meant \describe ?
checkRd: (-1) dbRegionsLoc.Rd:16-19: Lost braces in \itemize; meant \describe ?
checkRd: (-1) importAnnotations.Rd:44: Lost braces in \itemize; meant \describe ?
checkRd: (-1) importAnnotations.Rd:45: Lost braces in \itemize; meant \describe ?
checkRd: (-1) importAnnotations.Rd:46: Lost braces in \itemize; meant \describe ?
checkRd: (-1) importAnnotations.Rd:48-51: Lost braces in \itemize; meant \describe ?
checkRd: (-1) importAnnotations.Rd:24: Lost braces in \itemize; \value handles \item{}{} directly
checkRd: (-1) importAnnotations.Rd:25: Lost braces in \itemize; \value handles \item{}{} directly
checkRd: (-1) importAnnotations.Rd:27-31: Lost braces in \itemize; \value handles \item{}{} directly
checkRd: (-1) importAnnotations.Rd:32: Lost braces in \itemize; \value handles \item{}{} directly
checkRd: (-1) importAnnotations.Rd:33-36: Lost braces in \itemize; \value handles \item{}{} directly
checkRd: (-1) motifAnnotations.Rd:18-20: Lost braces in \itemize; meant \describe ?
checkRd: (-1) motifAnnotations.Rd:22-24: Lost braces in \itemize; meant \describe ?
checkRd: (-1) motifAnnotations.Rd:26-28: Lost braces in \itemize; meant \describe ?
checkRd: (-1) motifAnnotations.Rd:54: Lost braces in \itemize; meant \describe ?
checkRd: (-1) motifAnnotations.Rd:55: Lost braces in \itemize; meant \describe ?
checkRd: (-1) motifAnnotations.Rd:58-61: Lost braces in \itemize; meant \describe ?
checkRd: (-1) motifAnnotations.Rd:62: Lost braces in \itemize; meant \describe ?
checkRd: (-1) motifAnnotations.Rd:63-66: Lost braces in \itemize; meant \describe ?
* checking Rd metadata ... OK
* checking Rd cross-references ... OK
* checking for missing documentation entries ... OK
* checking for code/documentation mismatches ... OK
* checking Rd \usage sections ... OK
* checking Rd contents ... OK
* checking for unstated dependencies in examples ... OK
* checking contents of ‘data’ directory ... OK
* checking data for non-ASCII characters ... OK
* checking data for ASCII and uncompressed saves ... OK
* checking files in ‘vignettes’ ... OK
* checking examples ... OK
Examples with CPU (user + system) or elapsed time > 5s
                          user system elapsed
addMotifAnnotation      19.771  0.867  20.596
addSignificantGenes     16.511  1.161  17.645
getMotifAnnotation       9.181  0.328   9.471
aucScores-class          9.224  0.231   9.455
reRank                   7.511  0.123   7.635
rankingRcisTarget-class  7.017  0.092   7.110
* checking for unstated dependencies in ‘tests’ ... OK
* checking tests ...
  Running ‘testthat.R’
 OK
* checking for unstated dependencies in vignettes ... OK
* checking package vignettes ... OK
* checking re-building of vignette outputs ... OK
* checking PDF version of manual ... OK
* DONE

Status: 2 NOTEs
See
  ‘/home/biocbuild/bbs-3.19-bioc/meat/RcisTarget.Rcheck/00check.log’
for details.


Installation output

RcisTarget.Rcheck/00install.out

##############################################################################
##############################################################################
###
### Running command:
###
###   /home/biocbuild/bbs-3.19-bioc/R/bin/R CMD INSTALL RcisTarget
###
##############################################################################
##############################################################################


* installing to library ‘/home/biocbuild/bbs-3.19-bioc/R/site-library’
* installing *source* package ‘RcisTarget’ ...
** using staged installation
** R
** data
** inst
** byte-compile and prepare package for lazy loading
** help
*** installing help indices
** building package indices
** installing vignettes
** testing if installed package can be loaded from temporary location
** testing if installed package can be loaded from final location
** testing if installed package keeps a record of temporary installation path
* DONE (RcisTarget)

Tests output

RcisTarget.Rcheck/tests/testthat.Rout


R version 4.4.0 (2024-04-24) -- "Puppy Cup"
Copyright (C) 2024 The R Foundation for Statistical Computing
Platform: x86_64-pc-linux-gnu

R is free software and comes with ABSOLUTELY NO WARRANTY.
You are welcome to redistribute it under certain conditions.
Type 'license()' or 'licence()' for distribution details.

R is a collaborative project with many contributors.
Type 'contributors()' for more information and
'citation()' on how to cite R or R packages in publications.

Type 'demo()' for some demos, 'help()' for on-line help, or
'help.start()' for an HTML browser interface to help.
Type 'q()' to quit R.

> library(testthat)
> library(RcisTarget)
> 
> test_check("RcisTarget")
[ FAIL 0 | WARN 0 | SKIP 0 | PASS 58 ]
> 
> proc.time()
   user  system elapsed 
 40.075   6.061  45.506 

Example timings

RcisTarget.Rcheck/RcisTarget-Ex.timings

nameusersystemelapsed
RcisTarget0.7980.0080.807
addLogo0.1070.0040.111
addMotifAnnotation19.771 0.86720.596
addSignificantGenes16.511 1.16117.645
aucScores-class9.2240.2319.455
calcAUC0.0010.0010.000
convertToTargetRegions0.0010.0000.000
getDbRegionsLoc0.0000.0000.001
getMotifAnnotation9.1810.3289.471
importAnnotations0.8250.0270.854
importRankings0.6790.0010.679
rankingRcisTarget-class7.0170.0927.110
reRank7.5110.1237.635
showLogo0.0680.0080.077