Back to Multiple platform build/check report for BioC 3.13
ABCDEFGHIJKLMNOPQ[R]STUVWXYZ

This page was generated on 2021-08-02 15:05:25 -0400 (Mon, 02 Aug 2021).

INSTALL results for RbcBook1 on tokay2

To the developers/maintainers of the RbcBook1 package:
- Please allow up to 24 hours (and sometimes 48 hours) for your latest push to git@git.bioconductor.org:packages/RbcBook1.git to
reflect on this report. See How and When does the builder pull? When will my changes propagate? here for more information.
- Make sure to use the following settings in order to reproduce any error or warning you see on this page.

raw results

Package 1505/2041HostnameOS / ArchINSTALLBUILDCHECKBUILD BIN
RbcBook1 1.60.0  (landing page)
Vince Carey
Snapshot Date: 2021-08-01 04:50:10 -0400 (Sun, 01 Aug 2021)
URL: https://git.bioconductor.org/packages/RbcBook1
Branch: RELEASE_3_13
Last Commit: f563f7a
Last Changed Date: 2021-05-19 11:38:15 -0400 (Wed, 19 May 2021)
nebbiolo1Linux (Ubuntu 20.04.2 LTS) / x86_64  OK    OK    OK  UNNEEDED, same version is already published
tokay2Windows Server 2012 R2 Standard / x64  OK    OK    OK    OK  UNNEEDED, same version is already published
machv2macOS 10.14.6 Mojave / x86_64  OK    OK    OK    OK  UNNEEDED, same version is already published

Summary

Package: RbcBook1
Version: 1.60.0
Command: C:\cygwin\bin\curl.exe -O http://155.52.207.165/BBS/3.13/bioc/src/contrib/RbcBook1_1.60.0.tar.gz && rm -rf RbcBook1.buildbin-libdir && mkdir RbcBook1.buildbin-libdir && C:\Users\biocbuild\bbs-3.13-bioc\R\bin\R.exe CMD INSTALL --merge-multiarch --build --library=RbcBook1.buildbin-libdir RbcBook1_1.60.0.tar.gz && C:\Users\biocbuild\bbs-3.13-bioc\R\bin\R.exe CMD INSTALL RbcBook1_1.60.0.zip && rm RbcBook1_1.60.0.tar.gz RbcBook1_1.60.0.zip
StartedAt: 2021-08-01 07:29:22 -0400 (Sun, 01 Aug 2021)
EndedAt: 2021-08-01 07:30:03 -0400 (Sun, 01 Aug 2021)
EllapsedTime: 40.9 seconds
RetCode: 0
Status:   OK  

Command output

##############################################################################
##############################################################################
###
### Running command:
###
###   C:\cygwin\bin\curl.exe -O http://155.52.207.165/BBS/3.13/bioc/src/contrib/RbcBook1_1.60.0.tar.gz && rm -rf RbcBook1.buildbin-libdir && mkdir RbcBook1.buildbin-libdir && C:\Users\biocbuild\bbs-3.13-bioc\R\bin\R.exe CMD INSTALL --merge-multiarch --build --library=RbcBook1.buildbin-libdir RbcBook1_1.60.0.tar.gz && C:\Users\biocbuild\bbs-3.13-bioc\R\bin\R.exe CMD INSTALL RbcBook1_1.60.0.zip && rm RbcBook1_1.60.0.tar.gz RbcBook1_1.60.0.zip
###
##############################################################################
##############################################################################


  % Total    % Received % Xferd  Average Speed   Time    Time     Time  Current
                                 Dload  Upload   Total   Spent    Left  Speed

  0     0    0     0    0     0      0      0 --:--:-- --:--:-- --:--:--     0
100 6534k  100 6534k    0     0  11.0M      0 --:--:-- --:--:-- --:--:-- 11.0M

install for i386

* installing *source* package 'RbcBook1' ...
** using staged installation
** R
** data
** inst
** byte-compile and prepare package for lazy loading
** help
*** installing help indices
  converting help for package 'RbcBook1'
    finding HTML links ... done
    bcStangle                               html  
    bcSweave                                html  
    bcr                                     html  
    checkVerbatimLines                      html  
    imageSize                               html  
    perf                                    html  
    requireAllBook1                         html  
    rpart2gNEL                              html  
** building package indices
** installing vignettes
** testing if installed package can be loaded from temporary location
** testing if installed package can be loaded from final location
** testing if installed package keeps a record of temporary installation path

install for x64

* installing *source* package 'RbcBook1' ...
** testing if installed package can be loaded
* MD5 sums
packaged installation of 'RbcBook1' as RbcBook1_1.60.0.zip
* DONE (RbcBook1)
* installing to library 'C:/Users/biocbuild/bbs-3.13-bioc/R/library'
package 'RbcBook1' successfully unpacked and MD5 sums checked