Back to Multiple platform build/check report for BioC 3.13
ABCDEFGHIJKLMNOPQ[R]STUVWXYZ

This page was generated on 2021-07-23 15:06:16 -0400 (Fri, 23 Jul 2021).

CHECK results for RbcBook1 on tokay2

To the developers/maintainers of the RbcBook1 package:
- Please allow up to 24 hours (and sometimes 48 hours) for your latest push to git@git.bioconductor.org:packages/RbcBook1.git to
reflect on this report. See How and When does the builder pull? When will my changes propagate? here for more information.
- Make sure to use the following settings in order to reproduce any error or warning you see on this page.

raw results

Package 1505/2041HostnameOS / ArchINSTALLBUILDCHECKBUILD BIN
RbcBook1 1.60.0  (landing page)
Vince Carey
Snapshot Date: 2021-07-22 04:50:13 -0400 (Thu, 22 Jul 2021)
URL: https://git.bioconductor.org/packages/RbcBook1
Branch: RELEASE_3_13
Last Commit: f563f7a
Last Changed Date: 2021-05-19 11:38:15 -0400 (Wed, 19 May 2021)
nebbiolo1Linux (Ubuntu 20.04.2 LTS) / x86_64  OK    OK    OK  UNNEEDED, same version is already published
tokay2Windows Server 2012 R2 Standard / x64  OK    OK    OK    OK  UNNEEDED, same version is already published
machv2macOS 10.14.6 Mojave / x86_64  OK    OK    OK    OK  UNNEEDED, same version is already published

Summary

Package: RbcBook1
Version: 1.60.0
Command: C:\Users\biocbuild\bbs-3.13-bioc\R\bin\R.exe CMD check --force-multiarch --install=check:RbcBook1.install-out.txt --library=C:\Users\biocbuild\bbs-3.13-bioc\R\library --no-vignettes --timings RbcBook1_1.60.0.tar.gz
StartedAt: 2021-07-23 04:28:17 -0400 (Fri, 23 Jul 2021)
EndedAt: 2021-07-23 04:29:33 -0400 (Fri, 23 Jul 2021)
EllapsedTime: 75.8 seconds
RetCode: 0
Status:   OK  
CheckDir: RbcBook1.Rcheck
Warnings: 0

Command output

##############################################################################
##############################################################################
###
### Running command:
###
###   C:\Users\biocbuild\bbs-3.13-bioc\R\bin\R.exe CMD check --force-multiarch --install=check:RbcBook1.install-out.txt --library=C:\Users\biocbuild\bbs-3.13-bioc\R\library --no-vignettes --timings RbcBook1_1.60.0.tar.gz
###
##############################################################################
##############################################################################


* using log directory 'C:/Users/biocbuild/bbs-3.13-bioc/meat/RbcBook1.Rcheck'
* using R version 4.1.0 (2021-05-18)
* using platform: x86_64-w64-mingw32 (64-bit)
* using session charset: ISO8859-1
* using option '--no-vignettes'
* checking for file 'RbcBook1/DESCRIPTION' ... OK
* this is package 'RbcBook1' version '1.60.0'
* checking package namespace information ... OK
* checking package dependencies ... OK
* checking if this is a source package ... OK
* checking if there is a namespace ... OK
* checking for hidden files and directories ... OK
* checking for portable file names ... OK
* checking whether package 'RbcBook1' can be installed ... OK
* checking installed package size ... NOTE
  installed size is  6.6Mb
  sub-directories of 1Mb or more:
    data   6.4Mb
* checking package directory ... OK
* checking 'build' directory ... OK
* checking DESCRIPTION meta-information ... NOTE
Malformed Description field: should contain one or more complete sentences.
* checking top-level files ... OK
* checking for left-over files ... OK
* checking index information ... OK
* checking package subdirectories ... OK
* checking R files for non-ASCII characters ... OK
* checking R files for syntax errors ... OK
* loading checks for arch 'i386'
** checking whether the package can be loaded ... OK
** checking whether the package can be loaded with stated dependencies ... OK
** checking whether the package can be unloaded cleanly ... OK
** checking whether the namespace can be loaded with stated dependencies ... OK
** checking whether the namespace can be unloaded cleanly ... OK
* loading checks for arch 'x64'
** checking whether the package can be loaded ... OK
** checking whether the package can be loaded with stated dependencies ... OK
** checking whether the package can be unloaded cleanly ... OK
** checking whether the namespace can be loaded with stated dependencies ... OK
** checking whether the namespace can be unloaded cleanly ... OK
* checking dependencies in R code ... NOTE
'library' or 'require' call to 'graph' which was already attached by Depends.
  Please remove these calls from your code.
Packages in Depends field not imported from:
  'Biobase' 'graph' 'rpart'
  These packages need to be imported from (in the NAMESPACE file)
  for when this namespace is loaded but not attached.
* checking S3 generic/method consistency ... OK
* checking replacement functions ... OK
* checking foreign function calls ... OK
* checking R code for possible problems ... NOTE
bcSweave: no visible global function definition for
  'Sweave'
remapAff: no visible binding for global variable
  'hgu95av2SYMBOL'
rpart2gNEL: no visible global function definition for
  'new'
rpart2gNEL: no visible global function definition for
  'edgemode<-'
rpart2gNEL: no visible global function definition for
  'addEdge'
Undefined global functions or variables:
  Sweave addEdge edgemode<- hgu95av2SYMBOL new
Consider adding
  importFrom("methods", "new")
  importFrom("utils", "Sweave")
to your NAMESPACE file (and ensure that your DESCRIPTION Imports field
contains 'methods').
* checking Rd files ... NOTE
prepare_Rd: requireAllBook1.Rd:9-10: Dropping empty section \arguments
* checking Rd metadata ... OK
* checking Rd cross-references ... OK
* checking for missing documentation entries ... OK
* checking for code/documentation mismatches ... OK
* checking Rd \usage sections ... OK
* checking Rd contents ... OK
* checking for unstated dependencies in examples ... OK
* checking contents of 'data' directory ... OK
* checking data for non-ASCII characters ... OK
* checking data for ASCII and uncompressed saves ... OK
* checking files in 'vignettes' ... OK
* checking examples ...
** running examples for arch 'i386' ... OK
** running examples for arch 'x64' ... OK
* checking for unstated dependencies in vignettes ... OK
* checking package vignettes in 'inst/doc' ... OK
* checking running R code from vignettes ... SKIPPED
* checking re-building of vignette outputs ... SKIPPED
* checking PDF version of manual ... OK
* DONE

Status: 5 NOTEs
See
  'C:/Users/biocbuild/bbs-3.13-bioc/meat/RbcBook1.Rcheck/00check.log'
for details.



Installation output

RbcBook1.Rcheck/00install.out

##############################################################################
##############################################################################
###
### Running command:
###
###   C:\cygwin\bin\curl.exe -O http://155.52.207.165/BBS/3.13/bioc/src/contrib/RbcBook1_1.60.0.tar.gz && rm -rf RbcBook1.buildbin-libdir && mkdir RbcBook1.buildbin-libdir && C:\Users\biocbuild\bbs-3.13-bioc\R\bin\R.exe CMD INSTALL --merge-multiarch --build --library=RbcBook1.buildbin-libdir RbcBook1_1.60.0.tar.gz && C:\Users\biocbuild\bbs-3.13-bioc\R\bin\R.exe CMD INSTALL RbcBook1_1.60.0.zip && rm RbcBook1_1.60.0.tar.gz RbcBook1_1.60.0.zip
###
##############################################################################
##############################################################################


  % Total    % Received % Xferd  Average Speed   Time    Time     Time  Current
                                 Dload  Upload   Total   Spent    Left  Speed

  0     0    0     0    0     0      0      0 --:--:-- --:--:-- --:--:--     0
100 6534k  100 6534k    0     0  10.3M      0 --:--:-- --:--:-- --:--:-- 10.3M

install for i386

* installing *source* package 'RbcBook1' ...
** using staged installation
** R
** data
** inst
** byte-compile and prepare package for lazy loading
** help
*** installing help indices
  converting help for package 'RbcBook1'
    finding HTML links ... done
    bcStangle                               html  
    bcSweave                                html  
    bcr                                     html  
    checkVerbatimLines                      html  
    imageSize                               html  
    perf                                    html  
    requireAllBook1                         html  
    rpart2gNEL                              html  
** building package indices
** installing vignettes
** testing if installed package can be loaded from temporary location
** testing if installed package can be loaded from final location
** testing if installed package keeps a record of temporary installation path

install for x64

* installing *source* package 'RbcBook1' ...
** testing if installed package can be loaded
* MD5 sums
packaged installation of 'RbcBook1' as RbcBook1_1.60.0.zip
* DONE (RbcBook1)
* installing to library 'C:/Users/biocbuild/bbs-3.13-bioc/R/library'
package 'RbcBook1' successfully unpacked and MD5 sums checked

Tests output


Example timings

RbcBook1.Rcheck/examples_i386/RbcBook1-Ex.timings

nameusersystemelapsed
bcStangle000
bcSweave000
bcr0.850.030.87
checkVerbatimLines0.010.000.02
imageSize000
perf000
requireAllBook1000
rpart2gNEL0.180.000.25

RbcBook1.Rcheck/examples_x64/RbcBook1-Ex.timings

nameusersystemelapsed
bcStangle000
bcSweave000
bcr0.670.030.70
checkVerbatimLines0.010.000.02
imageSize000
perf000
requireAllBook1000
rpart2gNEL0.110.000.11