Index of /checkResults/release/bioc-LATEST/RaggedExperiment/raw-results/merida1

[ICO]NameLast modifiedSizeDescription

[DIR]Parent Directory  -  
[   ]install-summary.dcf10-Jul-2024 06:42 287  
[   ]buildsrc-summary.dcf10-Jul-2024 06:42 454  
[   ]checksrc-summary.dcf10-Jul-2024 06:42 480  
[   ]buildbin-summary.dcf10-Jul-2024 06:42 584  
[TXT]buildsrc-out.txt10-Jul-2024 06:42 852  
[TXT]install-out.txt10-Jul-2024 06:42 1.0K 
[TXT]buildbin-out.txt10-Jul-2024 06:42 1.2K 
[TXT]checksrc-out.txt10-Jul-2024 06:42 3.2K