Back to Multiple platform build/check report for BioC 3.13
ABCDEFGHIJKLMNOPQ[R]STUVWXYZ

This page was generated on 2021-09-20 15:05:26 -0400 (Mon, 20 Sep 2021).

INSTALL results for RNAither on tokay2

To the developers/maintainers of the RNAither package:
- Please allow up to 24 hours (and sometimes 48 hours) for your latest push to git@git.bioconductor.org:packages/RNAither.git to
reflect on this report. See How and When does the builder pull? When will my changes propagate? here for more information.
- Make sure to use the following settings in order to reproduce any error or warning you see on this page.

raw results

Package 1602/2041HostnameOS / ArchINSTALLBUILDCHECKBUILD BIN
RNAither 2.40.0  (landing page)
Lars Kaderali
Snapshot Date: 2021-09-19 04:50:10 -0400 (Sun, 19 Sep 2021)
git_url: https://git.bioconductor.org/packages/RNAither
git_branch: RELEASE_3_13
git_last_commit: b624de8
git_last_commit_date: 2021-05-19 11:41:51 -0400 (Wed, 19 May 2021)
nebbiolo1Linux (Ubuntu 20.04.2 LTS) / x86_64  ERROR    ERROR  skipped
tokay2Windows Server 2012 R2 Standard / x64  ERROR    ERROR  skippedskipped
machv2macOS 10.14.6 Mojave / x86_64  ERROR    ERROR  skippedskipped

Summary

Package: RNAither
Version: 2.40.0
Command: C:\cygwin\bin\curl.exe -O http://155.52.207.165/BBS/3.13/bioc/src/contrib/RNAither_2.40.0.tar.gz && rm -rf RNAither.buildbin-libdir && mkdir RNAither.buildbin-libdir && C:\Users\biocbuild\bbs-3.13-bioc\R\bin\R.exe CMD INSTALL --merge-multiarch --build --library=RNAither.buildbin-libdir RNAither_2.40.0.tar.gz && C:\Users\biocbuild\bbs-3.13-bioc\R\bin\R.exe CMD INSTALL RNAither_2.40.0.zip && rm RNAither_2.40.0.tar.gz RNAither_2.40.0.zip
StartedAt: 2021-09-19 10:53:14 -0400 (Sun, 19 Sep 2021)
EndedAt: 2021-09-19 10:53:16 -0400 (Sun, 19 Sep 2021)
EllapsedTime: 2.1 seconds
RetCode: 1
Status:   ERROR  

Command output

##############################################################################
##############################################################################
###
### Running command:
###
###   C:\cygwin\bin\curl.exe -O http://155.52.207.165/BBS/3.13/bioc/src/contrib/RNAither_2.40.0.tar.gz && rm -rf RNAither.buildbin-libdir && mkdir RNAither.buildbin-libdir && C:\Users\biocbuild\bbs-3.13-bioc\R\bin\R.exe CMD INSTALL --merge-multiarch --build --library=RNAither.buildbin-libdir RNAither_2.40.0.tar.gz && C:\Users\biocbuild\bbs-3.13-bioc\R\bin\R.exe CMD INSTALL RNAither_2.40.0.zip && rm RNAither_2.40.0.tar.gz RNAither_2.40.0.zip
###
##############################################################################
##############################################################################


  % Total    % Received % Xferd  Average Speed   Time    Time     Time  Current
                                 Dload  Upload   Total   Spent    Left  Speed

  0     0    0     0    0     0      0      0 --:--:-- --:--:-- --:--:--     0
100  729k  100  729k    0     0  1181k      0 --:--:-- --:--:-- --:--:-- 1184k

install for i386

ERROR: dependency 'prada' is not available for package 'RNAither'
* removing 'C:/Users/biocbuild/bbs-3.13-bioc/meat/RNAither.buildbin-libdir/RNAither'