Back to Multiple platform build/check report for BioC 3.13
ABCDEFGHIJKLMNOPQ[R]STUVWXYZ

This page was generated on 2021-09-20 15:05:55 -0400 (Mon, 20 Sep 2021).

INSTALL results for RNAither on machv2

To the developers/maintainers of the RNAither package:
- Please allow up to 24 hours (and sometimes 48 hours) for your latest push to git@git.bioconductor.org:packages/RNAither.git to
reflect on this report. See How and When does the builder pull? When will my changes propagate? here for more information.
- Make sure to use the following settings in order to reproduce any error or warning you see on this page.

raw results

Package 1602/2041HostnameOS / ArchINSTALLBUILDCHECKBUILD BIN
RNAither 2.40.0  (landing page)
Lars Kaderali
Snapshot Date: 2021-09-19 04:50:10 -0400 (Sun, 19 Sep 2021)
git_url: https://git.bioconductor.org/packages/RNAither
git_branch: RELEASE_3_13
git_last_commit: b624de8
git_last_commit_date: 2021-05-19 11:41:51 -0400 (Wed, 19 May 2021)
nebbiolo1Linux (Ubuntu 20.04.2 LTS) / x86_64  ERROR    ERROR  skipped
tokay2Windows Server 2012 R2 Standard / x64  ERROR    ERROR  skippedskipped
machv2macOS 10.14.6 Mojave / x86_64  ERROR    ERROR  skippedskipped

Summary

Package: RNAither
Version: 2.40.0
Command: /Library/Frameworks/R.framework/Versions/Current/Resources/bin/R CMD INSTALL RNAither
StartedAt: 2021-09-19 10:25:01 -0400 (Sun, 19 Sep 2021)
EndedAt: 2021-09-19 10:25:01 -0400 (Sun, 19 Sep 2021)
EllapsedTime: 0.3 seconds
RetCode: 1
Status:   ERROR  

Command output

##############################################################################
##############################################################################
###
### Running command:
###
###   /Library/Frameworks/R.framework/Versions/Current/Resources/bin/R CMD INSTALL RNAither
###
##############################################################################
##############################################################################


* installing to library ‘/Library/Frameworks/R.framework/Versions/4.1/Resources/library’
ERROR: dependency ‘prada’ is not available for package ‘RNAither’
* removing ‘/Library/Frameworks/R.framework/Versions/4.1/Resources/library/RNAither’