Back to Multiple platform build/check report for BioC 3.13
ABCDEFGHIJKLMNOPQ[R]STUVWXYZ

This page was generated on 2021-07-23 15:05:50 -0400 (Fri, 23 Jul 2021).

INSTALL results for RNASeqR on nebbiolo1

To the developers/maintainers of the RNASeqR package:
- Please allow up to 24 hours (and sometimes 48 hours) for your latest push to git@git.bioconductor.org:packages/RNASeqR.git to
reflect on this report. See How and When does the builder pull? When will my changes propagate? here for more information.
- Make sure to use the following settings in order to reproduce any error or warning you see on this page.

raw results

Package 1612/2041HostnameOS / ArchINSTALLBUILDCHECKBUILD BIN
RNASeqR 1.10.0  (landing page)
Kuan-Hao Chao
Snapshot Date: 2021-07-22 04:50:13 -0400 (Thu, 22 Jul 2021)
URL: https://git.bioconductor.org/packages/RNASeqR
Branch: RELEASE_3_13
Last Commit: c89d5c1
Last Changed Date: 2021-05-19 12:38:39 -0400 (Wed, 19 May 2021)
nebbiolo1Linux (Ubuntu 20.04.2 LTS) / x86_64  OK    OK    OK  UNNEEDED, same version is already published
tokay2Windows Server 2012 R2 Standard / x64... NOT SUPPORTED ...
machv2macOS 10.14.6 Mojave / x86_64  OK    OK    OK    OK  UNNEEDED, same version is already published

Summary

Package: RNASeqR
Version: 1.10.0
Command: /home/biocbuild/bbs-3.13-bioc/R/bin/R CMD INSTALL RNASeqR
StartedAt: 2021-07-22 06:29:47 -0400 (Thu, 22 Jul 2021)
EndedAt: 2021-07-22 06:30:44 -0400 (Thu, 22 Jul 2021)
EllapsedTime: 56.9 seconds
RetCode: 0
Status:   OK  

Command output

##############################################################################
##############################################################################
###
### Running command:
###
###   /home/biocbuild/bbs-3.13-bioc/R/bin/R CMD INSTALL RNASeqR
###
##############################################################################
##############################################################################


* installing to library ‘/home/biocbuild/bbs-3.13-bioc/R/library’
* installing *source* package ‘RNASeqR’ ...
** using staged installation
** R
** data
** inst
** byte-compile and prepare package for lazy loading
** help
*** installing help indices
** building package indices
** installing vignettes
** testing if installed package can be loaded from temporary location
** testing if installed package can be loaded from final location
** testing if installed package keeps a record of temporary installation path
* DONE (RNASeqR)