Back to Multiple platform build/check report for BioC 3.13
ABCDEFGHIJKLMNOPQ[R]STUVWXYZ

All results for package RNASeqR

This page was generated on 2021-06-11 14:05:27 -0400 (Fri, 11 Jun 2021).

Package 1612/2041HostnameOS / ArchINSTALLBUILDCHECKBUILD BIN
RNASeqR 1.10.0  (landing page)
Kuan-Hao Chao
Snapshot Date: 2021-06-10 06:50:12 -0400 (Thu, 10 Jun 2021)
URL: https://git.bioconductor.org/packages/RNASeqR
Branch: RELEASE_3_13
Last Commit: c89d5c1
Last Changed Date: 2021-05-19 12:38:39 -0400 (Wed, 19 May 2021)
nebbiolo1Linux (Ubuntu 20.04.2 LTS) / x86_64  OK    OK    OK  UNNEEDED, same version is already published
tokay2Windows Server 2012 R2 Standard / x64... NOT SUPPORTED ...
machv2macOS 10.14.6 Mojave / x86_64  OK    OK    OK    OK  UNNEEDED, same version is already published