Back to Multiple platform build/check report for BioC 3.13
ABCDEFGHIJKLMNOPQ[R]STUVWXYZ

This page was generated on 2021-07-30 15:06:07 -0400 (Fri, 30 Jul 2021).

INSTALL results for RGraph2js on tokay2

To the developers/maintainers of the RGraph2js package:
- Please allow up to 24 hours (and sometimes 48 hours) for your latest push to git@git.bioconductor.org:packages/RGraph2js.git to
reflect on this report. See How and When does the builder pull? When will my changes propagate? here for more information.
- Make sure to use the following settings in order to reproduce any error or warning you see on this page.

raw results

Package 1568/2041HostnameOS / ArchINSTALLBUILDCHECKBUILD BIN
RGraph2js 1.20.0  (landing page)
Stephane Cano
Snapshot Date: 2021-07-29 04:50:02 -0400 (Thu, 29 Jul 2021)
URL: https://git.bioconductor.org/packages/RGraph2js
Branch: RELEASE_3_13
Last Commit: 3a5e683
Last Changed Date: 2021-05-19 12:17:43 -0400 (Wed, 19 May 2021)
nebbiolo1Linux (Ubuntu 20.04.2 LTS) / x86_64  OK    OK    OK  UNNEEDED, same version is already published
tokay2Windows Server 2012 R2 Standard / x64  OK    OK    OK    OK  UNNEEDED, same version is already published
machv2macOS 10.14.6 Mojave / x86_64  OK    OK    OK    OK  UNNEEDED, same version is already published

Summary

Package: RGraph2js
Version: 1.20.0
Command: C:\cygwin\bin\curl.exe -O http://155.52.207.165/BBS/3.13/bioc/src/contrib/RGraph2js_1.20.0.tar.gz && rm -rf RGraph2js.buildbin-libdir && mkdir RGraph2js.buildbin-libdir && C:\Users\biocbuild\bbs-3.13-bioc\R\bin\R.exe CMD INSTALL --merge-multiarch --build --library=RGraph2js.buildbin-libdir RGraph2js_1.20.0.tar.gz && C:\Users\biocbuild\bbs-3.13-bioc\R\bin\R.exe CMD INSTALL RGraph2js_1.20.0.zip && rm RGraph2js_1.20.0.tar.gz RGraph2js_1.20.0.zip
StartedAt: 2021-07-29 07:52:38 -0400 (Thu, 29 Jul 2021)
EndedAt: 2021-07-29 07:53:07 -0400 (Thu, 29 Jul 2021)
EllapsedTime: 28.8 seconds
RetCode: 0
Status:   OK  

Command output

##############################################################################
##############################################################################
###
### Running command:
###
###   C:\cygwin\bin\curl.exe -O http://155.52.207.165/BBS/3.13/bioc/src/contrib/RGraph2js_1.20.0.tar.gz && rm -rf RGraph2js.buildbin-libdir && mkdir RGraph2js.buildbin-libdir && C:\Users\biocbuild\bbs-3.13-bioc\R\bin\R.exe CMD INSTALL --merge-multiarch --build --library=RGraph2js.buildbin-libdir RGraph2js_1.20.0.tar.gz && C:\Users\biocbuild\bbs-3.13-bioc\R\bin\R.exe CMD INSTALL RGraph2js_1.20.0.zip && rm RGraph2js_1.20.0.tar.gz RGraph2js_1.20.0.zip
###
##############################################################################
##############################################################################


  % Total    % Received % Xferd  Average Speed   Time    Time     Time  Current
                                 Dload  Upload   Total   Spent    Left  Speed

  0     0    0     0    0     0      0      0 --:--:-- --:--:-- --:--:--     0
100 1472k  100 1472k    0     0  5561k      0 --:--:-- --:--:-- --:--:-- 5575k

install for i386

* installing *source* package 'RGraph2js' ...
** using staged installation
** R
** inst
** byte-compile and prepare package for lazy loading
** help
*** installing help indices
  converting help for package 'RGraph2js'
    finding HTML links ... done
    generateOptionsJSCode                   html  
    getAdjMat                               html  
    getDefaultOptions                       html  
    getDefaultToolParameters                html  
    getEdgesDataFrame                       html  
    getHTMLContainerCode                    html  
    getHTMLStyleCode                        html  
    getJSCode                               html  
    getNodesDataFrame                       html  
    getUUID                                 html  
    graph2js                                html  
    graph2json                              html  
** building package indices
** installing vignettes
** testing if installed package can be loaded from temporary location
** testing if installed package can be loaded from final location
** testing if installed package keeps a record of temporary installation path

install for x64

* installing *source* package 'RGraph2js' ...
** testing if installed package can be loaded
* MD5 sums
packaged installation of 'RGraph2js' as RGraph2js_1.20.0.zip
* DONE (RGraph2js)
* installing to library 'C:/Users/biocbuild/bbs-3.13-bioc/R/library'
package 'RGraph2js' successfully unpacked and MD5 sums checked