Back to Multiple platform build/check report for BioC 3.19:   simplified   long
ABCDEFGHIJKLMNOPQ[R]STUVWXYZ

This page was generated on 2024-06-14 14:38 -0400 (Fri, 14 Jun 2024).

HostnameOSArch (*)R versionInstalled pkgs
nebbiolo1Linux (Ubuntu 22.04.3 LTS)x86_644.4.0 (2024-04-24) -- "Puppy Cup" 4757
palomino3Windows Server 2022 Datacenterx644.4.0 (2024-04-24 ucrt) -- "Puppy Cup" 4491
Click on any hostname to see more info about the system (e.g. compilers)      (*) as reported by 'uname -p', except on Windows and Mac OS X

Package 1726/2300HostnameOS / ArchINSTALLBUILDCHECKBUILD BIN
REDseq 1.50.0  (landing page)
Lihua Julie Zhu
Snapshot Date: 2024-06-12 14:00 -0400 (Wed, 12 Jun 2024)
git_url: https://git.bioconductor.org/packages/REDseq
git_branch: RELEASE_3_19
git_last_commit: 22e9124
git_last_commit_date: 2024-04-30 10:24:31 -0400 (Tue, 30 Apr 2024)
nebbiolo1Linux (Ubuntu 22.04.3 LTS) / x86_64  OK    OK    OK  UNNEEDED, same version is already published
palomino3Windows Server 2022 Datacenter / x64  OK    OK    OK    OK  UNNEEDED, same version is already published


BUILD BIN results for REDseq on palomino3

To the developers/maintainers of the REDseq package:
- Allow up to 24 hours (and sometimes 48 hours) for your latest push to git@git.bioconductor.org:packages/REDseq.git to reflect on this report. See Troubleshooting Build Report for more information.
- Use the following Renviron settings to reproduce errors and warnings.
- If 'R CMD check' started to fail recently on the Linux builder(s) over a missing dependency, add the missing dependency to 'Suggests:' in your DESCRIPTION file. See Renviron.bioc for more information.

raw results


Summary

Package: REDseq
Version: 1.50.0
Command: rm -rf REDseq.buildbin-libdir && mkdir REDseq.buildbin-libdir && F:\biocbuild\bbs-3.19-bioc\R\bin\R.exe CMD INSTALL --build --library=REDseq.buildbin-libdir REDseq_1.50.0.tar.gz
StartedAt: 2024-06-13 16:54:25 -0400 (Thu, 13 Jun 2024)
EndedAt: 2024-06-13 16:57:34 -0400 (Thu, 13 Jun 2024)
EllapsedTime: 189.1 seconds
RetCode: 0
Status:   OK  
PackageFile: REDseq_1.50.0.zip
PackageFileSize: 216.3 KiB

Command output

##############################################################################
##############################################################################
###
### Running command:
###
###   rm -rf REDseq.buildbin-libdir && mkdir REDseq.buildbin-libdir && F:\biocbuild\bbs-3.19-bioc\R\bin\R.exe CMD INSTALL --build --library=REDseq.buildbin-libdir REDseq_1.50.0.tar.gz
###
##############################################################################
##############################################################################


* installing *source* package 'REDseq' ...
** using staged installation
** R
** data
** inst
** byte-compile and prepare package for lazy loading
No methods found in package 'IRanges' for requests: '%in%', 'rep.int' when loading 'REDseq'
** help
*** installing help indices
** building package indices
** installing vignettes
** testing if installed package can be loaded from temporary location
No methods found in package 'IRanges' for requests: '%in%', 'rep.int' when loading 'REDseq'
** testing if installed package can be loaded from final location
No methods found in package 'IRanges' for requests: '%in%', 'rep.int' when loading 'REDseq'
** testing if installed package keeps a record of temporary installation path
* MD5 sums
packaged installation of 'REDseq' as REDseq_1.50.0.zip
* DONE (REDseq)