Back to Multiple platform build/check report for BioC 3.13
ABCDEFGHIJKLMNOPQ[R]STUVWXYZ

This page was generated on 2021-07-21 15:06:02 -0400 (Wed, 21 Jul 2021).

INSTALL results for RDAVIDWebService on machv2

To the developers/maintainers of the RDAVIDWebService package:
- Please allow up to 24 hours (and sometimes 48 hours) for your latest push to git@git.bioconductor.org:packages/RDAVIDWebService.git to
reflect on this report. See How and When does the builder pull? When will my changes propagate? here for more information.
- Make sure to use the following settings in order to reproduce any error or warning you see on this page.

raw results

Package 1528/2041HostnameOS / ArchINSTALLBUILDCHECKBUILD BIN
RDAVIDWebService 1.30.0  (landing page)
Cristobal Fresno
Snapshot Date: 2021-07-20 04:50:13 -0400 (Tue, 20 Jul 2021)
URL: https://git.bioconductor.org/packages/RDAVIDWebService
Branch: RELEASE_3_13
Last Commit: c4e7bae
Last Changed Date: 2021-05-19 11:59:21 -0400 (Wed, 19 May 2021)
nebbiolo1Linux (Ubuntu 20.04.2 LTS) / x86_64  OK    ERROR  skipped
tokay2Windows Server 2012 R2 Standard / x64  OK    ERROR  skippedskipped
machv2macOS 10.14.6 Mojave / x86_64  OK    ERROR  skippedskipped

Summary

Package: RDAVIDWebService
Version: 1.30.0
Command: /Library/Frameworks/R.framework/Versions/Current/Resources/bin/R CMD INSTALL RDAVIDWebService
StartedAt: 2021-07-20 09:20:42 -0400 (Tue, 20 Jul 2021)
EndedAt: 2021-07-20 09:21:29 -0400 (Tue, 20 Jul 2021)
EllapsedTime: 47.7 seconds
RetCode: 0
Status:   OK  

Command output

##############################################################################
##############################################################################
###
### Running command:
###
###   /Library/Frameworks/R.framework/Versions/Current/Resources/bin/R CMD INSTALL RDAVIDWebService
###
##############################################################################
##############################################################################


* installing to library ‘/Library/Frameworks/R.framework/Versions/4.1/Resources/library’
* installing *source* package ‘RDAVIDWebService’ ...
** using staged installation
** R
** data
** inst
** byte-compile and prepare package for lazy loading
** help
*** installing help indices
** building package indices
** installing vignettes
** testing if installed package can be loaded from temporary location
Warning: Package 'RDAVIDWebService' is deprecated and will be removed from
  Bioconductor version 3.14
** testing if installed package can be loaded from final location
Warning: Package 'RDAVIDWebService' is deprecated and will be removed from
  Bioconductor version 3.14
** testing if installed package keeps a record of temporary installation path
* DONE (RDAVIDWebService)