Back to Multiple platform build/check report for BioC 3.13
ABCDEFGHIJKLMNOPQ[R]STUVWXYZ

This page was generated on 2021-07-30 15:06:06 -0400 (Fri, 30 Jul 2021).

BUILD results for RCy3 on tokay2

To the developers/maintainers of the RCy3 package:
- Please allow up to 24 hours (and sometimes 48 hours) for your latest push to git@git.bioconductor.org:packages/RCy3.git to
reflect on this report. See How and When does the builder pull? When will my changes propagate? here for more information.
- Make sure to use the following settings in order to reproduce any error or warning you see on this page.

raw results

Package 1526/2041HostnameOS / ArchINSTALLBUILDCHECKBUILD BIN
RCy3 2.12.3  (landing page)
Alex Pico
Snapshot Date: 2021-07-29 04:50:02 -0400 (Thu, 29 Jul 2021)
URL: https://git.bioconductor.org/packages/RCy3
Branch: RELEASE_3_13
Last Commit: 47168d0
Last Changed Date: 2021-06-15 21:28:25 -0400 (Tue, 15 Jun 2021)
nebbiolo1Linux (Ubuntu 20.04.2 LTS) / x86_64  OK    OK    OK  UNNEEDED, same version is already published
tokay2Windows Server 2012 R2 Standard / x64  OK    OK    OK    OK  UNNEEDED, same version is already published
machv2macOS 10.14.6 Mojave / x86_64  OK    OK    OK    OK  UNNEEDED, same version is already published

Summary

Package: RCy3
Version: 2.12.3
Command: chmod a+r RCy3 -R && C:\Users\biocbuild\bbs-3.13-bioc\R\bin\R.exe CMD build --keep-empty-dirs --no-resave-data RCy3
StartedAt: 2021-07-29 17:44:38 -0400 (Thu, 29 Jul 2021)
EndedAt: 2021-07-29 17:47:53 -0400 (Thu, 29 Jul 2021)
EllapsedTime: 194.7 seconds
RetCode: 0
Status:   OK  
PackageFile: RCy3_2.12.3.tar.gz
PackageFileSize: 4.787 MiB

Command output

##############################################################################
##############################################################################
###
### Running command:
###
###   chmod a+r RCy3 -R && C:\Users\biocbuild\bbs-3.13-bioc\R\bin\R.exe CMD build --keep-empty-dirs --no-resave-data RCy3
###
##############################################################################
##############################################################################


* checking for file 'RCy3/DESCRIPTION' ... OK
* preparing 'RCy3':
* checking DESCRIPTION meta-information ... OK
* installing the package to build vignettes
* creating vignettes ... OK
* checking for LF line-endings in source and make files and shell scripts
* checking for empty or unneeded directories
* building 'RCy3_2.12.3.tar.gz'