Back to Multiple platform build/check report for BioC 3.13
ABCDEFGHIJKLMNOPQ[R]STUVWXYZ

This page was generated on 2021-07-30 15:06:06 -0400 (Fri, 30 Jul 2021).

INSTALL results for RBioinf on tokay2

To the developers/maintainers of the RBioinf package:
- Please allow up to 24 hours (and sometimes 48 hours) for your latest push to git@git.bioconductor.org:packages/RBioinf.git to
reflect on this report. See How and When does the builder pull? When will my changes propagate? here for more information.
- Make sure to use the following settings in order to reproduce any error or warning you see on this page.

raw results

Package 1508/2041HostnameOS / ArchINSTALLBUILDCHECKBUILD BIN
RBioinf 1.52.0  (landing page)
Robert Gentleman
Snapshot Date: 2021-07-29 04:50:02 -0400 (Thu, 29 Jul 2021)
URL: https://git.bioconductor.org/packages/RBioinf
Branch: RELEASE_3_13
Last Commit: 4edfe70
Last Changed Date: 2021-05-19 11:40:41 -0400 (Wed, 19 May 2021)
nebbiolo1Linux (Ubuntu 20.04.2 LTS) / x86_64  OK    OK    OK  UNNEEDED, same version is already published
tokay2Windows Server 2012 R2 Standard / x64  OK    OK    OK    OK  UNNEEDED, same version is already published
machv2macOS 10.14.6 Mojave / x86_64  OK    OK    OK    OK  UNNEEDED, same version is already published

Summary

Package: RBioinf
Version: 1.52.0
Command: C:\cygwin\bin\curl.exe -O http://155.52.207.165/BBS/3.13/bioc/src/contrib/RBioinf_1.52.0.tar.gz && rm -rf RBioinf.buildbin-libdir && mkdir RBioinf.buildbin-libdir && C:\Users\biocbuild\bbs-3.13-bioc\R\bin\R.exe CMD INSTALL --merge-multiarch --build --library=RBioinf.buildbin-libdir RBioinf_1.52.0.tar.gz && C:\Users\biocbuild\bbs-3.13-bioc\R\bin\R.exe CMD INSTALL RBioinf_1.52.0.zip && rm RBioinf_1.52.0.tar.gz RBioinf_1.52.0.zip
StartedAt: 2021-07-29 07:52:48 -0400 (Thu, 29 Jul 2021)
EndedAt: 2021-07-29 07:53:29 -0400 (Thu, 29 Jul 2021)
EllapsedTime: 40.5 seconds
RetCode: 0
Status:   OK  

Command output

##############################################################################
##############################################################################
###
### Running command:
###
###   C:\cygwin\bin\curl.exe -O http://155.52.207.165/BBS/3.13/bioc/src/contrib/RBioinf_1.52.0.tar.gz && rm -rf RBioinf.buildbin-libdir && mkdir RBioinf.buildbin-libdir && C:\Users\biocbuild\bbs-3.13-bioc\R\bin\R.exe CMD INSTALL --merge-multiarch --build --library=RBioinf.buildbin-libdir RBioinf_1.52.0.tar.gz && C:\Users\biocbuild\bbs-3.13-bioc\R\bin\R.exe CMD INSTALL RBioinf_1.52.0.zip && rm RBioinf_1.52.0.tar.gz RBioinf_1.52.0.zip
###
##############################################################################
##############################################################################


  % Total    % Received % Xferd  Average Speed   Time    Time     Time  Current
                                 Dload  Upload   Total   Spent    Left  Speed

  0     0    0     0    0     0      0      0 --:--:-- --:--:-- --:--:--     0
100 3430k  100 3430k    0     0   9.7M      0 --:--:-- --:--:-- --:--:--  9.7M

install for i386

* installing *source* package 'RBioinf' ...
** using staged installation
** libs
"C:/rtools40/mingw32/bin/"gcc  -I"C:/Users/BIOCBU~1/BBS-3~1.13-/R/include" -DNDEBUG     -I"C:/extsoft/include"     -O2 -Wall  -std=gnu99 -mfpmath=sse -msse2 -mstackrealign  -c Rinit.c -o Rinit.o
"C:/rtools40/mingw32/bin/"gcc  -I"C:/Users/BIOCBU~1/BBS-3~1.13-/R/include" -DNDEBUG     -I"C:/extsoft/include"     -O2 -Wall  -std=gnu99 -mfpmath=sse -msse2 -mstackrealign  -c rand.c -o rand.o
C:/rtools40/mingw32/bin/gcc -shared -s -static-libgcc -o RBioinf.dll tmp.def Rinit.o rand.o -LC:/extsoft/lib/i386 -LC:/extsoft/lib -LC:/Users/BIOCBU~1/BBS-3~1.13-/R/bin/i386 -lR
installing to C:/Users/biocbuild/bbs-3.13-bioc/meat/RBioinf.buildbin-libdir/00LOCK-RBioinf/00new/RBioinf/libs/i386
** R
** inst
** byte-compile and prepare package for lazy loading
** help
*** installing help indices
  converting help for package 'RBioinf'
    finding HTML links ... done
    Rcal                                    html  
    S4Help                                  html  
    asSimpleVector                          html  
    classList2Graph                         html  
    computeClassLinearization               html  
    printWithNumbers                        html  
    randDNA                                 html  
    simplePVect                             html  
    simpleRand                              html  
    simpleSort                              html  
    subClassNames                           html  
    superClasses                            html  
    traceMethods                            html  
** building package indices
** installing vignettes
** testing if installed package can be loaded from temporary location
** testing if installed package can be loaded from final location
** testing if installed package keeps a record of temporary installation path

install for x64

* installing *source* package 'RBioinf' ...
** libs
"C:/rtools40/mingw64/bin/"gcc  -I"C:/Users/BIOCBU~1/BBS-3~1.13-/R/include" -DNDEBUG     -I"C:/extsoft/include"     -O2 -Wall  -std=gnu99 -mfpmath=sse -msse2 -mstackrealign  -c Rinit.c -o Rinit.o
"C:/rtools40/mingw64/bin/"gcc  -I"C:/Users/BIOCBU~1/BBS-3~1.13-/R/include" -DNDEBUG     -I"C:/extsoft/include"     -O2 -Wall  -std=gnu99 -mfpmath=sse -msse2 -mstackrealign  -c rand.c -o rand.o
C:/rtools40/mingw64/bin/gcc -shared -s -static-libgcc -o RBioinf.dll tmp.def Rinit.o rand.o -LC:/extsoft/lib/x64 -LC:/extsoft/lib -LC:/Users/BIOCBU~1/BBS-3~1.13-/R/bin/x64 -lR
installing to C:/Users/biocbuild/bbs-3.13-bioc/meat/RBioinf.buildbin-libdir/RBioinf/libs/x64
** testing if installed package can be loaded
* MD5 sums
packaged installation of 'RBioinf' as RBioinf_1.52.0.zip
* DONE (RBioinf)
* installing to library 'C:/Users/biocbuild/bbs-3.13-bioc/R/library'
package 'RBioinf' successfully unpacked and MD5 sums checked