Index of /checkResults/release/bioc-LATEST/RBGL/raw-results/tokay2

[ICO]NameLast modifiedSizeDescription

[DIR]Parent Directory  -  
[TXT]buildbin-out.txt16-Oct-2021 04:06 585K 
[   ]buildbin-summary.dcf16-Oct-2021 04:06 522  
[TXT]buildsrc-out.txt16-Oct-2021 04:06 922  
[   ]buildsrc-summary.dcf16-Oct-2021 04:06 447  
[TXT]checksrc-out.txt16-Oct-2021 04:06 5.4K 
[   ]checksrc-summary.dcf16-Oct-2021 04:06 456  
[TXT]install-out.txt16-Oct-2021 04:06 586K 
[   ]install-summary.dcf16-Oct-2021 04:06 614