Index of /checkResults/release/bioc-LATEST/RBGL/raw-results/nebbiolo1

[ICO]NameLast modifiedSizeDescription

[DIR]Parent Directory  -  
[TXT]buildsrc-out.txt16-Oct-2021 04:05 887  
[   ]buildsrc-summary.dcf16-Oct-2021 04:05 409  
[TXT]checksrc-out.txt16-Oct-2021 04:05 4.3K 
[   ]checksrc-summary.dcf16-Oct-2021 04:05 417  
[TXT]install-out.txt16-Oct-2021 04:05 306K 
[   ]install-summary.dcf16-Oct-2021 04:05 254