Index of /checkResults/release/bioc-LATEST/RBGL/raw-results/machv2

[ICO]NameLast modifiedSizeDescription

[DIR]Parent Directory  -  
[   ]install-summary.dcf27-Nov-2021 05:06 264  
[   ]buildsrc-summary.dcf27-Nov-2021 05:06 419  
[   ]checksrc-summary.dcf27-Nov-2021 05:06 431  
[   ]buildbin-summary.dcf27-Nov-2021 05:06 513  
[TXT]buildsrc-out.txt27-Nov-2021 05:06 897  
[TXT]checksrc-out.txt27-Nov-2021 05:06 4.1K 
[TXT]install-out.txt27-Nov-2021 05:06 40K 
[TXT]buildbin-out.txt27-Nov-2021 05:06 41K