Back to Multiple platform build/check report for BioC 3.13
ABCDEFGHIJKLMNOPQ[R]STUVWXYZ

This page was generated on 2021-09-24 15:05:30 -0400 (Fri, 24 Sep 2021).

All results for package RBGL

To the developers/maintainers of the RBGL package:
- Please allow up to 24 hours (and sometimes 48 hours) for your latest push to git@git.bioconductor.org:packages/RBGL.git to
reflect on this report. See How and When does the builder pull? When will my changes propagate? here for more information.
- Make sure to use the following settings in order to reproduce any error or warning you see on this page.

raw results

Package 1507/2041HostnameOS / ArchINSTALLBUILDCHECKBUILD BIN
RBGL 1.68.0  (landing page)
Bioconductor Package Maintainer
Snapshot Date: 2021-09-23 04:50:12 -0400 (Thu, 23 Sep 2021)
git_url: https://git.bioconductor.org/packages/RBGL
git_branch: RELEASE_3_13
git_last_commit: 9433738
git_last_commit_date: 2021-05-19 11:33:37 -0400 (Wed, 19 May 2021)
nebbiolo1Linux (Ubuntu 20.04.2 LTS) / x86_64  OK    OK    WARNINGS  UNNEEDED, same version is already published
tokay2Windows Server 2012 R2 Standard / x64  OK    OK    WARNINGS    OK  UNNEEDED, same version is already published
machv2macOS 10.14.6 Mojave / x86_64  OK    OK    OK    OK  UNNEEDED, same version is already published

Results for Bioconductor software packages that depend directly on package RBGL

QUICK STATSOS / ArchINSTALLBUILDCHECKBUILD BIN
nebbiolo1Linux (Ubuntu 20.04.2 LTS) / x86_64
0032
0230
01425
tokay2Windows Server 2012 R2 Standard / x64
0029
0227
12420
0027
machv2macOS 10.14.6 Mojave / x86_64
0030
0327
01521
0027
Package 1/32HostnameOS / ArchINSTALLBUILDCHECKBUILD BIN
alpine 1.18.0  (landing page)
Michael Love
git_last_commit: 06257d2
git_last_commit_date: 2021-05-19 12:22:33 -0400
nebbiolo1Linux (Ubuntu 20.04.2 LTS) / x86_64  OK    OK    OK  UNNEEDED, same version is already published
tokay2Windows Server 2012 R2 Standard / x64  OK    OK    OK    OK  UNNEEDED, same version is already published
machv2macOS 10.14.6 Mojave / x86_64  OK    OK    OK    OK  UNNEEDED, same version is already published
Package 2/32HostnameOS / ArchINSTALLBUILDCHECKBUILD BIN
apComplex 2.58.0  (landing page)
Denise Scholtens
git_last_commit: 9d396a7
git_last_commit_date: 2021-05-19 11:35:18 -0400
nebbiolo1Linux (Ubuntu 20.04.2 LTS) / x86_64  OK    OK    OK  UNNEEDED, same version is already published
tokay2Windows Server 2012 R2 Standard / x64  OK    OK    OK    OK  UNNEEDED, same version is already published
machv2macOS 10.14.6 Mojave / x86_64  OK    OK    OK    OK  UNNEEDED, same version is already published
Package 3/32HostnameOS / ArchINSTALLBUILDCHECKBUILD BIN
BiocPkgTools 1.10.2  (landing page)
Sean Davis
git_last_commit: eed4730
git_last_commit_date: 2021-09-16 13:19:17 -0400
nebbiolo1Linux (Ubuntu 20.04.2 LTS) / x86_64  OK    OK    OK  UNNEEDED, same version is already published
tokay2Windows Server 2012 R2 Standard / x64  OK    OK    OK    OK  UNNEEDED, same version is already published
machv2macOS 10.14.6 Mojave / x86_64  OK    OK    OK    OK  UNNEEDED, same version is already published
Package 4/32HostnameOS / ArchINSTALLBUILDCHECKBUILD BIN
biocViews 1.60.0  (landing page)
Bioconductor Package Maintainer
git_last_commit: b861d8d
git_last_commit_date: 2021-05-19 11:36:22 -0400
nebbiolo1Linux (Ubuntu 20.04.2 LTS) / x86_64  OK    OK    OK  UNNEEDED, same version is already published
tokay2Windows Server 2012 R2 Standard / x64  OK    OK    OK    OK  UNNEEDED, same version is already published
machv2macOS 10.14.6 Mojave / x86_64  OK    OK    OK    OK  UNNEEDED, same version is already published
Package 5/32HostnameOS / ArchINSTALLBUILDCHECKBUILD BIN
BioNet 1.52.0  (landing page)
Marcus Dittrich
git_last_commit: 5045304
git_last_commit_date: 2021-05-19 11:46:01 -0400
nebbiolo1Linux (Ubuntu 20.04.2 LTS) / x86_64  OK    OK    OK  UNNEEDED, same version is already published
tokay2Windows Server 2012 R2 Standard / x64  OK    OK    OK    OK  UNNEEDED, same version is already published
machv2macOS 10.14.6 Mojave / x86_64  OK    OK    OK    OK  UNNEEDED, same version is already published
Package 6/32HostnameOS / ArchINSTALLBUILDCHECKBUILD BIN
CAMERA 1.48.0  (landing page)
Steffen Neumann
git_last_commit: 5ad3135
git_last_commit_date: 2021-05-19 11:42:44 -0400
nebbiolo1Linux (Ubuntu 20.04.2 LTS) / x86_64  OK    OK    OK  UNNEEDED, same version is already published
tokay2Windows Server 2012 R2 Standard / x64  OK    OK    OK    OK  UNNEEDED, same version is already published
machv2macOS 10.14.6 Mojave / x86_64  OK    OK    OK    OK  UNNEEDED, same version is already published
Package 7/32HostnameOS / ArchINSTALLBUILDCHECKBUILD BIN
Category 2.58.0  (landing page)
Bioconductor Package Maintainer
git_last_commit: 5a966e0
git_last_commit_date: 2021-05-19 11:35:55 -0400
nebbiolo1Linux (Ubuntu 20.04.2 LTS) / x86_64  OK    OK    OK  UNNEEDED, same version is already published
tokay2Windows Server 2012 R2 Standard / x64  OK    OK    OK    OK  UNNEEDED, same version is already published
machv2macOS 10.14.6 Mojave / x86_64  OK    OK    OK    OK  UNNEEDED, same version is already published
Package 8/32HostnameOS / ArchINSTALLBUILDCHECKBUILD BIN
CellNOptR 1.38.0  (landing page)
A.Gabor
git_last_commit: 8e211e0
git_last_commit_date: 2021-05-19 11:50:40 -0400
nebbiolo1Linux (Ubuntu 20.04.2 LTS) / x86_64  OK    OK    WARNINGS  UNNEEDED, same version is already published
tokay2Windows Server 2012 R2 Standard / x64  OK    OK    WARNINGS    OK  UNNEEDED, same version is already published
machv2macOS 10.14.6 Mojave / x86_64  OK    OK    WARNINGS    OK  UNNEEDED, same version is already published
Package 9/32HostnameOS / ArchINSTALLBUILDCHECKBUILD BIN
ChIPpeakAnno 3.26.4  (landing page)
Jianhong Ou
git_last_commit: 5104b7d
git_last_commit_date: 2021-09-09 15:41:30 -0400
nebbiolo1Linux (Ubuntu 20.04.2 LTS) / x86_64  OK    OK    OK  UNNEEDED, same version is already published
tokay2Windows Server 2012 R2 Standard / x64  OK    ERROR  skippedskipped
machv2macOS 10.14.6 Mojave / x86_64  OK    ERROR  skippedskipped
Package 10/32HostnameOS / ArchINSTALLBUILDCHECKBUILD BIN
CHRONOS 1.20.0  (landing page)
Panos Balomenos
git_last_commit: 696cc6f
git_last_commit_date: 2021-05-19 12:20:19 -0400
nebbiolo1Linux (Ubuntu 20.04.2 LTS) / x86_64  OK    OK    OK  UNNEEDED, same version is already published
tokay2Windows Server 2012 R2 Standard / x64  OK    OK    OK    OK  UNNEEDED, same version is already published
machv2macOS 10.14.6 Mojave / x86_64  OK    OK    OK    OK  UNNEEDED, same version is already published
Package 11/32HostnameOS / ArchINSTALLBUILDCHECKBUILD BIN
clipper 1.32.0  (landing page)
Paolo Martini
git_last_commit: 2faaf4e
git_last_commit_date: 2021-05-19 11:57:18 -0400
nebbiolo1Linux (Ubuntu 20.04.2 LTS) / x86_64  OK    OK    OK  UNNEEDED, same version is already published
tokay2Windows Server 2012 R2 Standard / x64  OK    OK    OK    OK  UNNEEDED, same version is already published
machv2macOS 10.14.6 Mojave / x86_64  OK    OK    OK    OK  UNNEEDED, same version is already published
Package 12/32HostnameOS / ArchINSTALLBUILDCHECKBUILD BIN
CytoML 2.4.0  (landing page)
Mike Jiang
git_last_commit: 6e64d69
git_last_commit_date: 2021-05-19 12:21:29 -0400
nebbiolo1Linux (Ubuntu 20.04.2 LTS) / x86_64  OK    OK    WARNINGS  UNNEEDED, same version is already published
tokay2Windows Server 2012 R2 Standard / x64  OK    OK    WARNINGS    OK  UNNEEDED, same version is already published
machv2macOS 10.14.6 Mojave / x86_64  OK    OK    WARNINGS    OK  UNNEEDED, same version is already published
Package 13/32HostnameOS / ArchINSTALLBUILDCHECKBUILD BIN
DEGraph 1.44.0  (landing page)
Laurent Jacob
git_last_commit: 49e7998
git_last_commit_date: 2021-05-19 11:46:48 -0400
nebbiolo1Linux (Ubuntu 20.04.2 LTS) / x86_64  OK    OK    OK  UNNEEDED, same version is already published
tokay2Windows Server 2012 R2 Standard / x64... NOT SUPPORTED ...
machv2macOS 10.14.6 Mojave / x86_64... NOT SUPPORTED ...
Package 14/32HostnameOS / ArchINSTALLBUILDCHECKBUILD BIN
DEsubs 1.18.0  (landing page)
Aristidis G. Vrahatis , Panos Balomenos
git_last_commit: 9c8fa85
git_last_commit_date: 2021-05-19 12:23:24 -0400
nebbiolo1Linux (Ubuntu 20.04.2 LTS) / x86_64  OK    OK    OK  UNNEEDED, same version is already published
tokay2Windows Server 2012 R2 Standard / x64  OK    OK    OK    OK  UNNEEDED, same version is already published
machv2macOS 10.14.6 Mojave / x86_64  OK    OK    OK    OK  UNNEEDED, same version is already published
Package 15/32HostnameOS / ArchINSTALLBUILDCHECKBUILD BIN
EventPointer 3.0.0  (landing page)
Juan A. Ferrer-Bonsoms
git_last_commit: e4f2123
git_last_commit_date: 2021-05-19 12:26:09 -0400
nebbiolo1Linux (Ubuntu 20.04.2 LTS) / x86_64  OK    OK    OK  UNNEEDED, same version is already published
tokay2Windows Server 2012 R2 Standard / x64  OK    OK    OK    OK  UNNEEDED, same version is already published
machv2macOS 10.14.6 Mojave / x86_64  OK    OK    OK    OK  UNNEEDED, same version is already published
Package 16/32HostnameOS / ArchINSTALLBUILDCHECKBUILD BIN
fgga 1.0.0  (landing page)
Spetale Flavio
git_last_commit: aefd8a8
git_last_commit_date: 2021-05-19 13:03:00 -0400
nebbiolo1Linux (Ubuntu 20.04.2 LTS) / x86_64  OK    OK    OK  UNNEEDED, same version is already published
tokay2Windows Server 2012 R2 Standard / x64  OK    OK    OK    OK  UNNEEDED, same version is already published
machv2macOS 10.14.6 Mojave / x86_64  OK    OK    WARNINGS    OK  UNNEEDED, same version is already published
Package 17/32HostnameOS / ArchINSTALLBUILDCHECKBUILD BIN
flowWorkspace 4.4.0  (landing page)
Greg Finak , Mike Jiang
git_last_commit: 8b26faf
git_last_commit_date: 2021-05-19 11:48:41 -0400
nebbiolo1Linux (Ubuntu 20.04.2 LTS) / x86_64  OK    OK    WARNINGS  UNNEEDED, same version is already published
tokay2Windows Server 2012 R2 Standard / x64  OK    OK    WARNINGS    OK  UNNEEDED, same version is already published
machv2macOS 10.14.6 Mojave / x86_64  OK    OK    WARNINGS    OK  UNNEEDED, same version is already published
Package 18/32HostnameOS / ArchINSTALLBUILDCHECKBUILD BIN
GAPGOM 1.8.0  (landing page)
Rezvan Ehsani
git_last_commit: e8e35ed
git_last_commit_date: 2021-05-19 12:40:41 -0400
nebbiolo1Linux (Ubuntu 20.04.2 LTS) / x86_64  OK    OK    OK  UNNEEDED, same version is already published
tokay2Windows Server 2012 R2 Standard / x64  OK    OK    OK    OK  UNNEEDED, same version is already published
machv2macOS 10.14.6 Mojave / x86_64  OK    OK    OK    OK  UNNEEDED, same version is already published
Package 19/32HostnameOS / ArchINSTALLBUILDCHECKBUILD BIN
GeneAnswers 2.34.0  (landing page)
Lei Huang and Gang Feng
git_last_commit: ef2beed
git_last_commit_date: 2021-05-19 11:44:07 -0400
nebbiolo1Linux (Ubuntu 20.04.2 LTS) / x86_64  OK    OK    ERROR  
tokay2Windows Server 2012 R2 Standard / x64  OK    OK    TIMEOUT    OK  
machv2macOS 10.14.6 Mojave / x86_64  OK    OK    ERROR    OK  
Package 20/32HostnameOS / ArchINSTALLBUILDCHECKBUILD BIN
GOSim 1.30.0  (landing page)
Holger Froehlich
git_last_commit: cd2c2c0
git_last_commit_date: 2021-05-19 12:00:43 -0400
nebbiolo1Linux (Ubuntu 20.04.2 LTS) / x86_64  OK    OK    OK  UNNEEDED, same version is already published
tokay2Windows Server 2012 R2 Standard / x64  OK    OK    OK    OK  UNNEEDED, same version is already published
machv2macOS 10.14.6 Mojave / x86_64  OK    OK    OK    OK  UNNEEDED, same version is already published
Package 21/32HostnameOS / ArchINSTALLBUILDCHECKBUILD BIN
GOstats 2.58.0  (landing page)
Bioconductor Package Maintainer
git_last_commit: d3406a6
git_last_commit_date: 2021-05-19 11:34:28 -0400
nebbiolo1Linux (Ubuntu 20.04.2 LTS) / x86_64  OK    OK    OK  UNNEEDED, same version is already published
tokay2Windows Server 2012 R2 Standard / x64  OK    OK    OK    OK  UNNEEDED, same version is already published
machv2macOS 10.14.6 Mojave / x86_64  OK    OK    OK    OK  UNNEEDED, same version is already published
Package 22/32HostnameOS / ArchINSTALLBUILDCHECKBUILD BIN
MIGSA 1.16.0  (landing page)
Juan C. Rodriguez
git_last_commit: 021bffb
git_last_commit_date: 2021-05-19 12:26:14 -0400
nebbiolo1Linux (Ubuntu 20.04.2 LTS) / x86_64  OK    OK    OK  UNNEEDED, same version is already published
tokay2Windows Server 2012 R2 Standard / x64  OK    OK    ERROR    OK  
machv2macOS 10.14.6 Mojave / x86_64  OK    OK    OK    OK  UNNEEDED, same version is already published
Package 23/32HostnameOS / ArchINSTALLBUILDCHECKBUILD BIN
NCIgraph 1.40.0  (landing page)
Laurent Jacob
git_last_commit: b75cc38
git_last_commit_date: 2021-05-19 11:48:14 -0400
nebbiolo1Linux (Ubuntu 20.04.2 LTS) / x86_64  OK    OK    OK  UNNEEDED, same version is already published
tokay2Windows Server 2012 R2 Standard / x64... NOT SUPPORTED ...
machv2macOS 10.14.6 Mojave / x86_64... NOT SUPPORTED ...
Package 24/32HostnameOS / ArchINSTALLBUILDCHECKBUILD BIN
openCyto 2.4.0  (landing page)
Mike Jiang ,Jake Wagner
git_last_commit: 458a40d
git_last_commit_date: 2021-05-19 12:01:23 -0400
nebbiolo1Linux (Ubuntu 20.04.2 LTS) / x86_64  OK    OK    OK  UNNEEDED, same version is already published
tokay2Windows Server 2012 R2 Standard / x64  OK    OK    OK    OK  UNNEEDED, same version is already published
machv2macOS 10.14.6 Mojave / x86_64  OK    OK    OK    OK  UNNEEDED, same version is already published
Package 25/32HostnameOS / ArchINSTALLBUILDCHECKBUILD BIN
OrganismDbi 1.34.0  (landing page)
Bioconductor Package Maintainer
git_last_commit: 253c4ae
git_last_commit_date: 2021-05-19 11:53:46 -0400
nebbiolo1Linux (Ubuntu 20.04.2 LTS) / x86_64  OK    OK    WARNINGS  UNNEEDED, same version is already published
tokay2Windows Server 2012 R2 Standard / x64  OK    OK    WARNINGS    OK  UNNEEDED, same version is already published
machv2macOS 10.14.6 Mojave / x86_64  OK    OK    WARNINGS    OK  UNNEEDED, same version is already published
Package 26/32HostnameOS / ArchINSTALLBUILDCHECKBUILD BIN
pkgDepTools 1.58.0  (landing page)
Bioconductor Package Maintainer
git_last_commit: 706a7e5
git_last_commit_date: 2021-05-19 11:38:05 -0400
nebbiolo1Linux (Ubuntu 20.04.2 LTS) / x86_64  OK    OK    OK  UNNEEDED, same version is already published
tokay2Windows Server 2012 R2 Standard / x64  OK    OK    OK    OK  UNNEEDED, same version is already published
machv2macOS 10.14.6 Mojave / x86_64  OK    OK    OK    OK  UNNEEDED, same version is already published
Package 27/32HostnameOS / ArchINSTALLBUILDCHECKBUILD BIN
predictionet 1.38.0  (landing page)
Benjamin Haibe-Kains
git_last_commit: 37c1515
git_last_commit_date: 2021-05-19 11:50:21 -0400
nebbiolo1Linux (Ubuntu 20.04.2 LTS) / x86_64  OK    OK    OK  UNNEEDED, same version is already published
tokay2Windows Server 2012 R2 Standard / x64... NOT SUPPORTED ...
machv2macOS 10.14.6 Mojave / x86_64  OK    OK    OK    OK  UNNEEDED, same version is already published
Package 28/32HostnameOS / ArchINSTALLBUILDCHECKBUILD BIN
RDAVIDWebService 1.30.0  (landing page)
Cristobal Fresno
git_last_commit: c4e7bae
git_last_commit_date: 2021-05-19 11:59:21 -0400
nebbiolo1Linux (Ubuntu 20.04.2 LTS) / x86_64  OK    ERROR  skipped
tokay2Windows Server 2012 R2 Standard / x64  OK    ERROR  skippedskipped
machv2macOS 10.14.6 Mojave / x86_64  OK    ERROR  skippedskipped
Package 29/32HostnameOS / ArchINSTALLBUILDCHECKBUILD BIN
RpsiXML 2.34.0  (landing page)
Jitao David Zhang
git_last_commit: 94db0a3
git_last_commit_date: 2021-05-19 11:41:31 -0400
nebbiolo1Linux (Ubuntu 20.04.2 LTS) / x86_64  OK    OK    OK  UNNEEDED, same version is already published
tokay2Windows Server 2012 R2 Standard / x64  OK    OK    OK    OK  UNNEEDED, same version is already published
machv2macOS 10.14.6 Mojave / x86_64  OK    OK    OK    OK  UNNEEDED, same version is already published
Package 30/32HostnameOS / ArchINSTALLBUILDCHECKBUILD BIN
Streamer 1.38.0  (landing page)
Martin Morgan
git_last_commit: c079c02
git_last_commit_date: 2021-05-19 11:49:23 -0400
nebbiolo1Linux (Ubuntu 20.04.2 LTS) / x86_64  OK    OK    OK  UNNEEDED, same version is already published
tokay2Windows Server 2012 R2 Standard / x64  OK    OK    OK    OK  UNNEEDED, same version is already published
machv2macOS 10.14.6 Mojave / x86_64  OK    OK    OK    OK  UNNEEDED, same version is already published
Package 31/32HostnameOS / ArchINSTALLBUILDCHECKBUILD BIN
ToPASeq 1.26.0  (landing page)
Ivana Ihnatova
git_last_commit: 39671a5
git_last_commit_date: 2021-05-19 12:09:12 -0400
nebbiolo1Linux (Ubuntu 20.04.2 LTS) / x86_64  OK    ERROR  skipped
tokay2Windows Server 2012 R2 Standard / x64  OK    OK    ERROR    OK  
machv2macOS 10.14.6 Mojave / x86_64  OK    ERROR  skippedskipped
Package 32/32HostnameOS / ArchINSTALLBUILDCHECKBUILD BIN
VariantFiltering 1.28.0  (landing page)
Robert Castelo
git_last_commit: a7b2d16
git_last_commit_date: 2021-05-19 12:04:28 -0400
nebbiolo1Linux (Ubuntu 20.04.2 LTS) / x86_64  OK    OK    OK  UNNEEDED, same version is already published
tokay2Windows Server 2012 R2 Standard / x64  OK    OK    OK    OK  UNNEEDED, same version is already published
machv2macOS 10.14.6 Mojave / x86_64  OK    OK    OK    OK  UNNEEDED, same version is already published